BEGIN:VCALENDAR
VERSION:2.0
PRODID:-//Terezjanki - ECPv6.15.12.2//NONSGML v1.0//EN
CALSCALE:GREGORIAN
METHOD:PUBLISH
X-WR-CALNAME:Terezjanki
X-ORIGINAL-URL:https://terezjanki.org
X-WR-CALDESC:Wydarzenia dla Terezjanki
REFRESH-INTERVAL;VALUE=DURATION:PT1H
X-Robots-Tag:noindex
X-PUBLISHED-TTL:PT1H
BEGIN:VTIMEZONE
TZID:Europe/Warsaw
BEGIN:DAYLIGHT
TZOFFSETFROM:+0100
TZOFFSETTO:+0200
TZNAME:CEST
DTSTART:20250330T010000
END:DAYLIGHT
BEGIN:STANDARD
TZOFFSETFROM:+0200
TZOFFSETTO:+0100
TZNAME:CET
DTSTART:20251026T010000
END:STANDARD
BEGIN:DAYLIGHT
TZOFFSETFROM:+0100
TZOFFSETTO:+0200
TZNAME:CEST
DTSTART:20260329T010000
END:DAYLIGHT
BEGIN:STANDARD
TZOFFSETFROM:+0200
TZOFFSETTO:+0100
TZNAME:CET
DTSTART:20261025T010000
END:STANDARD
BEGIN:DAYLIGHT
TZOFFSETFROM:+0100
TZOFFSETTO:+0200
TZNAME:CEST
DTSTART:20270328T010000
END:DAYLIGHT
BEGIN:STANDARD
TZOFFSETFROM:+0200
TZOFFSETTO:+0100
TZNAME:CET
DTSTART:20271031T010000
END:STANDARD
END:VTIMEZONE
BEGIN:VEVENT
DTSTART;VALUE=DATE:20261101
DTEND;VALUE=DATE:20261102
DTSTAMP:20260419T214215
CREATED:20260102T082604Z
LAST-MODIFIED:20260102T082604Z
UID:22656-1793491200-1793577599@terezjanki.org
SUMMARY:Uroczystość Wszystkich Świętych
DESCRIPTION:Uroczystość ku czci wszystkich chrześcijan\, którzy osiągnęli stan zbawienia i przebywają w niebie. W doktrynie Kościoła Katolickiego jest wyrazem wiary w obcowanie świętych i powszechne powołanie do świętości.
URL:https://terezjanki.org/wydarzenie/uroczystosc-wszystkich-swietych/
ATTACH;FMTTYPE=image/jpeg:https://terezjanki.org/wp-content/uploads/2026/01/orszak-swietych.jpg
END:VEVENT
BEGIN:VEVENT
DTSTART;VALUE=DATE:20261102
DTEND;VALUE=DATE:20261103
DTSTAMP:20260419T214215
CREATED:20260102T083017Z
LAST-MODIFIED:20260102T083017Z
UID:22660-1793577600-1793663999@terezjanki.org
SUMMARY:Wspomnienie Wszystkich Wiernych Zmarłych
DESCRIPTION:Dzień modlitw za zmarłych\, którzy cierpią w czyśćcu i jeszcze nie osiągnęli zbawienia w niebie. Nazywany jest również Dniem Zadusznym.
URL:https://terezjanki.org/wydarzenie/wspomnienie-wszystkich-wiernych-zmarlych/
ATTACH;FMTTYPE=image/jpeg:https://terezjanki.org/wp-content/uploads/2026/01/dzien-zaduszny.jpg
END:VEVENT
BEGIN:VEVENT
DTSTART;VALUE=DATE:20261103
DTEND;VALUE=DATE:20261104
DTSTAMP:20260419T214215
CREATED:20260102T083100Z
LAST-MODIFIED:20260102T083100Z
UID:22663-1793664000-1793750399@terezjanki.org
SUMMARY:Imieniny s. Sylwii
DESCRIPTION:
URL:https://terezjanki.org/wydarzenie/imieniny-s-sylwii/
ATTACH;FMTTYPE=image/jpeg:https://terezjanki.org/wp-content/uploads/2022/09/Roze-imieniny-wydarzenia.jpg
END:VEVENT
BEGIN:VEVENT
DTSTART;VALUE=DATE:20261108
DTEND;VALUE=DATE:20261109
DTSTAMP:20260419T214215
CREATED:20260102T083337Z
LAST-MODIFIED:20260102T083337Z
UID:22665-1794096000-1794182399@terezjanki.org
SUMMARY:Imieniny s. Elżbiety
DESCRIPTION:
URL:https://terezjanki.org/wydarzenie/imieniny-s-elzbiety/
ATTACH;FMTTYPE=image/jpeg:https://terezjanki.org/wp-content/uploads/2022/09/Roze-imieniny-wydarzenia.jpg
END:VEVENT
BEGIN:VEVENT
DTSTART;VALUE=DATE:20261109
DTEND;VALUE=DATE:20261110
DTSTAMP:20260419T214215
CREATED:20251231T150419Z
LAST-MODIFIED:20251231T150419Z
UID:22599-1794182400-1794268799@terezjanki.org
SUMMARY:Msza święta o łaskę beatyfikacji
DESCRIPTION:W kościele św. Jakuba w Toruniu o godz. 18.00 celebrowana będzie Msza święta w intencji beatyfikacji Sługi Bożego biskupa Adolfa Piotra Szelążka.
URL:https://terezjanki.org/wydarzenie/msza-swieta-o-laske-beatyfikacji-13/
ATTACH;FMTTYPE=image/jpeg:https://terezjanki.org/wp-content/uploads/2025/01/Torun-Zalozyciel-grobowiec.jpg
END:VEVENT
BEGIN:VEVENT
DTSTART;VALUE=DATE:20261112
DTEND;VALUE=DATE:20261113
DTSTAMP:20260419T214215
CREATED:20260102T083426Z
LAST-MODIFIED:20260102T083426Z
UID:22667-1794441600-1794527999@terezjanki.org
SUMMARY:Imieniny s. Renaty
DESCRIPTION:
URL:https://terezjanki.org/wydarzenie/imieniny-s-renaty/
ATTACH;FMTTYPE=image/jpeg:https://terezjanki.org/wp-content/uploads/2022/09/Roze-imieniny-wydarzenia.jpg
END:VEVENT
BEGIN:VEVENT
DTSTART;VALUE=DATE:20261118
DTEND;VALUE=DATE:20261119
DTSTAMP:20260419T214215
CREATED:20260102T083525Z
LAST-MODIFIED:20260102T083525Z
UID:22669-1794960000-1795046399@terezjanki.org
SUMMARY:Imieniny s. Karoliny
DESCRIPTION:
URL:https://terezjanki.org/wydarzenie/imieniny-s-karoliny/
ATTACH;FMTTYPE=image/jpeg:https://terezjanki.org/wp-content/uploads/2022/09/Roze-imieniny-wydarzenia.jpg
END:VEVENT
BEGIN:VEVENT
DTSTART;VALUE=DATE:20261122
DTEND;VALUE=DATE:20261123
DTSTAMP:20260419T214215
CREATED:20260102T083920Z
LAST-MODIFIED:20260102T083920Z
UID:22671-1795305600-1795391999@terezjanki.org
SUMMARY:Uroczystość Chrystusa Króla
DESCRIPTION:Uroczystość ku czci Chrystusa Króla\, którą wprowadził do liturgii Kościoła Katolickiego papież Pius XI na zakończenie roku jubileuszowego 11 grudnia 1925 r. Uroczystość została wprowadzona w całym Kościele encykliką Quas Primas.
URL:https://terezjanki.org/wydarzenie/uroczystosc-chrystusa-krola/
ATTACH;FMTTYPE=image/jpeg:https://terezjanki.org/wp-content/uploads/2026/01/Chrystus-krol.jpg
END:VEVENT
END:VCALENDAR