BEGIN:VCALENDAR
VERSION:2.0
PRODID:-//Terezjanki - ECPv6.15.12.2//NONSGML v1.0//EN
CALSCALE:GREGORIAN
METHOD:PUBLISH
X-WR-CALNAME:Terezjanki
X-ORIGINAL-URL:https://terezjanki.org
X-WR-CALDESC:Wydarzenia dla Terezjanki
REFRESH-INTERVAL;VALUE=DURATION:PT1H
X-Robots-Tag:noindex
X-PUBLISHED-TTL:PT1H
BEGIN:VTIMEZONE
TZID:Europe/Warsaw
BEGIN:DAYLIGHT
TZOFFSETFROM:+0100
TZOFFSETTO:+0200
TZNAME:CEST
DTSTART:20250330T010000
END:DAYLIGHT
BEGIN:STANDARD
TZOFFSETFROM:+0200
TZOFFSETTO:+0100
TZNAME:CET
DTSTART:20251026T010000
END:STANDARD
BEGIN:DAYLIGHT
TZOFFSETFROM:+0100
TZOFFSETTO:+0200
TZNAME:CEST
DTSTART:20260329T010000
END:DAYLIGHT
BEGIN:STANDARD
TZOFFSETFROM:+0200
TZOFFSETTO:+0100
TZNAME:CET
DTSTART:20261025T010000
END:STANDARD
BEGIN:DAYLIGHT
TZOFFSETFROM:+0100
TZOFFSETTO:+0200
TZNAME:CEST
DTSTART:20270328T010000
END:DAYLIGHT
BEGIN:STANDARD
TZOFFSETFROM:+0200
TZOFFSETTO:+0100
TZNAME:CET
DTSTART:20271031T010000
END:STANDARD
END:VTIMEZONE
BEGIN:VEVENT
DTSTART;VALUE=DATE:20260907
DTEND;VALUE=DATE:20260908
DTSTAMP:20260419T183527
CREATED:20251231T150706Z
LAST-MODIFIED:20251231T150706Z
UID:22603-1788739200-1788825599@terezjanki.org
SUMMARY:Imieniny s. Reginy
DESCRIPTION:
URL:https://terezjanki.org/wydarzenie/imieniny-s-reginy/
ATTACH;FMTTYPE=image/jpeg:https://terezjanki.org/wp-content/uploads/2022/09/Roze-imieniny-wydarzenia.jpg
END:VEVENT
BEGIN:VEVENT
DTSTART;VALUE=DATE:20260908
DTEND;VALUE=DATE:20260909
DTSTAMP:20260419T183527
CREATED:20251231T151240Z
LAST-MODIFIED:20251231T151240Z
UID:22605-1788825600-1788911999@terezjanki.org
SUMMARY:Rocznica profesji św. Teresy
DESCRIPTION:Św. Teresa od Dzieciątka Jezus złożyła swoje śluby zakonne 8 września 1890 r. Więcej o tym wydarzeniu możesz dowiedzieć się oglądając krótki film\, który znajdziesz TUTAJ »
URL:https://terezjanki.org/wydarzenie/rocznica-profesji-sw-teresy/
ATTACH;FMTTYPE=image/jpeg:https://terezjanki.org/wp-content/uploads/2023/07/sw.-Teresa-i-roze.jpg
END:VEVENT
BEGIN:VEVENT
DTSTART;VALUE=DATE:20260909
DTEND;VALUE=DATE:20260910
DTSTAMP:20260419T183527
CREATED:20251231T150207Z
LAST-MODIFIED:20251231T150207Z
UID:22595-1788912000-1788998399@terezjanki.org
SUMMARY:Msza święta o łaskę beatyfikacji
DESCRIPTION:W kościele św. Jakuba w Toruniu o godz. 18.00 celebrowana będzie Msza święta w intencji beatyfikacji Sługi Bożego biskupa Adolfa Piotra Szelążka.
URL:https://terezjanki.org/wydarzenie/msza-swieta-o-laske-beatyfikacji-11/
ATTACH;FMTTYPE=image/jpeg:https://terezjanki.org/wp-content/uploads/2025/01/Torun-Zalozyciel-grobowiec.jpg
END:VEVENT
BEGIN:VEVENT
DTSTART;VALUE=DATE:20260909
DTEND;VALUE=DATE:20260910
DTSTAMP:20260419T183527
CREATED:20251231T151335Z
LAST-MODIFIED:20251231T151335Z
UID:22607-1788912000-1788998399@terezjanki.org
SUMMARY:Imieniny s. Anieli
DESCRIPTION:
URL:https://terezjanki.org/wydarzenie/imieniny-s-anieli/
ATTACH;FMTTYPE=image/jpeg:https://terezjanki.org/wp-content/uploads/2022/09/Roze-imieniny-wydarzenia.jpg
END:VEVENT
BEGIN:VEVENT
DTSTART;VALUE=DATE:20260912
DTEND;VALUE=DATE:20260913
DTSTAMP:20260419T183527
CREATED:20251231T151421Z
LAST-MODIFIED:20251231T151421Z
UID:22609-1789171200-1789257599@terezjanki.org
SUMMARY:Imieniny s. Miriam
DESCRIPTION:
URL:https://terezjanki.org/wydarzenie/imieniny-s-miriam/
ATTACH;FMTTYPE=image/jpeg:https://terezjanki.org/wp-content/uploads/2022/09/Roze-imieniny-wydarzenia.jpg
END:VEVENT
BEGIN:VEVENT
DTSTART;VALUE=DATE:20260926
DTEND;VALUE=DATE:20260927
DTSTAMP:20260419T183527
CREATED:20251231T151822Z
LAST-MODIFIED:20251231T151822Z
UID:22613-1790380800-1790467199@terezjanki.org
SUMMARY:Imieniny s. Damiany
DESCRIPTION:
URL:https://terezjanki.org/wydarzenie/imieniny-s-damiany-2/
ATTACH;FMTTYPE=image/jpeg:https://terezjanki.org/wp-content/uploads/2022/09/Roze-imieniny-wydarzenia.jpg
END:VEVENT
BEGIN:VEVENT
DTSTART;VALUE=DATE:20260930
DTEND;VALUE=DATE:20261001
DTSTAMP:20260419T183527
CREATED:20251231T151918Z
LAST-MODIFIED:20251231T151918Z
UID:22615-1790726400-1790812799@terezjanki.org
SUMMARY:Imieniny s. Felicji
DESCRIPTION:
URL:https://terezjanki.org/wydarzenie/imieniny-s-felicji-2/
ATTACH;FMTTYPE=image/jpeg:https://terezjanki.org/wp-content/uploads/2022/09/Roze-imieniny-wydarzenia.jpg
END:VEVENT
END:VCALENDAR