BEGIN:VCALENDAR
VERSION:2.0
PRODID:-//Terezjanki - ECPv6.15.12.2//NONSGML v1.0//EN
CALSCALE:GREGORIAN
METHOD:PUBLISH
X-ORIGINAL-URL:https://terezjanki.org
X-WR-CALDESC:Wydarzenia dla Terezjanki
REFRESH-INTERVAL;VALUE=DURATION:PT1H
X-Robots-Tag:noindex
X-PUBLISHED-TTL:PT1H
BEGIN:VTIMEZONE
TZID:Europe/Warsaw
BEGIN:DAYLIGHT
TZOFFSETFROM:+0100
TZOFFSETTO:+0200
TZNAME:CEST
DTSTART:20250330T010000
END:DAYLIGHT
BEGIN:STANDARD
TZOFFSETFROM:+0200
TZOFFSETTO:+0100
TZNAME:CET
DTSTART:20251026T010000
END:STANDARD
BEGIN:DAYLIGHT
TZOFFSETFROM:+0100
TZOFFSETTO:+0200
TZNAME:CEST
DTSTART:20260329T010000
END:DAYLIGHT
BEGIN:STANDARD
TZOFFSETFROM:+0200
TZOFFSETTO:+0100
TZNAME:CET
DTSTART:20261025T010000
END:STANDARD
BEGIN:DAYLIGHT
TZOFFSETFROM:+0100
TZOFFSETTO:+0200
TZNAME:CEST
DTSTART:20270328T010000
END:DAYLIGHT
BEGIN:STANDARD
TZOFFSETFROM:+0200
TZOFFSETTO:+0100
TZNAME:CET
DTSTART:20271031T010000
END:STANDARD
END:VTIMEZONE
BEGIN:VEVENT
DTSTART;VALUE=DATE:20260801
DTEND;VALUE=DATE:20260802
DTSTAMP:20260419T183649
CREATED:20251230T070446Z
LAST-MODIFIED:20251230T070446Z
UID:22510-1785542400-1785628799@terezjanki.org
SUMMARY:Rocznica założenia Zgromadzenia
DESCRIPTION:1 sierpnia przypada 89 rocznica założenia naszego Zgromadzenia. Biskup Adolf Piotr Szelążek w 1936 roku powołał do istnienia Zgromadzenie\, które w swojej duchowości opiera się na małej drodze św. Teresy od Dzieciątka Jezus.
URL:https://terezjanki.org/wydarzenie/rocznica-zalozenia-zgromadzenia-2/
ATTACH;FMTTYPE=image/jpeg:https://terezjanki.org/wp-content/uploads/2024/07/grafika-na-1-sierpnia.jpg
END:VEVENT
BEGIN:VEVENT
DTSTART;VALUE=DATE:20260803
DTEND;VALUE=DATE:20260804
DTSTAMP:20260419T183649
CREATED:20251230T070644Z
LAST-MODIFIED:20251230T070644Z
UID:22512-1785715200-1785801599@terezjanki.org
SUMMARY:Imieniny s. Nikodemy
DESCRIPTION:
URL:https://terezjanki.org/wydarzenie/imieniny-s-nikodemy-2/
ATTACH;FMTTYPE=image/jpeg:https://terezjanki.org/wp-content/uploads/2022/09/Roze-imieniny-wydarzenia.jpg
END:VEVENT
BEGIN:VEVENT
DTSTART;VALUE=DATE:20260809
DTEND;VALUE=DATE:20260810
DTSTAMP:20260419T183649
CREATED:20251230T070808Z
LAST-MODIFIED:20251230T070808Z
UID:22514-1786233600-1786319999@terezjanki.org
SUMMARY:Imieniny s. Edyty
DESCRIPTION:
URL:https://terezjanki.org/wydarzenie/imieniny-s-edyty-2/
ATTACH;FMTTYPE=image/jpeg:https://terezjanki.org/wp-content/uploads/2022/09/Roze-imieniny-wydarzenia.jpg
END:VEVENT
BEGIN:VEVENT
DTSTART;VALUE=DATE:20260809
DTEND;VALUE=DATE:20260810
DTSTAMP:20260419T183649
CREATED:20251231T150108Z
LAST-MODIFIED:20251231T150108Z
UID:22593-1786233600-1786319999@terezjanki.org
SUMMARY:Msza święta o łaskę beatyfikacji
DESCRIPTION:W kościele św. Jakuba w Toruniu o godz. 8.30 celebrowana będzie Msza święta w intencji beatyfikacji Sługi Bożego biskupa Adolfa Piotra Szelążka.
URL:https://terezjanki.org/wydarzenie/msza-swieta-o-laske-beatyfikacji-10/
ATTACH;FMTTYPE=image/jpeg:https://terezjanki.org/wp-content/uploads/2025/01/Torun-Zalozyciel-grobowiec.jpg
END:VEVENT
BEGIN:VEVENT
DTSTART;VALUE=DATE:20260811
DTEND;VALUE=DATE:20260812
DTSTAMP:20260419T183649
CREATED:20251230T070918Z
LAST-MODIFIED:20251230T070918Z
UID:22516-1786406400-1786492799@terezjanki.org
SUMMARY:Imieniny s. Klary
DESCRIPTION:
URL:https://terezjanki.org/wydarzenie/imieniny-s-klary-2/
ATTACH;FMTTYPE=image/jpeg:https://terezjanki.org/wp-content/uploads/2022/09/Roze-imieniny-wydarzenia.jpg
END:VEVENT
BEGIN:VEVENT
DTSTART;VALUE=DATE:20260815
DTEND;VALUE=DATE:20260816
DTSTAMP:20260419T183649
CREATED:20251230T071020Z
LAST-MODIFIED:20251230T071020Z
UID:22518-1786752000-1786838399@terezjanki.org
SUMMARY:Imieniny s. Assumpty
DESCRIPTION:
URL:https://terezjanki.org/wydarzenie/imieniny-s-assumpty/
ATTACH;FMTTYPE=image/jpeg:https://terezjanki.org/wp-content/uploads/2022/09/Roze-imieniny-wydarzenia.jpg
END:VEVENT
BEGIN:VEVENT
DTSTART;VALUE=DATE:20260815
DTEND;VALUE=DATE:20260816
DTSTAMP:20260419T183650
CREATED:20251230T071412Z
LAST-MODIFIED:20251230T071412Z
UID:22520-1786752000-1786838399@terezjanki.org
SUMMARY:Uroczystość Wniebowzięcia NMP
DESCRIPTION:Uroczystość Wniebowzięcia NMP jest jednym z najstarszych i najważniejszych świąt maryjnych\, upamiętniającym wzięcie Maryi z ciałem i duszą do nieba po zakończeniu jej ziemskiego życia. W Polsce znane jest jako święto Matki Boskiej Zielnej łączące się z błogosławieniem ziół i plonów.
URL:https://terezjanki.org/wydarzenie/uroczystosc-wniebowziecia-nmp/
ATTACH;FMTTYPE=image/jpeg:https://terezjanki.org/wp-content/uploads/2021/08/Wniebowziecie-NMP.jpg
END:VEVENT
BEGIN:VEVENT
DTSTART;TZID=Europe/Warsaw:20260816T130000
DTEND;TZID=Europe/Warsaw:20260822T150000
DTSTAMP:20260419T183650
CREATED:20251230T073654Z
LAST-MODIFIED:20251230T073654Z
UID:22539-1786885200-1787410800@terezjanki.org
SUMMARY:Rekolekcje zakonne w Mońkach
DESCRIPTION:Czas duchowej odnowy poprzez modlitwę i medytację Słowa Bożego.
URL:https://terezjanki.org/wydarzenie/rekolekcje-zakonne-w-monkach/
ATTACH;FMTTYPE=image/jpeg:https://terezjanki.org/wp-content/uploads/2020/06/Siostry-Terezjanki-Ścinawka-Dolna-16-2019.jpg
END:VEVENT
BEGIN:VEVENT
DTSTART;VALUE=DATE:20260818
DTEND;VALUE=DATE:20260819
DTSTAMP:20260419T183650
CREATED:20251230T071624Z
LAST-MODIFIED:20251230T071624Z
UID:22523-1787011200-1787097599@terezjanki.org
SUMMARY:Imieniny s. Heleny
DESCRIPTION:
URL:https://terezjanki.org/wydarzenie/imieniny-s-heleny/
ATTACH;FMTTYPE=image/jpeg:https://terezjanki.org/wp-content/uploads/2022/09/Roze-imieniny-wydarzenia.jpg
END:VEVENT
BEGIN:VEVENT
DTSTART;VALUE=DATE:20260818
DTEND;VALUE=DATE:20260819
DTSTAMP:20260419T183650
CREATED:20251230T071735Z
LAST-MODIFIED:20251230T071735Z
UID:22525-1787011200-1787097599@terezjanki.org
SUMMARY:Imieniny s. Oleny
DESCRIPTION:
URL:https://terezjanki.org/wydarzenie/imieniny-s-oleny/
ATTACH;FMTTYPE=image/jpeg:https://terezjanki.org/wp-content/uploads/2022/09/Roze-imieniny-wydarzenia.jpg
END:VEVENT
BEGIN:VEVENT
DTSTART;VALUE=DATE:20260820
DTEND;VALUE=DATE:20260821
DTSTAMP:20260419T183650
CREATED:20251230T071834Z
LAST-MODIFIED:20251230T071834Z
UID:22527-1787184000-1787270399@terezjanki.org
SUMMARY:Imieniny s. Bernardy
DESCRIPTION:
URL:https://terezjanki.org/wydarzenie/imieniny-s-bernardy/
ATTACH;FMTTYPE=image/jpeg:https://terezjanki.org/wp-content/uploads/2022/09/Roze-imieniny-wydarzenia.jpg
END:VEVENT
BEGIN:VEVENT
DTSTART;VALUE=DATE:20260824
DTEND;VALUE=DATE:20260825
DTSTAMP:20260419T183650
CREATED:20251230T072011Z
LAST-MODIFIED:20251230T072011Z
UID:22529-1787529600-1787615999@terezjanki.org
SUMMARY:Imieniny s. Natanaeli
DESCRIPTION:
URL:https://terezjanki.org/wydarzenie/imieniny-s-natanaeli/
ATTACH;FMTTYPE=image/jpeg:https://terezjanki.org/wp-content/uploads/2022/09/Roze-imieniny-wydarzenia.jpg
END:VEVENT
BEGIN:VEVENT
DTSTART;VALUE=DATE:20260826
DTEND;VALUE=DATE:20260827
DTSTAMP:20260419T183650
CREATED:20251230T072329Z
LAST-MODIFIED:20251230T072329Z
UID:22531-1787702400-1787788799@terezjanki.org
SUMMARY:Uroczystość NMP Częstochowskiej
DESCRIPTION:Jest to uroczystość ku czci Najświętszej Maryi Panny Częstochowskiej\, Królowej Polski\, z głównymi uroczystościami na Jasnej Górze. Ma charakter dziękczynny za rolę Maryi w historii narodu i zostało ustanowione oficjalnie przez papieża Piusa XI w 1931 roku. Jego obchody na Jasnej Górze gromadzą liczne pielgrzymki i wydarzenia religijne\, w tym ponowienie Jasnogórskich Ślubów Narodu.
URL:https://terezjanki.org/wydarzenie/uroczystosc-nmp-czestochowskiej/
ATTACH;FMTTYPE=image/jpeg:https://terezjanki.org/wp-content/uploads/2021/08/Matka-Boska-Czestochowska.jpg
END:VEVENT
BEGIN:VEVENT
DTSTART;VALUE=DATE:20260827
DTEND;VALUE=DATE:20260828
DTSTAMP:20260419T183650
CREATED:20251230T072433Z
LAST-MODIFIED:20251230T072433Z
UID:22534-1787788800-1787875199@terezjanki.org
SUMMARY:Imieniny s. Moniki
DESCRIPTION:
URL:https://terezjanki.org/wydarzenie/imieniny-s-moniki/
ATTACH;FMTTYPE=image/jpeg:https://terezjanki.org/wp-content/uploads/2022/09/Roze-imieniny-wydarzenia.jpg
END:VEVENT
BEGIN:VEVENT
DTSTART;VALUE=DATE:20260829
DTEND;VALUE=DATE:20260830
DTSTAMP:20260419T183650
CREATED:20251230T072524Z
LAST-MODIFIED:20251230T072524Z
UID:22536-1787961600-1788047999@terezjanki.org
SUMMARY:Imieniny s. Sabiny
DESCRIPTION:
URL:https://terezjanki.org/wydarzenie/imieniny-s-sabiny/
ATTACH;FMTTYPE=image/jpeg:https://terezjanki.org/wp-content/uploads/2022/09/Roze-imieniny-wydarzenia.jpg
END:VEVENT
END:VCALENDAR