BEGIN:VCALENDAR
VERSION:2.0
PRODID:-//Terezjanki - ECPv6.15.12.2//NONSGML v1.0//EN
CALSCALE:GREGORIAN
METHOD:PUBLISH
X-ORIGINAL-URL:https://terezjanki.org
X-WR-CALDESC:Wydarzenia dla Terezjanki
REFRESH-INTERVAL;VALUE=DURATION:PT1H
X-Robots-Tag:noindex
X-PUBLISHED-TTL:PT1H
BEGIN:VTIMEZONE
TZID:Europe/Warsaw
BEGIN:DAYLIGHT
TZOFFSETFROM:+0100
TZOFFSETTO:+0200
TZNAME:CEST
DTSTART:20250330T010000
END:DAYLIGHT
BEGIN:STANDARD
TZOFFSETFROM:+0200
TZOFFSETTO:+0100
TZNAME:CET
DTSTART:20251026T010000
END:STANDARD
BEGIN:DAYLIGHT
TZOFFSETFROM:+0100
TZOFFSETTO:+0200
TZNAME:CEST
DTSTART:20260329T010000
END:DAYLIGHT
BEGIN:STANDARD
TZOFFSETFROM:+0200
TZOFFSETTO:+0100
TZNAME:CET
DTSTART:20261025T010000
END:STANDARD
BEGIN:DAYLIGHT
TZOFFSETFROM:+0100
TZOFFSETTO:+0200
TZNAME:CEST
DTSTART:20270328T010000
END:DAYLIGHT
BEGIN:STANDARD
TZOFFSETFROM:+0200
TZOFFSETTO:+0100
TZNAME:CET
DTSTART:20271031T010000
END:STANDARD
END:VTIMEZONE
BEGIN:VEVENT
DTSTART;VALUE=DATE:20260101
DTEND;VALUE=DATE:20260102
DTSTAMP:20260419T170819
CREATED:20251227T154820Z
LAST-MODIFIED:20251227T154820Z
UID:22336-1767225600-1767311999@terezjanki.org
SUMMARY:Uroczystość Świętej Bożej Rodzicielki
DESCRIPTION:Uroczystość Świętej Bożej Rodzicielki Maryi to święto maryjne obchodzone w Kościele Katolickim\, podkreślające aspekt macierzyństwa Maryi związany z jednym z najstarszych dogmatów Kościoła o Bożym Macierzyństwie Maryi.
URL:https://terezjanki.org/wydarzenie/uroczystosc-swietej-bozej-rodzicielki/
ATTACH;FMTTYPE=image/jpeg:https://terezjanki.org/wp-content/uploads/2021/07/matka-boza-szkaplerzna.jpg
END:VEVENT
BEGIN:VEVENT
DTSTART;VALUE=DATE:20260101
DTEND;VALUE=DATE:20260102
DTSTAMP:20260419T170819
CREATED:20251227T155116Z
LAST-MODIFIED:20251227T155116Z
UID:22338-1767225600-1767311999@terezjanki.org
SUMMARY:Imieniny s. Mieczysławy
DESCRIPTION:
URL:https://terezjanki.org/wydarzenie/imieniny-s-mieczyslawy-2/
ATTACH;FMTTYPE=image/jpeg:https://terezjanki.org/wp-content/uploads/2022/09/Roze-imieniny-wydarzenia.jpg
END:VEVENT
BEGIN:VEVENT
DTSTART;VALUE=DATE:20260102
DTEND;VALUE=DATE:20260103
DTSTAMP:20260419T170819
CREATED:20251227T155807Z
LAST-MODIFIED:20251227T160003Z
UID:22340-1767312000-1767398399@terezjanki.org
SUMMARY:Urodziny św. Teresy od Dzieciątka Jezus
DESCRIPTION:Zobacz krótki filmik opowiadający o dniu urodzin Teresy Martin.  TUTAJ »
URL:https://terezjanki.org/wydarzenie/urodziny-sw-teresy-od-dzieciatka-jezus/
ATTACH;FMTTYPE=image/jpeg:https://terezjanki.org/wp-content/uploads/2024/09/teresamartin.jpg
END:VEVENT
BEGIN:VEVENT
DTSTART;VALUE=DATE:20260104
DTEND;VALUE=DATE:20260105
DTSTAMP:20260419T170819
CREATED:20251227T160308Z
LAST-MODIFIED:20251227T160407Z
UID:22345-1767484800-1767571199@terezjanki.org
SUMMARY:Rocznica chrztu św. Teresy od Dzieciątka Jezus
DESCRIPTION:Zobacz krótki filmik\, opowiadający o tym\, jak Teresa Martin została ochrzczona w kościele w Alencon. TUTAJ »
URL:https://terezjanki.org/wydarzenie/rocznica-chrztu-sw-teresy-od-dzieciatka-jezus-3/
ATTACH;FMTTYPE=image/jpeg:https://terezjanki.org/wp-content/uploads/2024/09/teresamartin.jpg
END:VEVENT
BEGIN:VEVENT
DTSTART;VALUE=DATE:20260106
DTEND;VALUE=DATE:20260107
DTSTAMP:20260419T170819
CREATED:20251228T105154Z
LAST-MODIFIED:20251228T105154Z
UID:22347-1767657600-1767743999@terezjanki.org
SUMMARY:Uroczystość Objawienia Pańskiego
DESCRIPTION:Uroczystość Objawienia Pańskiego to jedno z najstarszych świąt chrześcijańskich. Potocznie nazywane jest Świętem Trzech Króli. Upamiętnia przybycie Mędrców ze Wschodu do Dzieciątka Jezus i objawienie Boga światu.
URL:https://terezjanki.org/wydarzenie/uroczystosc-objawienia-panskiego-2/
ATTACH;FMTTYPE=image/jpeg:https://terezjanki.org/wp-content/uploads/2023/01/Objawieie-Panskie.jpg
END:VEVENT
BEGIN:VEVENT
DTSTART;VALUE=DATE:20260107
DTEND;VALUE=DATE:20260108
DTSTAMP:20260419T170819
CREATED:20251228T105334Z
LAST-MODIFIED:20251228T105334Z
UID:22349-1767744000-1767830399@terezjanki.org
SUMMARY:Imieniny s. Lucjany
DESCRIPTION:
URL:https://terezjanki.org/wydarzenie/imieniny-s-lucjany-2/
ATTACH;FMTTYPE=image/jpeg:https://terezjanki.org/wp-content/uploads/2022/09/Roze-imieniny-wydarzenia.jpg
END:VEVENT
BEGIN:VEVENT
DTSTART;VALUE=DATE:20260109
DTEND;VALUE=DATE:20260110
DTSTAMP:20260419T170819
CREATED:20251231T144905Z
LAST-MODIFIED:20251231T145158Z
UID:22578-1767916800-1768003199@terezjanki.org
SUMMARY:Msza święta o łaskę beatyfikacji
DESCRIPTION:W kościele św. Jakuba w Toruniu o godz. 8.30 celebrowana będzie Msza święta w intencji beatyfikacji Sługi Bożego biskupa Adolfa Piotra Szelążka.
URL:https://terezjanki.org/wydarzenie/msza-swieta-o-laske-beatyfikacji-3/
ATTACH;FMTTYPE=image/jpeg:https://terezjanki.org/wp-content/uploads/2025/01/Torun-Zalozyciel-grobowiec.jpg
END:VEVENT
BEGIN:VEVENT
DTSTART;VALUE=DATE:20260109
DTEND;VALUE=DATE:20260110
DTSTAMP:20260419T170819
CREATED:20251228T105426Z
LAST-MODIFIED:20251228T105512Z
UID:22351-1767916800-1768003199@terezjanki.org
SUMMARY:Imieniny s. Adriany
DESCRIPTION:
URL:https://terezjanki.org/wydarzenie/imieniny-s-adriany-2/
ATTACH;FMTTYPE=image/jpeg:https://terezjanki.org/wp-content/uploads/2022/09/Roze-imieniny-wydarzenia.jpg
END:VEVENT
BEGIN:VEVENT
DTSTART;VALUE=DATE:20260110
DTEND;VALUE=DATE:20260111
DTSTAMP:20260419T170819
CREATED:20251228T105914Z
LAST-MODIFIED:20251228T105914Z
UID:22353-1768003200-1768089599@terezjanki.org
SUMMARY:Rocznica obłóczyn św. Teresy od Dzieciątka Jezus
DESCRIPTION:Zobacz krótki film relacjonujący to wydarzenie TUTAJ »
URL:https://terezjanki.org/wydarzenie/rocznica-obloczyn-sw-teresy-od-dzieciatka-jezus/
ATTACH;FMTTYPE=image/jpeg:https://terezjanki.org/wp-content/uploads/2020/08/Galeria-02-05-św.Teresa-w-nowicjacie-800x800-1.jpg
END:VEVENT
BEGIN:VEVENT
DTSTART;VALUE=DATE:20260111
DTEND;VALUE=DATE:20260112
DTSTAMP:20260419T170819
CREATED:20251228T110303Z
LAST-MODIFIED:20251228T110303Z
UID:22356-1768089600-1768175999@terezjanki.org
SUMMARY:Niedziela Chrztu Pańskiego
DESCRIPTION:Rocznica Chrztu Pańskiego obchodzona jest zawsze w pierwszą niedzielę po uroczystości Objawienia Pańskiego i oficjalnie kończy okres Bożego Narodzenia w liturgii. 
URL:https://terezjanki.org/wydarzenie/niedziela-chrztu-panskiego-3/
ATTACH;FMTTYPE=image/jpeg:https://terezjanki.org/wp-content/uploads/2020/04/wpis_Chrzest-Polski.jpg
END:VEVENT
BEGIN:VEVENT
DTSTART;TZID=Europe/Warsaw:20260119T130000
DTEND;TZID=Europe/Warsaw:20260125T150000
DTSTAMP:20260419T170819
CREATED:20251228T110651Z
LAST-MODIFIED:20251228T110651Z
UID:22358-1768827600-1769353200@terezjanki.org
SUMMARY:Rekolekcje zakonne w Łomży
DESCRIPTION:Czas duchowej odnowy poprzez modlitwę i medytację Słowa Bożego.
URL:https://terezjanki.org/wydarzenie/rekolekcje-zakonne-w-lomzy-2/
ATTACH;FMTTYPE=image/jpeg:https://terezjanki.org/wp-content/uploads/2023/08/rekolekcje-w-Lomzy-2.jpg
END:VEVENT
BEGIN:VEVENT
DTSTART;VALUE=DATE:20260121
DTEND;VALUE=DATE:20260122
DTSTAMP:20260419T170819
CREATED:20251228T110806Z
LAST-MODIFIED:20251228T110806Z
UID:22360-1768953600-1769039999@terezjanki.org
SUMMARY:Imieniny s. Agnieszki
DESCRIPTION:
URL:https://terezjanki.org/wydarzenie/imieniny-s-agnieszki-3/
ATTACH;FMTTYPE=image/jpeg:https://terezjanki.org/wp-content/uploads/2022/09/Roze-imieniny-wydarzenia.jpg
END:VEVENT
BEGIN:VEVENT
DTSTART;VALUE=DATE:20260122
DTEND;VALUE=DATE:20260123
DTSTAMP:20260419T170819
CREATED:20251228T110952Z
LAST-MODIFIED:20251228T110952Z
UID:22362-1769040000-1769126399@terezjanki.org
SUMMARY:Imieniny s. Laury
DESCRIPTION:
URL:https://terezjanki.org/wydarzenie/imieniny-s-laury-3/
ATTACH;FMTTYPE=image/jpeg:https://terezjanki.org/wp-content/uploads/2022/09/Roze-imieniny-wydarzenia.jpg
END:VEVENT
BEGIN:VEVENT
DTSTART;VALUE=DATE:20260125
DTEND;VALUE=DATE:20260126
DTSTAMP:20260419T170819
CREATED:20251228T111732Z
LAST-MODIFIED:20251228T111732Z
UID:22366-1769299200-1769385599@terezjanki.org
SUMMARY:Niedziela Słowa Bożego
DESCRIPTION:
URL:https://terezjanki.org/wydarzenie/niedziela-slowa-bozego-4/
ATTACH;FMTTYPE=image/jpeg:https://terezjanki.org/wp-content/uploads/2022/01/Biblia.jpg
END:VEVENT
BEGIN:VEVENT
DTSTART;VALUE=DATE:20260131
DTEND;VALUE=DATE:20260201
DTSTAMP:20260419T170819
CREATED:20251231T100204Z
LAST-MODIFIED:20251231T100204Z
UID:22564-1769817600-1769903999@terezjanki.org
SUMMARY:Dzień skupienia dla kobiet w Wasilkowie
DESCRIPTION:Inspiracją tych spotkań jest duchowość św. Teresy od Dzieciątka Jezus\, która uczy prostoty\, ufności i oddania się Bogu w małych\, codziennych sprawach. Podczas dnia skupienia uczestniczki będą miały okazję lepiej poznać „Małą Drogę”\, zaczerpnąć duchowego wytchnienia\, umocnić wiarę oraz spojrzeć na swoje życie i wybory w świetle Bożej obecności.
URL:https://terezjanki.org/wydarzenie/dzien-skupienia-dla-kobiet-w-wasilkowie/
ATTACH;FMTTYPE=image/jpeg:https://terezjanki.org/wp-content/uploads/2025/12/Dzien-skupienia-dla-kobiet-Teresa-dziewczyna-kalendarz.jpg
END:VEVENT
END:VCALENDAR