BEGIN:VCALENDAR
VERSION:2.0
PRODID:-//Terezjanki - ECPv6.15.12.2//NONSGML v1.0//EN
CALSCALE:GREGORIAN
METHOD:PUBLISH
X-ORIGINAL-URL:https://terezjanki.org
X-WR-CALDESC:Wydarzenia dla Terezjanki
REFRESH-INTERVAL;VALUE=DURATION:PT1H
X-Robots-Tag:noindex
X-PUBLISHED-TTL:PT1H
BEGIN:VTIMEZONE
TZID:Europe/Warsaw
BEGIN:DAYLIGHT
TZOFFSETFROM:+0100
TZOFFSETTO:+0200
TZNAME:CEST
DTSTART:20240331T010000
END:DAYLIGHT
BEGIN:STANDARD
TZOFFSETFROM:+0200
TZOFFSETTO:+0100
TZNAME:CET
DTSTART:20241027T010000
END:STANDARD
BEGIN:DAYLIGHT
TZOFFSETFROM:+0100
TZOFFSETTO:+0200
TZNAME:CEST
DTSTART:20250330T010000
END:DAYLIGHT
BEGIN:STANDARD
TZOFFSETFROM:+0200
TZOFFSETTO:+0100
TZNAME:CET
DTSTART:20251026T010000
END:STANDARD
BEGIN:DAYLIGHT
TZOFFSETFROM:+0100
TZOFFSETTO:+0200
TZNAME:CEST
DTSTART:20260329T010000
END:DAYLIGHT
BEGIN:STANDARD
TZOFFSETFROM:+0200
TZOFFSETTO:+0100
TZNAME:CET
DTSTART:20261025T010000
END:STANDARD
END:VTIMEZONE
BEGIN:VEVENT
DTSTART;VALUE=DATE:20250530
DTEND;VALUE=DATE:20250608
DTSTAMP:20260420T022710
CREATED:20250402T064240Z
LAST-MODIFIED:20250402T064240Z
UID:21503-1748563200-1749340799@terezjanki.org
SUMMARY:Nowenna przed uroczystością Zesłania Ducha Świętego
DESCRIPTION:Na dziewięć dni przed Niedzielą Zesłania Ducha Świętego trwamy na wspólnej modlitwie jak apostołowie\, którzy modlili się po wniebowstąpieniu Pana Jezusa czekając na zapowiedziane przez Niego zesłanie Ducha Świętego.
URL:https://terezjanki.org/wydarzenie/nowenna-przed-uroczystoscia-zeslania-ducha-swietego-2/
ATTACH;FMTTYPE=image/jpeg:https://terezjanki.org/wp-content/uploads/2022/11/Przyjdz-Duch-swiety.jpg
END:VEVENT
BEGIN:VEVENT
DTSTART;VALUE=DATE:20250601
DTEND;VALUE=DATE:20250602
DTSTAMP:20260420T022710
CREATED:20250402T064914Z
LAST-MODIFIED:20250402T064914Z
UID:21505-1748736000-1748822399@terezjanki.org
SUMMARY:Uroczystość Wniebowstąpienia Pańskiego
DESCRIPTION:Po swoim zmartwychwstaniu Jezus przebywał wśród uczniów przez 40 dni\, po czym Apostołowie udali się na Górę Oliwną\, gdzie w ich obecności Jezus uniósł się w górę i zniknął.
URL:https://terezjanki.org/wydarzenie/uroczystosc-wniebowstapienia-panskiego/
ATTACH;FMTTYPE=image/jpeg:https://terezjanki.org/wp-content/uploads/2025/04/wniebowstapienie.jpg
END:VEVENT
BEGIN:VEVENT
DTSTART;VALUE=DATE:20250606
DTEND;VALUE=DATE:20250607
DTSTAMP:20260420T022710
CREATED:20250402T065122Z
LAST-MODIFIED:20250402T065122Z
UID:21508-1749168000-1749254399@terezjanki.org
SUMMARY:Imieniny s. Pauliny
DESCRIPTION:Imię Paulina jest żeńską formą łacińskiego imienia Paulus\, inaczej osoby do Paulusa przynależnej.
URL:https://terezjanki.org/wydarzenie/imieniny-s-pauliny/
ATTACH;FMTTYPE=image/jpeg:https://terezjanki.org/wp-content/uploads/2022/09/Roze-imieniny-wydarzenia.jpg
END:VEVENT
BEGIN:VEVENT
DTSTART;VALUE=DATE:20250608
DTEND;VALUE=DATE:20250609
DTSTAMP:20260420T022710
CREATED:20250402T065700Z
LAST-MODIFIED:20250402T065700Z
UID:21510-1749340800-1749427199@terezjanki.org
SUMMARY:Uroczystość Zesłania Ducha Świętego
DESCRIPTION:Uroczystość Zesłania Ducha Świętego należy − obok uroczystości Narodzenia i Zmartwychwstania Pańskiego − do najważniejszych świąt w chrześcijańskim cyklu rocznym. W Kościele Katolickim uroczystość kończy okres wielkanocny.
URL:https://terezjanki.org/wydarzenie/uroczystosc-zeslania-ducha-swietego/
ATTACH;FMTTYPE=image/jpeg:https://terezjanki.org/wp-content/uploads/2025/04/Duch-Swiety.jpg
END:VEVENT
BEGIN:VEVENT
DTSTART;VALUE=DATE:20250609
DTEND;VALUE=DATE:20250610
DTSTAMP:20260420T022710
CREATED:20250402T070043Z
LAST-MODIFIED:20250402T070043Z
UID:21513-1749427200-1749513599@terezjanki.org
SUMMARY:NMP Matki Kościoła
DESCRIPTION:Maryja jest Matką Kościoła. Tytuł ten dawali Matce Najświętszej teologowie już od początków dziejów Kościoła\, a w ostatnim stuleciu papieże: Leon XIII\, Jan XXIII i Paweł VI.
URL:https://terezjanki.org/wydarzenie/nmp-matki-kosciola/
ATTACH;FMTTYPE=image/jpeg:https://terezjanki.org/wp-content/uploads/2021/05/Matka-Kościoła-2021.jpg
END:VEVENT
BEGIN:VEVENT
DTSTART;VALUE=DATE:20250610
DTEND;VALUE=DATE:20250611
DTSTAMP:20260420T022710
CREATED:20250402T070320Z
LAST-MODIFIED:20250402T070320Z
UID:21515-1749513600-1749599999@terezjanki.org
SUMMARY:Imieniny s. Bogumiły
DESCRIPTION:Bogumiła to imię pochodzenia słowiańskiego. Powstało z połączenia wyrazów Bog (Bóg) oraz mił (miła). Imię to oznacza: miła Bogu lub miłująca Boga.
URL:https://terezjanki.org/wydarzenie/imieniny-s-bogumily/
ATTACH;FMTTYPE=image/jpeg:https://terezjanki.org/wp-content/uploads/2022/09/Roze-imieniny-wydarzenia.jpg
END:VEVENT
BEGIN:VEVENT
DTSTART;VALUE=DATE:20250613
DTEND;VALUE=DATE:20250614
DTSTAMP:20260420T022710
CREATED:20250402T070509Z
LAST-MODIFIED:20250402T070509Z
UID:21517-1749772800-1749859199@terezjanki.org
SUMMARY:Imieniny s. Antoniny
DESCRIPTION:Antonina to żeński odpowiednik imienia Antonin\, które pochodzi od nazwy rodu Antoniuszów. Imię to oznacza: wspaniała\, doskonała\, wybitna.
URL:https://terezjanki.org/wydarzenie/imieniny-s-antoniny/
ATTACH;FMTTYPE=image/jpeg:https://terezjanki.org/wp-content/uploads/2022/09/Roze-imieniny-wydarzenia.jpg
END:VEVENT
BEGIN:VEVENT
DTSTART;VALUE=DATE:20250615
DTEND;VALUE=DATE:20250616
DTSTAMP:20260420T022710
CREATED:20250428T071323Z
LAST-MODIFIED:20250428T071400Z
UID:21573-1749945600-1750031999@terezjanki.org
SUMMARY:Uroczystość Najświętszej Trójcy
DESCRIPTION:Uroczystość obchodzona ku czci Trójcy Świętej: Boga Ojca\, Syna Bożego i Ducha Świętego.
URL:https://terezjanki.org/wydarzenie/uroczystosc-najswietszej-trojcy/
ATTACH;FMTTYPE=image/jpeg:https://terezjanki.org/wp-content/uploads/2021/01/obrazek-wyróżniający-Trójca.jpg
END:VEVENT
BEGIN:VEVENT
DTSTART;VALUE=DATE:20250615
DTEND;VALUE=DATE:20250616
DTSTAMP:20260420T022710
CREATED:20250428T071626Z
LAST-MODIFIED:20250428T071626Z
UID:21575-1749945600-1750031999@terezjanki.org
SUMMARY:Imieniny s. Modesty
DESCRIPTION:Imię Modesta\, pochodzenia łacińskiego\, oznacza „skromna”\, „umiarkowana” lub „bez zarozumiałości”.
URL:https://terezjanki.org/wydarzenie/imieniny-s-modesty/
ATTACH;FMTTYPE=image/jpeg:https://terezjanki.org/wp-content/uploads/2022/09/Roze-imieniny-wydarzenia.jpg
END:VEVENT
BEGIN:VEVENT
DTSTART;VALUE=DATE:20250615
DTEND;VALUE=DATE:20250616
DTSTAMP:20260420T022710
CREATED:20250428T071833Z
LAST-MODIFIED:20250428T071833Z
UID:21577-1749945600-1750031999@terezjanki.org
SUMMARY:Imieniny s. Jolanty
DESCRIPTION:Imię Jolanta jest imieniem pochodzenia greckiego\, powstało od słów: „ion” – fiołek\, „anthos” – „kwiat” i oznacza kwiat fiołka.
URL:https://terezjanki.org/wydarzenie/imieniny-s-jolanty/
ATTACH;FMTTYPE=image/jpeg:https://terezjanki.org/wp-content/uploads/2022/09/Roze-imieniny-wydarzenia.jpg
END:VEVENT
BEGIN:VEVENT
DTSTART;VALUE=DATE:20250616
DTEND;VALUE=DATE:20250617
DTSTAMP:20260420T022710
CREATED:20250428T072001Z
LAST-MODIFIED:20250428T072001Z
UID:21579-1750032000-1750118399@terezjanki.org
SUMMARY:Imieniny s. Anety
DESCRIPTION:Imię Aneta powstało od francuskiego zdrobnienia hebrajskiego imienia Anna. Zalicza się ono do rodziny imion wywodzących się od słowa „hannah” co oznacza: „łaskę”\, „wdzięk”\, „urodę”.
URL:https://terezjanki.org/wydarzenie/imieniny-s-anety/
ATTACH;FMTTYPE=image/jpeg:https://terezjanki.org/wp-content/uploads/2022/09/Roze-imieniny-wydarzenia.jpg
END:VEVENT
BEGIN:VEVENT
DTSTART;VALUE=DATE:20250617
DTEND;VALUE=DATE:20250618
DTSTAMP:20260420T022710
CREATED:20250428T072212Z
LAST-MODIFIED:20250428T072212Z
UID:21581-1750118400-1750204799@terezjanki.org
SUMMARY:Imieniny s. Alberty
DESCRIPTION:Jest to żeńskie imię germańskie\, odpowiednik imienia Albert. W Polsce znane od XV wieku\, dziś rzadko nadawane. Całość imienia można określić jako „promieniejąca szlachetnością”.
URL:https://terezjanki.org/wydarzenie/imieniny-s-alberty/
ATTACH;FMTTYPE=image/jpeg:https://terezjanki.org/wp-content/uploads/2022/09/Roze-imieniny-wydarzenia.jpg
END:VEVENT
BEGIN:VEVENT
DTSTART;VALUE=DATE:20250619
DTEND;VALUE=DATE:20250620
DTSTAMP:20260420T022710
CREATED:20250428T072625Z
LAST-MODIFIED:20250428T072625Z
UID:21583-1750291200-1750377599@terezjanki.org
SUMMARY:Uroczystość Najświętszego Ciała i Krwi Chrystusa
DESCRIPTION:Uroczystość Najświętszego Ciała i Krwi Chrystusa\, potocznie Boże Ciało to uroczystość liturgiczna w Kościele Katolickim dla uczczenia Jezusa Chrystusa w Najświętszym Sakramencie.
URL:https://terezjanki.org/wydarzenie/uroczystosc-najswietszego-ciala-i-krwi-chrystusa/
ATTACH;FMTTYPE=image/jpeg:https://terezjanki.org/wp-content/uploads/2020/06/wpis_Hostia_01.jpg
END:VEVENT
BEGIN:VEVENT
DTSTART;VALUE=DATE:20250629
DTEND;VALUE=DATE:20250630
DTSTAMP:20260420T022710
CREATED:20250428T073141Z
LAST-MODIFIED:20250428T073141Z
UID:21587-1751155200-1751241599@terezjanki.org
SUMMARY:Uroczystość świętych Apostołów Piotra i Pawła
DESCRIPTION:Uroczystość świętych Apostołów Piotra i Pawła obchodzona jest w Kościele katolickim ku czci tych dwóch ważnych postaci chrześcijaństwa. Piotr był pierwszym papieżem\, a Paweł był jednym z najważniejszych misjonarzy.
URL:https://terezjanki.org/wydarzenie/uroczystosc-swietych-apostolow-piotra-i-pawla/
ATTACH;FMTTYPE=image/jpeg:https://terezjanki.org/wp-content/uploads/2022/05/kosciol.jpg
END:VEVENT
BEGIN:VEVENT
DTSTART;VALUE=DATE:20250630
DTEND;VALUE=DATE:20250701
DTSTAMP:20260420T022710
CREATED:20250428T072829Z
LAST-MODIFIED:20250428T072829Z
UID:21585-1751241600-1751327999@terezjanki.org
SUMMARY:Imieniny s. Lucyny
DESCRIPTION:Imię Lucyna to żeńskie imię pochodzenia łacińskiego\, które oznacza „niosąca światło” lub „świetlisty”.
URL:https://terezjanki.org/wydarzenie/imieniny-s-lucyny/
ATTACH;FMTTYPE=image/jpeg:https://terezjanki.org/wp-content/uploads/2022/09/Roze-imieniny-wydarzenia.jpg
END:VEVENT
END:VCALENDAR