BEGIN:VCALENDAR
VERSION:2.0
PRODID:-//Terezjanki - ECPv6.15.12.2//NONSGML v1.0//EN
CALSCALE:GREGORIAN
METHOD:PUBLISH
X-WR-CALNAME:Terezjanki
X-ORIGINAL-URL:https://terezjanki.org
X-WR-CALDESC:Wydarzenia dla Terezjanki
REFRESH-INTERVAL;VALUE=DURATION:PT1H
X-Robots-Tag:noindex
X-PUBLISHED-TTL:PT1H
BEGIN:VTIMEZONE
TZID:Europe/Warsaw
BEGIN:DAYLIGHT
TZOFFSETFROM:+0100
TZOFFSETTO:+0200
TZNAME:CEST
DTSTART:20240331T010000
END:DAYLIGHT
BEGIN:STANDARD
TZOFFSETFROM:+0200
TZOFFSETTO:+0100
TZNAME:CET
DTSTART:20241027T010000
END:STANDARD
BEGIN:DAYLIGHT
TZOFFSETFROM:+0100
TZOFFSETTO:+0200
TZNAME:CEST
DTSTART:20250330T010000
END:DAYLIGHT
BEGIN:STANDARD
TZOFFSETFROM:+0200
TZOFFSETTO:+0100
TZNAME:CET
DTSTART:20251026T010000
END:STANDARD
BEGIN:DAYLIGHT
TZOFFSETFROM:+0100
TZOFFSETTO:+0200
TZNAME:CEST
DTSTART:20260329T010000
END:DAYLIGHT
BEGIN:STANDARD
TZOFFSETFROM:+0200
TZOFFSETTO:+0100
TZNAME:CET
DTSTART:20261025T010000
END:STANDARD
END:VTIMEZONE
BEGIN:VEVENT
DTSTART;VALUE=DATE:20250503
DTEND;VALUE=DATE:20250504
DTSTAMP:20260420T040557
CREATED:20250401T070909Z
LAST-MODIFIED:20250401T070909Z
UID:21479-1746230400-1746316799@terezjanki.org
SUMMARY:Uroczystość NMP Królowej Polski
DESCRIPTION:Uroczystość Najświętszej Maryi Panny Królowej Polski obchodzona jest w Polsce 3 maja. Święto to wyraża wiarę Polaków w opiekę Bożą\, jakiej doświadczali i doświadczają za pośrednictwem Maryi.
URL:https://terezjanki.org/wydarzenie/uroczystosc-nmp-krolowej-polski/
ATTACH;FMTTYPE=image/jpeg:https://terezjanki.org/wp-content/uploads/2021/08/Matka-Boska-Czestochowska.jpg
END:VEVENT
BEGIN:VEVENT
DTSTART;VALUE=DATE:20250503
DTEND;VALUE=DATE:20250504
DTSTAMP:20260420T040557
CREATED:20250401T071317Z
LAST-MODIFIED:20250401T071317Z
UID:21481-1746230400-1746316799@terezjanki.org
SUMMARY:Imieniny s. Aleksandry
DESCRIPTION:Imię Aleksandra pochodzi od greckiego słowa aleksandros (obrońca ludzi). Imię Aleksandra w Polsce weszło do użycia około XIV wieku. Imię spopularyzował Henryk Sienkiewicz nadając je bohaterce Potopu.
URL:https://terezjanki.org/wydarzenie/imieniny-s-aleksandry/
ATTACH;FMTTYPE=image/jpeg:https://terezjanki.org/wp-content/uploads/2022/09/Roze-imieniny-wydarzenia.jpg
END:VEVENT
BEGIN:VEVENT
DTSTART;VALUE=DATE:20250503
DTEND;VALUE=DATE:20250504
DTSTAMP:20260420T040557
CREATED:20250401T071507Z
LAST-MODIFIED:20250401T071507Z
UID:21483-1746230400-1746316799@terezjanki.org
SUMMARY:Imieniny s. Marioli
DESCRIPTION:Mariola jest to imię pochodzenia francuskiego będące poboczną formą imienia Maria. Prawdopodobnie wywodzi się od słowa Mariolle\, które oznacza: mały wizerunek Matki Boskiej.
URL:https://terezjanki.org/wydarzenie/imieniny-s-marioli/
ATTACH;FMTTYPE=image/jpeg:https://terezjanki.org/wp-content/uploads/2022/09/Roze-imieniny-wydarzenia.jpg
END:VEVENT
BEGIN:VEVENT
DTSTART;VALUE=DATE:20250507
DTEND;VALUE=DATE:20250508
DTSTAMP:20260420T040557
CREATED:20250401T071650Z
LAST-MODIFIED:20250401T071650Z
UID:21485-1746576000-1746662399@terezjanki.org
SUMMARY:Imieniny s. Ludmiły
DESCRIPTION:Ludmiła to staropolskie imię żeńskie\, które powstało ze złożenia członów ludo (ludzie\, ludziom) i miła co oznacza kobietę miłą dla ludzi.
URL:https://terezjanki.org/wydarzenie/imieniny-s-ludmily/
ATTACH;FMTTYPE=image/jpeg:https://terezjanki.org/wp-content/uploads/2022/09/Roze-imieniny-wydarzenia.jpg
END:VEVENT
BEGIN:VEVENT
DTSTART;VALUE=DATE:20250509
DTEND;VALUE=DATE:20250510
DTSTAMP:20260420T040557
CREATED:20250401T072115Z
LAST-MODIFIED:20250401T072115Z
UID:21487-1746748800-1746835199@terezjanki.org
SUMMARY:Rocznica agregowania do Karmelu
DESCRIPTION:9 maja 1991 roku Zgromadzenie Sióstr św. Teresy od Dzieciątka Jezus zostało agregowane do Karmelu.
URL:https://terezjanki.org/wydarzenie/rocznica-agregowania-do-karmelu/
ATTACH;FMTTYPE=image/jpeg:https://terezjanki.org/wp-content/uploads/2022/04/Agregowanie-do-Karmelu-1920x1080-1.jpg
END:VEVENT
BEGIN:VEVENT
DTSTART;VALUE=DATE:20250514
DTEND;VALUE=DATE:20250515
DTSTAMP:20260420T040557
CREATED:20250401T073356Z
LAST-MODIFIED:20250401T073356Z
UID:21489-1747180800-1747267199@terezjanki.org
SUMMARY:Imieniny s. Bonifacji
DESCRIPTION:Bonifacja to imię żeńskie pochodzenia łacińskiego. Wywodzi się od słów bonum fatum oznaczających „dobry los”.
URL:https://terezjanki.org/wydarzenie/imieniny-s-bonifacji/
ATTACH;FMTTYPE=image/jpeg:https://terezjanki.org/wp-content/uploads/2022/09/Roze-imieniny-wydarzenia.jpg
END:VEVENT
BEGIN:VEVENT
DTSTART;VALUE=DATE:20250517
DTEND;VALUE=DATE:20250518
DTSTAMP:20260420T040557
CREATED:20250401T073737Z
LAST-MODIFIED:20250401T073737Z
UID:21491-1747440000-1747526399@terezjanki.org
SUMMARY:Rocznica kanonizacji św. Teresy
DESCRIPTION:17 maja 1925 roku została kanonizowana św. Teresa od Dzieciątka Jezus. Kanonizacji dokonał papież Pius XI nazywając ją jednocześnie gwiazdą swojego pontyfikatu.
URL:https://terezjanki.org/wydarzenie/rocznica-kanonizacji-sw-teresy/
ATTACH;FMTTYPE=image/jpeg:https://terezjanki.org/wp-content/uploads/2024/04/Teresa-portret.jpg
END:VEVENT
BEGIN:VEVENT
DTSTART;VALUE=DATE:20250526
DTEND;VALUE=DATE:20250527
DTSTAMP:20260420T040557
CREATED:20250401T074111Z
LAST-MODIFIED:20250401T074135Z
UID:21493-1748217600-1748303999@terezjanki.org
SUMMARY:Rocznica święceń kapłańskich Sługi Bożego A. P. Szelążka
DESCRIPTION:Alumn Adolf Piotr Szelążek utwierdzony przez modlitwę w pragnieniu bezwzględnego poświecenia na służbę Bożą oraz ugruntowany poprzez rzetelnie zdobytą wiedzę w seminarium 26 maja 1888 roku przyjął święcenia kapłańskie\, stając się sługą Boga i głosicielem Dobrej Nowiny.
URL:https://terezjanki.org/wydarzenie/rocznica-swiecen-kaplanskich-a-p-szelazka/
ATTACH;FMTTYPE=image/jpeg:https://terezjanki.org/wp-content/uploads/2020/06/wpis_bp-Szelążek-01.jpg
END:VEVENT
BEGIN:VEVENT
DTSTART;VALUE=DATE:20250530
DTEND;VALUE=DATE:20250531
DTSTAMP:20260420T040557
CREATED:20250401T074425Z
LAST-MODIFIED:20250401T074425Z
UID:21496-1748563200-1748649599@terezjanki.org
SUMMARY:Imieniny s. Joanny
DESCRIPTION:Imię Joanna pochodzi z języka hebrajskiego\, w którym brzmi Jo-hanan\, co oznacza „Jahwe jest łaskawy”. Jest to żeński odpowiednik imienia Jan.
URL:https://terezjanki.org/wydarzenie/imieniny-s-joanny/
ATTACH;FMTTYPE=image/jpeg:https://terezjanki.org/wp-content/uploads/2022/09/Roze-imieniny-wydarzenia.jpg
END:VEVENT
BEGIN:VEVENT
DTSTART;VALUE=DATE:20250530
DTEND;VALUE=DATE:20250608
DTSTAMP:20260420T040557
CREATED:20250402T064240Z
LAST-MODIFIED:20250402T064240Z
UID:21503-1748563200-1749340799@terezjanki.org
SUMMARY:Nowenna przed uroczystością Zesłania Ducha Świętego
DESCRIPTION:Na dziewięć dni przed Niedzielą Zesłania Ducha Świętego trwamy na wspólnej modlitwie jak apostołowie\, którzy modlili się po wniebowstąpieniu Pana Jezusa czekając na zapowiedziane przez Niego zesłanie Ducha Świętego.
URL:https://terezjanki.org/wydarzenie/nowenna-przed-uroczystoscia-zeslania-ducha-swietego-2/
ATTACH;FMTTYPE=image/jpeg:https://terezjanki.org/wp-content/uploads/2022/11/Przyjdz-Duch-swiety.jpg
END:VEVENT
END:VCALENDAR