BEGIN:VCALENDAR
VERSION:2.0
PRODID:-//Terezjanki - ECPv6.15.12.2//NONSGML v1.0//EN
CALSCALE:GREGORIAN
METHOD:PUBLISH
X-ORIGINAL-URL:https://terezjanki.org
X-WR-CALDESC:Wydarzenia dla Terezjanki
REFRESH-INTERVAL;VALUE=DURATION:PT1H
X-Robots-Tag:noindex
X-PUBLISHED-TTL:PT1H
BEGIN:VTIMEZONE
TZID:Europe/Warsaw
BEGIN:DAYLIGHT
TZOFFSETFROM:+0100
TZOFFSETTO:+0200
TZNAME:CEST
DTSTART:20240331T010000
END:DAYLIGHT
BEGIN:STANDARD
TZOFFSETFROM:+0200
TZOFFSETTO:+0100
TZNAME:CET
DTSTART:20241027T010000
END:STANDARD
BEGIN:DAYLIGHT
TZOFFSETFROM:+0100
TZOFFSETTO:+0200
TZNAME:CEST
DTSTART:20250330T010000
END:DAYLIGHT
BEGIN:STANDARD
TZOFFSETFROM:+0200
TZOFFSETTO:+0100
TZNAME:CET
DTSTART:20251026T010000
END:STANDARD
BEGIN:DAYLIGHT
TZOFFSETFROM:+0100
TZOFFSETTO:+0200
TZNAME:CEST
DTSTART:20260329T010000
END:DAYLIGHT
BEGIN:STANDARD
TZOFFSETFROM:+0200
TZOFFSETTO:+0100
TZNAME:CET
DTSTART:20261025T010000
END:STANDARD
END:VTIMEZONE
BEGIN:VEVENT
DTSTART;VALUE=DATE:20250201
DTEND;VALUE=DATE:20250210
DTSTAMP:20260420T084325
CREATED:20250110T175610Z
LAST-MODIFIED:20250110T175706Z
UID:20399-1738368000-1739145599@terezjanki.org
SUMMARY:Nowenna o łaskę nowych powołań
DESCRIPTION:Modlimy się o łaskę nowych powołań do Zgromadzenia Sióstr św. Teresy od Dzieciątka Jezus przez wstawiennictwo Sługi Bożego biskupa Adolfa Piotra Szelążka.
URL:https://terezjanki.org/wydarzenie/nowenna-o-laske-nowych-powolan/
ATTACH;FMTTYPE=image/jpeg:https://terezjanki.org/wp-content/uploads/2020/06/Szelążek-przy-portrecie.jpg
END:VEVENT
BEGIN:VEVENT
DTSTART;VALUE=DATE:20250202
DTEND;VALUE=DATE:20250203
DTSTAMP:20260420T084325
CREATED:20250110T175309Z
LAST-MODIFIED:20250110T175309Z
UID:20397-1738454400-1738540799@terezjanki.org
SUMMARY:Światowy Dzień Życia Konsekrowanego
DESCRIPTION:Światowy Dzień Życia Konsekrowanego to dzień szczególnej pamięci i modlitwy za osoby\, które całkowicie ofiarowały swoje życie Bogu. Ustanowiony został w 1997 przez papieża Jana Pawła II.
URL:https://terezjanki.org/wydarzenie/swiatowy-dzien-zycia-konsekrowanego-2/
ATTACH;FMTTYPE=image/jpeg:https://terezjanki.org/wp-content/uploads/2021/03/Siostry-w-tujach.jpg
END:VEVENT
BEGIN:VEVENT
DTSTART;VALUE=DATE:20250206
DTEND;VALUE=DATE:20250207
DTSTAMP:20260420T084325
CREATED:20250110T180328Z
LAST-MODIFIED:20250110T180426Z
UID:20401-1738800000-1738886399@terezjanki.org
SUMMARY:Imieniny s. Doroty i s. Aksany
DESCRIPTION:Dorota to imię pochodzenia greckiego\, od słów doron (dar) i theos (bóg). Oznacza: ta\, która przyszła na świat jako dar boży. \nAksana (Oksana) to imię pochodzenia perskiego\, które oznacza jutrzenkę.
URL:https://terezjanki.org/wydarzenie/imieniny-s-doroty-i-s-aksany/
ATTACH;FMTTYPE=image/jpeg:https://terezjanki.org/wp-content/uploads/2022/09/Roze-imieniny-wydarzenia.jpg
END:VEVENT
BEGIN:VEVENT
DTSTART;VALUE=DATE:20250209
DTEND;VALUE=DATE:20250210
DTSTAMP:20260420T084326
CREATED:20250110T180924Z
LAST-MODIFIED:20250112T150233Z
UID:20404-1739059200-1739145599@terezjanki.org
SUMMARY:75. rocznica śmierci
DESCRIPTION:W 1950 roku w Zamku Bierzgłowskim koło Torunia zmarł Sługa Boży biskup Adolf Piotr Szelążek – Założyciel Zgromadzenia Sióstr św. Teresy od Dzieciątka Jezus. Uroczysta Msza święta w 75. rocznicę śmierci biskupa Szelążka celebrowana będzie w kościele św. Jakuba w Toruniu o godz. 13.00.
URL:https://terezjanki.org/wydarzenie/75-rocznica-smierci-a-p-szelazka/
ATTACH;FMTTYPE=image/png:https://terezjanki.org/wp-content/uploads/2021/12/obrazek-wyrozniajacy.png
END:VEVENT
BEGIN:VEVENT
DTSTART;VALUE=DATE:20250210
DTEND;VALUE=DATE:20250211
DTSTAMP:20260420T084326
CREATED:20250112T150555Z
LAST-MODIFIED:20250112T150555Z
UID:20417-1739145600-1739231999@terezjanki.org
SUMMARY:Imieniny s. Scholastyki
DESCRIPTION:Scholastyka to imię żeńskie pochodzenia łacińskiego. Wywodzi się od łacińskiego słowa scholasticus oznaczającego uczony\, student\, nauczyciel.
URL:https://terezjanki.org/wydarzenie/imieniny-s-scholastyki-2/
ATTACH;FMTTYPE=image/jpeg:https://terezjanki.org/wp-content/uploads/2022/09/Roze-imieniny-wydarzenia.jpg
END:VEVENT
BEGIN:VEVENT
DTSTART;VALUE=DATE:20250210
DTEND;VALUE=DATE:20250217
DTSTAMP:20260420T084326
CREATED:20250112T152121Z
LAST-MODIFIED:20250112T152121Z
UID:20424-1739145600-1739750399@terezjanki.org
SUMMARY:Rekolekcje zakonne w Łomży
DESCRIPTION:Rekolekcje to szczególny czas poświęcony duchowej odnowie i refleksji nad własnym życiem. W naszym zgromadzeniu trwają 6 dni.
URL:https://terezjanki.org/wydarzenie/rekolekcje-zakonne-w-lomzy/
ATTACH;FMTTYPE=image/jpeg:https://terezjanki.org/wp-content/uploads/2022/03/Siostry-w-kaplicyn-z-tylu.jpg
END:VEVENT
BEGIN:VEVENT
DTSTART;VALUE=DATE:20250216
DTEND;VALUE=DATE:20250217
DTSTAMP:20260420T084326
CREATED:20250112T151000Z
LAST-MODIFIED:20250112T151000Z
UID:20419-1739664000-1739750399@terezjanki.org
SUMMARY:Imieniny s. Samueli
DESCRIPTION:Samuela to imię pochodzenia biblijnego.  Wywodzi się z języka hebrajskiego i oznacza „wyproszony od Boga”\, „Bóg wysłuchał”.
URL:https://terezjanki.org/wydarzenie/imieniny-s-samueli-2/
ATTACH;FMTTYPE=image/jpeg:https://terezjanki.org/wp-content/uploads/2022/09/Roze-imieniny-wydarzenia.jpg
END:VEVENT
BEGIN:VEVENT
DTSTART;TZID=Europe/Warsaw:20250220T000000
DTEND;TZID=Europe/Warsaw:20250220T233000
DTSTAMP:20260420T084326
CREATED:20250603T072549Z
LAST-MODIFIED:20250603T072549Z
UID:20421-1740009600-1740094200@terezjanki.org
SUMMARY:Imieniny s. Hiacynty
DESCRIPTION:Imię Hiacynta pochodzi od greckiego słowa oznaczającego „niebieski kwiat”.
URL:https://terezjanki.org/wydarzenie/imieniny-s-hiacynty-2/
ATTACH;FMTTYPE=image/jpeg:https://terezjanki.org/wp-content/uploads/2022/09/Roze-imieniny-wydarzenia.jpg
END:VEVENT
BEGIN:VEVENT
DTSTART;VALUE=DATE:20250224
DTEND;VALUE=DATE:20250225
DTSTAMP:20260420T084326
CREATED:20250112T152604Z
LAST-MODIFIED:20250112T152658Z
UID:20427-1740355200-1740441599@terezjanki.org
SUMMARY:Rocznica Ingresu
DESCRIPTION:24 lutego 1926 roku miał miejsce Ingres ks. biskupa Adolfa Piotra Szelążka do Katedry w Łucku na Wołyniu.
URL:https://terezjanki.org/wydarzenie/rocznica-ingresu/
ATTACH;FMTTYPE=image/jpeg:https://terezjanki.org/wp-content/uploads/2020/06/13-1.jpg
END:VEVENT
END:VCALENDAR