BEGIN:VCALENDAR
VERSION:2.0
PRODID:-//Terezjanki - ECPv6.15.12.2//NONSGML v1.0//EN
CALSCALE:GREGORIAN
METHOD:PUBLISH
X-WR-CALNAME:Terezjanki
X-ORIGINAL-URL:https://terezjanki.org
X-WR-CALDESC:Wydarzenia dla Terezjanki
REFRESH-INTERVAL;VALUE=DURATION:PT1H
X-Robots-Tag:noindex
X-PUBLISHED-TTL:PT1H
BEGIN:VTIMEZONE
TZID:Europe/Warsaw
BEGIN:DAYLIGHT
TZOFFSETFROM:+0100
TZOFFSETTO:+0200
TZNAME:CEST
DTSTART:20210328T010000
END:DAYLIGHT
BEGIN:STANDARD
TZOFFSETFROM:+0200
TZOFFSETTO:+0100
TZNAME:CET
DTSTART:20211031T010000
END:STANDARD
BEGIN:DAYLIGHT
TZOFFSETFROM:+0100
TZOFFSETTO:+0200
TZNAME:CEST
DTSTART:20220327T010000
END:DAYLIGHT
BEGIN:STANDARD
TZOFFSETFROM:+0200
TZOFFSETTO:+0100
TZNAME:CET
DTSTART:20221030T010000
END:STANDARD
BEGIN:DAYLIGHT
TZOFFSETFROM:+0100
TZOFFSETTO:+0200
TZNAME:CEST
DTSTART:20230326T010000
END:DAYLIGHT
BEGIN:STANDARD
TZOFFSETFROM:+0200
TZOFFSETTO:+0100
TZNAME:CET
DTSTART:20231029T010000
END:STANDARD
END:VTIMEZONE
BEGIN:VEVENT
DTSTART;VALUE=DATE:20221001
DTEND;VALUE=DATE:20221002
DTSTAMP:20260420T011734
CREATED:20220922T081134Z
LAST-MODIFIED:20220922T081205Z
UID:14610-1664582400-1664668799@terezjanki.org
SUMMARY:Uroczystość patronalna Zgromadzenia - św. Teresy od Dzieciątka Jezus
DESCRIPTION:
URL:https://terezjanki.org/wydarzenie/uroczystosc-patronalna-zgromadzenia-sw-teresy-od-dzieciatka-jezus/
ATTACH;FMTTYPE=image/jpeg:https://terezjanki.org/wp-content/uploads/2022/09/grafika-na-youtubewyrozniajacy-1.jpg
END:VEVENT
BEGIN:VEVENT
DTSTART;VALUE=DATE:20221001
DTEND;VALUE=DATE:20221002
DTSTAMP:20260420T011734
CREATED:20220922T094142Z
LAST-MODIFIED:20220922T192338Z
UID:14639-1664582400-1664668799@terezjanki.org
SUMMARY:Imieniny s. Teresy
DESCRIPTION:
URL:https://terezjanki.org/wydarzenie/imieniny-s-teresy/
ATTACH;FMTTYPE=image/jpeg:https://terezjanki.org/wp-content/uploads/2022/09/Roze-imieniny-wydarzenia.jpg
END:VEVENT
BEGIN:VEVENT
DTSTART;VALUE=DATE:20221002
DTEND;VALUE=DATE:20221003
DTSTAMP:20260420T011734
CREATED:20220922T094248Z
LAST-MODIFIED:20220922T094248Z
UID:14641-1664668800-1664755199@terezjanki.org
SUMMARY:Imieniny sióstr: Cherubiny i Serafiny
DESCRIPTION:
URL:https://terezjanki.org/wydarzenie/imieniny-siostr-cherubiny-i-serafiny/
ATTACH;FMTTYPE=image/jpeg:https://terezjanki.org/wp-content/uploads/2022/09/Roze-imieniny-wydarzenia.jpg
END:VEVENT
BEGIN:VEVENT
DTSTART;VALUE=DATE:20221004
DTEND;VALUE=DATE:20221005
DTSTAMP:20260420T011734
CREATED:20220922T094334Z
LAST-MODIFIED:20220922T094334Z
UID:14643-1664841600-1664927999@terezjanki.org
SUMMARY:Imieniny s. Franciszki
DESCRIPTION:
URL:https://terezjanki.org/wydarzenie/imieniny-s-franciszki/
ATTACH;FMTTYPE=image/jpeg:https://terezjanki.org/wp-content/uploads/2022/09/Roze-imieniny-wydarzenia.jpg
END:VEVENT
BEGIN:VEVENT
DTSTART;VALUE=DATE:20221007
DTEND;VALUE=DATE:20221008
DTSTAMP:20260420T011734
CREATED:20220922T094415Z
LAST-MODIFIED:20220922T094415Z
UID:14645-1665100800-1665187199@terezjanki.org
SUMMARY:Imieniny s. Justyny
DESCRIPTION:
URL:https://terezjanki.org/wydarzenie/imieniny-s-justyny/
ATTACH;FMTTYPE=image/jpeg:https://terezjanki.org/wp-content/uploads/2022/09/Roze-imieniny-wydarzenia.jpg
END:VEVENT
BEGIN:VEVENT
DTSTART;TZID=Europe/Warsaw:20221009T100000
DTEND;TZID=Europe/Warsaw:20221009T110000
DTSTAMP:20260420T011734
CREATED:20220922T090842Z
LAST-MODIFIED:20220922T091112Z
UID:14626-1665309600-1665313200@terezjanki.org
SUMMARY:Msza św. o beatyfikację biskupa Szelążka
DESCRIPTION:9 października 2022 roku w kościele św. Jakuba w Toruniu o godz. 10.00 będzie celebrowana Msza święta w intencji rychłej beatyfikacji Sługi Bożego biskupa Adolfa Piotra Szelążka. Dołącz do nas i módl się razem z nami. Serdecznie zapraszamy! \nWięcej informacji o Słudze Bożym biskupie Szelążku znajdziesz TUTAJ.
URL:https://terezjanki.org/wydarzenie/msza-sw-o-beatyfikacje-biskupa-szelazka/
ATTACH;FMTTYPE=image/jpeg:https://terezjanki.org/wp-content/uploads/2020/06/13-1.jpg
END:VEVENT
BEGIN:VEVENT
DTSTART;VALUE=DATE:20221010
DTEND;VALUE=DATE:20221011
DTSTAMP:20260420T011734
CREATED:20220922T094507Z
LAST-MODIFIED:20220922T094507Z
UID:14647-1665360000-1665446399@terezjanki.org
SUMMARY:Imieniny sióstr: Angeli i Danieli
DESCRIPTION:
URL:https://terezjanki.org/wydarzenie/imieniny-siostr-angeli-i-danieli/
ATTACH;FMTTYPE=image/jpeg:https://terezjanki.org/wp-content/uploads/2022/09/Roze-imieniny-wydarzenia.jpg
END:VEVENT
BEGIN:VEVENT
DTSTART;VALUE=DATE:20221013
DTEND;VALUE=DATE:20221014
DTSTAMP:20260420T011734
CREATED:20220922T094543Z
LAST-MODIFIED:20220922T094543Z
UID:14649-1665619200-1665705599@terezjanki.org
SUMMARY:Imieniny s. Honoraty
DESCRIPTION:
URL:https://terezjanki.org/wydarzenie/imieniny-s-honoraty/
ATTACH;FMTTYPE=image/jpeg:https://terezjanki.org/wp-content/uploads/2022/09/Roze-imieniny-wydarzenia.jpg
END:VEVENT
BEGIN:VEVENT
DTSTART;VALUE=DATE:20221014
DTEND;VALUE=DATE:20221015
DTSTAMP:20260420T011734
CREATED:20220922T094618Z
LAST-MODIFIED:20220922T095709Z
UID:14651-1665705600-1665791999@terezjanki.org
SUMMARY:Imieniny sióstr: Fortunaty i Małgorzaty
DESCRIPTION:
URL:https://terezjanki.org/wydarzenie/imieniny-siostr-fortunaty-i-malgorzaty/
ATTACH;FMTTYPE=image/jpeg:https://terezjanki.org/wp-content/uploads/2022/09/Roze-imieniny-wydarzenia.jpg
END:VEVENT
BEGIN:VEVENT
DTSTART;VALUE=DATE:20221022
DTEND;VALUE=DATE:20221023
DTSTAMP:20260420T011734
CREATED:20221022T133147Z
LAST-MODIFIED:20221022T133147Z
UID:15017-1666396800-1666483199@terezjanki.org
SUMMARY:Ukraińska strona internetowa Terezjanek
DESCRIPTION:Zapraszamy na nowo otwartą ukraińską stronę internetową Terezjanek. Będzie ona pomocą w pełnionym apostolacie siostrom posługującym na Ukrainie\, w Berdyczowie i Łucku. \nSerdecznie zapraszamy! \n  \n 
URL:https://terezjanki.org/wydarzenie/ukrainska-strona-internetowa-terezjanek/
ATTACH;FMTTYPE=image/jpeg:https://terezjanki.org/wp-content/uploads/2022/10/terezianki.org-2.jpg
END:VEVENT
END:VCALENDAR