BEGIN:VCALENDAR
VERSION:2.0
PRODID:-//Terezjanki - ECPv6.15.12.2//NONSGML v1.0//EN
CALSCALE:GREGORIAN
METHOD:PUBLISH
X-WR-CALNAME:Terezjanki
X-ORIGINAL-URL:https://terezjanki.org
X-WR-CALDESC:Wydarzenia dla Terezjanki
REFRESH-INTERVAL;VALUE=DURATION:PT1H
X-Robots-Tag:noindex
X-PUBLISHED-TTL:PT1H
BEGIN:VTIMEZONE
TZID:Europe/Warsaw
BEGIN:DAYLIGHT
TZOFFSETFROM:+0100
TZOFFSETTO:+0200
TZNAME:CEST
DTSTART:20210328T010000
END:DAYLIGHT
BEGIN:STANDARD
TZOFFSETFROM:+0200
TZOFFSETTO:+0100
TZNAME:CET
DTSTART:20211031T010000
END:STANDARD
BEGIN:DAYLIGHT
TZOFFSETFROM:+0100
TZOFFSETTO:+0200
TZNAME:CEST
DTSTART:20220327T010000
END:DAYLIGHT
BEGIN:STANDARD
TZOFFSETFROM:+0200
TZOFFSETTO:+0100
TZNAME:CET
DTSTART:20221030T010000
END:STANDARD
BEGIN:DAYLIGHT
TZOFFSETFROM:+0100
TZOFFSETTO:+0200
TZNAME:CEST
DTSTART:20230326T010000
END:DAYLIGHT
BEGIN:STANDARD
TZOFFSETFROM:+0200
TZOFFSETTO:+0100
TZNAME:CET
DTSTART:20231029T010000
END:STANDARD
END:VTIMEZONE
BEGIN:VEVENT
DTSTART;VALUE=DATE:20220724
DTEND;VALUE=DATE:20220801
DTSTAMP:20260420T053822
CREATED:20220117T205628Z
LAST-MODIFIED:20220117T205628Z
UID:12502-1658620800-1659311999@terezjanki.org
SUMMARY:Ogólnopolski Tydzień św. Krzysztofa
DESCRIPTION:W dniach 24-31 lipca obchodzony będzie 23. Ogólnopolski Tydzień św. Krzysztofa. Ta coroczna inicjatywa przypomina o potrzebie zachowania bezpieczeństwa na drodze i połączona jest z akcją „1 grosz za 1 kilometr”\, której celem jest zakup środków transportu potrzebnych w pracy misyjnej. \nTradycyjnie już w sierpniu Kościół w Polsce apeluje do wszystkich ludzi dobrej woli o dobrowolny dar abstynencji.
URL:https://terezjanki.org/wydarzenie/ogolnopolski-tydzien-sw-krzysztofa/
END:VEVENT
BEGIN:VEVENT
DTSTART;VALUE=DATE:20220724
DTEND;VALUE=DATE:20220725
DTSTAMP:20260420T053822
CREATED:20220215T160446Z
LAST-MODIFIED:20220215T160446Z
UID:12902-1658620800-1658707199@terezjanki.org
SUMMARY:II Światowy Dzień Dziadków i Osób Starszych
DESCRIPTION:W niedzielę 24 lipca 2022 roku\, w Kościele powszechnym obchodzony będzie II Światowy Dzień Dziadków i Osób Starszych. Temat wybrany przez Ojca Świętego na tę okazję brzmi: „Wydadzą owoc nawet i w starości” (Ps 92\, 15). Ma on na celu podkreślenie\, że dziadkowie i osoby starsze są wartością i darem zarówno dla społeczeństwa\, jak i dla wspólnot kościelnych – czytamy w komunikacie watykańskiej Dykasterii ds. Świeckich\, Rodziny i Życia. \nKomunikat podaje\, że temat ten jest zaproszeniem do ponownego przemyślenia i docenienia dziadków i osób starszych\, którzy zbyt często pozostają na marginesie rodzin\, wspólnot cywilnych i kościelnych. „Ich doświadczenie życiowe i wiara mogą pomóc w budowaniu społeczeństw świadomych swoich korzeni i zdolnych marzyć o przyszłości opartej na większej solidarności. Zaproszenie do wsłuchiwania się w mądrość lat nabiera szczególnego znaczenia także w kontekście drogi synodalnej\, którą podjął Kościół” – czytamy w komunikacie. \nDykasteria ds. Świeckich\, Rodziny i Życia zaprasza parafie\, diecezje\, stowarzyszenia i wspólnoty kościelne na całym świecie do znalezienia sposobów obchodzenia tego Dnia w ich własnym kontekście duszpasterskim i w tym celu udostępni odpowiednie narzędzia duszpasterskie. \nvaticannews / BP KEP
URL:https://terezjanki.org/wydarzenie/ii-swiatowy-dzien-dziadkow-i-osob-starszych/
END:VEVENT
END:VCALENDAR