BEGIN:VCALENDAR
VERSION:2.0
PRODID:-//Terezjanki - ECPv6.15.12.2//NONSGML v1.0//EN
CALSCALE:GREGORIAN
METHOD:PUBLISH
X-ORIGINAL-URL:https://terezjanki.org
X-WR-CALDESC:Wydarzenia dla Terezjanki
REFRESH-INTERVAL;VALUE=DURATION:PT1H
X-Robots-Tag:noindex
X-PUBLISHED-TTL:PT1H
BEGIN:VTIMEZONE
TZID:Europe/Warsaw
BEGIN:DAYLIGHT
TZOFFSETFROM:+0100
TZOFFSETTO:+0200
TZNAME:CEST
DTSTART:20250330T010000
END:DAYLIGHT
BEGIN:STANDARD
TZOFFSETFROM:+0200
TZOFFSETTO:+0100
TZNAME:CET
DTSTART:20251026T010000
END:STANDARD
BEGIN:DAYLIGHT
TZOFFSETFROM:+0100
TZOFFSETTO:+0200
TZNAME:CEST
DTSTART:20260329T010000
END:DAYLIGHT
BEGIN:STANDARD
TZOFFSETFROM:+0200
TZOFFSETTO:+0100
TZNAME:CET
DTSTART:20261025T010000
END:STANDARD
BEGIN:DAYLIGHT
TZOFFSETFROM:+0100
TZOFFSETTO:+0200
TZNAME:CEST
DTSTART:20270328T010000
END:DAYLIGHT
BEGIN:STANDARD
TZOFFSETFROM:+0200
TZOFFSETTO:+0100
TZNAME:CET
DTSTART:20271031T010000
END:STANDARD
END:VTIMEZONE
BEGIN:VEVENT
DTSTART;VALUE=DATE:20260218
DTEND;VALUE=DATE:20260219
DTSTAMP:20260419T185810
CREATED:20251228T145331Z
LAST-MODIFIED:20251228T145331Z
UID:22383-1771372800-1771459199@terezjanki.org
SUMMARY:Środa Popielcowa
DESCRIPTION:Pierwszy dzień Wielkiego Postu. W tym dniu wierni są zobowiązani do uczestnictwa we mszy świętej.
URL:https://terezjanki.org/wydarzenie/sroda-popielcowa-2/
ATTACH;FMTTYPE=image/jpeg:https://terezjanki.org/wp-content/uploads/2023/02/wielkipost.jpg
END:VEVENT
BEGIN:VEVENT
DTSTART;VALUE=DATE:20260220
DTEND;VALUE=DATE:20260221
DTSTAMP:20260419T185810
CREATED:20251228T145001Z
LAST-MODIFIED:20251228T145001Z
UID:22381-1771545600-1771631999@terezjanki.org
SUMMARY:Imieniny s. Hiacynty
DESCRIPTION:
URL:https://terezjanki.org/wydarzenie/imieniny-s-hiacynty-3/
ATTACH;FMTTYPE=image/jpeg:https://terezjanki.org/wp-content/uploads/2022/09/Roze-imieniny-wydarzenia.jpg
END:VEVENT
BEGIN:VEVENT
DTSTART;VALUE=DATE:20260224
DTEND;VALUE=DATE:20260225
DTSTAMP:20260419T185810
CREATED:20251228T145639Z
LAST-MODIFIED:20251228T145639Z
UID:22385-1771891200-1771977599@terezjanki.org
SUMMARY:Rocznica Ingresu
DESCRIPTION:24 lutego 1926 roku miał miejsce Ingres ks. biskupa Adolfa Piotra Szelążka do Katedry w Łucku na Wołyniu.
URL:https://terezjanki.org/wydarzenie/rocznica-ingresu-2/
ATTACH;FMTTYPE=image/jpeg:https://terezjanki.org/wp-content/uploads/2025/02/szelazek-pamiec.jpg
END:VEVENT
BEGIN:VEVENT
DTSTART;VALUE=DATE:20260228
DTEND;VALUE=DATE:20260301
DTSTAMP:20260419T185810
CREATED:20251231T111904Z
LAST-MODIFIED:20251231T111904Z
UID:22567-1772236800-1772323199@terezjanki.org
SUMMARY:Dzień skupienia dla kobiet w Wasilkowie
DESCRIPTION:Inspiracją tych spotkań jest duchowość św. Teresy od Dzieciątka Jezus\, która uczy prostoty\, ufności i oddania się Bogu w małych\, codziennych sprawach. Podczas dnia skupienia uczestniczki będą miały okazję lepiej poznać „Małą Drogę”\, zaczerpnąć duchowego wytchnienia\, umocnić wiarę oraz spojrzeć na swoje życie i wybory w świetle Bożej obecności.
URL:https://terezjanki.org/wydarzenie/dzien-skupienia-dla-kobiet-w-wasilkowie-2/
ATTACH;FMTTYPE=image/jpeg:https://terezjanki.org/wp-content/uploads/2025/12/Dzien-skupienia-dla-kobiet-Teresa-dziewczyna-kalendarz.jpg
END:VEVENT
BEGIN:VEVENT
DTSTART;VALUE=DATE:20260301
DTEND;VALUE=DATE:20260302
DTSTAMP:20260419T185810
CREATED:20251228T180601Z
LAST-MODIFIED:20251228T180601Z
UID:22388-1772323200-1772409599@terezjanki.org
SUMMARY:Imieniny s. Dawidy
DESCRIPTION:
URL:https://terezjanki.org/wydarzenie/imieniny-s-dawidy-3/
ATTACH;FMTTYPE=image/jpeg:https://terezjanki.org/wp-content/uploads/2022/09/Roze-imieniny-wydarzenia.jpg
END:VEVENT
BEGIN:VEVENT
DTSTART;VALUE=DATE:20260301
DTEND;VALUE=DATE:20260302
DTSTAMP:20260419T185810
CREATED:20251229T071542Z
LAST-MODIFIED:20251229T071542Z
UID:22390-1772323200-1772409599@terezjanki.org
SUMMARY:Niedziela Ad Gentes
DESCRIPTION:Jest to niedziela poświęcona wspieraniu polskich misjonarzy pracujących w krajach misyjnych poprzez modlitwę\, jałmużnę i solidarność.
URL:https://terezjanki.org/wydarzenie/niedziela-ad-gentes/
ATTACH;FMTTYPE=image/jpeg:https://terezjanki.org/wp-content/uploads/2023/02/misje-wyrozniajacy.jpg
END:VEVENT
BEGIN:VEVENT
DTSTART;VALUE=DATE:20260309
DTEND;VALUE=DATE:20260310
DTSTAMP:20260419T185810
CREATED:20251231T145528Z
LAST-MODIFIED:20251231T145528Z
UID:22583-1773014400-1773100799@terezjanki.org
SUMMARY:Msza święta o łaskę beatyfikacji
DESCRIPTION:W kościele św. Jakuba w Toruniu o godz. 18.00 celebrowana będzie Msza święta w intencji beatyfikacji Sługi Bożego biskupa Adolfa Piotra Szelążka.
URL:https://terezjanki.org/wydarzenie/msza-swieta-o-laske-beatyfikacji-5/
ATTACH;FMTTYPE=image/jpeg:https://terezjanki.org/wp-content/uploads/2025/01/Torun-Zalozyciel-grobowiec.jpg
END:VEVENT
BEGIN:VEVENT
DTSTART;VALUE=DATE:20260317
DTEND;VALUE=DATE:20260318
DTSTAMP:20260419T185810
CREATED:20251229T071640Z
LAST-MODIFIED:20251229T071640Z
UID:22392-1773705600-1773791999@terezjanki.org
SUMMARY:Imieniny s. Patrycji
DESCRIPTION:
URL:https://terezjanki.org/wydarzenie/imieniny-s-patrycji-3/
ATTACH;FMTTYPE=image/jpeg:https://terezjanki.org/wp-content/uploads/2022/09/Roze-imieniny-wydarzenia.jpg
END:VEVENT
BEGIN:VEVENT
DTSTART;VALUE=DATE:20260319
DTEND;VALUE=DATE:20260320
DTSTAMP:20260419T185810
CREATED:20251229T071847Z
LAST-MODIFIED:20251229T071847Z
UID:22394-1773878400-1773964799@terezjanki.org
SUMMARY:Uroczystość św. Józefa
DESCRIPTION:Święty Józef pochodził z rodu króla Dawida. Mimo wysokiego pochodzenia na życie zarabiał stolarstwem i pracą jako cieśla. Choć nie był według ciała ojcem Chrystusa\, to jednak był nim według prawa żydowskiego jako prawomocny małżonek Maryi.
URL:https://terezjanki.org/wydarzenie/uroczystosc-sw-jozefa-3/
ATTACH;FMTTYPE=image/jpeg:https://terezjanki.org/wp-content/uploads/2021/01/św.-Józef.jpg
END:VEVENT
BEGIN:VEVENT
DTSTART;VALUE=DATE:20260319
DTEND;VALUE=DATE:20260320
DTSTAMP:20260419T185810
CREATED:20251229T072012Z
LAST-MODIFIED:20251229T090539Z
UID:22396-1773878400-1773964799@terezjanki.org
SUMMARY:Zatwierdzenie na prawie papieskim
DESCRIPTION:19 marca 1993 r. w uroczystość świętego Józefa\, Oblubieńca Najświętszej Maryi Panny\, Zgromadzenie Sióstr św. Teresy od Dzieciątka Jezus otrzymało status zakonnego instytutu habitowego na prawie papieskim.
URL:https://terezjanki.org/wydarzenie/zatwierdzenie-na-prawie-papieskim/
ATTACH;FMTTYPE=image/jpeg:https://terezjanki.org/wp-content/uploads/2020/10/Rzym-siostry-i-JPII-1.jpg
END:VEVENT
BEGIN:VEVENT
DTSTART;VALUE=DATE:20260325
DTEND;VALUE=DATE:20260326
DTSTAMP:20260419T185810
CREATED:20251229T072146Z
LAST-MODIFIED:20251229T072146Z
UID:22398-1774396800-1774483199@terezjanki.org
SUMMARY:Uroczystość Zwiastowania Pańskiego
DESCRIPTION:W Uroczystość Zwiastowania Pańskiego wspomina się przyjście archanioła Gabriela do Maryi\, by zwiastować Jej\, że za sprawą Ducha Świętego pocznie Syna Bożego. W Polsce od 1998 r. tego dnia obchodzony jest Dzień Świętości Życia.
URL:https://terezjanki.org/wydarzenie/uroczystosc-zwiastowania-panskiego-2/
ATTACH;FMTTYPE=image/jpeg:https://terezjanki.org/wp-content/uploads/2024/04/maryja-dziewica.jpg
END:VEVENT
BEGIN:VEVENT
DTSTART;VALUE=DATE:20260325
DTEND;VALUE=DATE:20260326
DTSTAMP:20260419T185810
CREATED:20251229T072240Z
LAST-MODIFIED:20251229T072240Z
UID:22400-1774396800-1774483199@terezjanki.org
SUMMARY:Imieniny s. Ancilii
DESCRIPTION:
URL:https://terezjanki.org/wydarzenie/imieniny-s-ancilii/
ATTACH;FMTTYPE=image/jpeg:https://terezjanki.org/wp-content/uploads/2022/09/Roze-imieniny-wydarzenia.jpg
END:VEVENT
BEGIN:VEVENT
DTSTART;VALUE=DATE:20260327
DTEND;VALUE=DATE:20260328
DTSTAMP:20260419T185810
CREATED:20251229T072414Z
LAST-MODIFIED:20251229T080249Z
UID:22402-1774569600-1774655999@terezjanki.org
SUMMARY:Imieniny s. Ernesty
DESCRIPTION:
URL:https://terezjanki.org/wydarzenie/imieniny-s-ernesty-2/
ATTACH;FMTTYPE=image/jpeg:https://terezjanki.org/wp-content/uploads/2022/09/Roze-imieniny-wydarzenia.jpg
END:VEVENT
BEGIN:VEVENT
DTSTART;VALUE=DATE:20260328
DTEND;VALUE=DATE:20260329
DTSTAMP:20260419T185810
CREATED:20251231T112003Z
LAST-MODIFIED:20251231T112003Z
UID:22569-1774656000-1774742399@terezjanki.org
SUMMARY:Dzień skupienia dla kobiet w Wasilkowie
DESCRIPTION:Inspiracją tych spotkań jest duchowość św. Teresy od Dzieciątka Jezus\, która uczy prostoty\, ufności i oddania się Bogu w małych\, codziennych sprawach. Podczas dnia skupienia uczestniczki będą miały okazję lepiej poznać „Małą Drogę”\, zaczerpnąć duchowego wytchnienia\, umocnić wiarę oraz spojrzeć na swoje życie i wybory w świetle Bożej obecności.
URL:https://terezjanki.org/wydarzenie/dzien-skupienia-dla-kobiet-w-wasilkowie-3/
ATTACH;FMTTYPE=image/jpeg:https://terezjanki.org/wp-content/uploads/2025/12/Dzien-skupienia-dla-kobiet-Teresa-dziewczyna-kalendarz.jpg
END:VEVENT
BEGIN:VEVENT
DTSTART;VALUE=DATE:20260329
DTEND;VALUE=DATE:20260330
DTSTAMP:20260419T185810
CREATED:20251229T072623Z
LAST-MODIFIED:20251229T072623Z
UID:22406-1774742400-1774828799@terezjanki.org
SUMMARY:Niedziela Palmowa
DESCRIPTION:Niedziela Palmowa\, czyli Niedziela Męki Pańskiej rozpoczyna Wielki Tydzień. Ustanowiona została na pamiątkę wjazdu Jezusa Chrystus do Jerozolimy. W tym dniu uczestniczymy w uroczystej procesji z poświęconymi palmami.
URL:https://terezjanki.org/wydarzenie/niedziela-palmowa-2/
ATTACH;FMTTYPE=image/jpeg:https://terezjanki.org/wp-content/uploads/2025/03/Niedziela-Palmowa.jpg
END:VEVENT
BEGIN:VEVENT
DTSTART;VALUE=DATE:20260331
DTEND;VALUE=DATE:20260401
DTSTAMP:20260419T185810
CREATED:20251229T072515Z
LAST-MODIFIED:20251229T072515Z
UID:22404-1774915200-1775001599@terezjanki.org
SUMMARY:Imieniny s. Beniaminy
DESCRIPTION:
URL:https://terezjanki.org/wydarzenie/imieniny-s-beniaminy-3/
ATTACH;FMTTYPE=image/jpeg:https://terezjanki.org/wp-content/uploads/2022/09/Roze-imieniny-wydarzenia.jpg
END:VEVENT
BEGIN:VEVENT
DTSTART;VALUE=DATE:20260402
DTEND;VALUE=DATE:20260403
DTSTAMP:20260419T185810
CREATED:20251229T073055Z
LAST-MODIFIED:20251229T073055Z
UID:22408-1775088000-1775174399@terezjanki.org
SUMMARY:Rocznica śmierci św. Jana Pawła II
DESCRIPTION:2 kwietnia 2025 roku odszedł do Domu Ojca w niebie św. Jan Paweł II. Rocznica śmierci papieża Polaka jest dniem wdzięczności za dar jego osoby.
URL:https://terezjanki.org/wydarzenie/rocznica-smierci-sw-jana-pawla-ii-2/
ATTACH;FMTTYPE=image/jpeg:https://terezjanki.org/wp-content/uploads/2023/04/Jan-Pawel-II-rocznica-smierci.jpeg
END:VEVENT
BEGIN:VEVENT
DTSTART;VALUE=DATE:20260402
DTEND;VALUE=DATE:20260403
DTSTAMP:20260419T185810
CREATED:20251229T080618Z
LAST-MODIFIED:20251229T080618Z
UID:22414-1775088000-1775174399@terezjanki.org
SUMMARY:Wielki Czwartek
DESCRIPTION:Rozpoczyna Święte Triduum Paschalne. W tym dniu wspominamy ustanowienie podczas Ostatniej Wieczerzy sakramentu Eucharystii i kapłaństwa.
URL:https://terezjanki.org/wydarzenie/wielki-czwartek-2/
ATTACH;FMTTYPE=image/jpeg:https://terezjanki.org/wp-content/uploads/2025/03/Wielki-Czwartek.jpg
END:VEVENT
BEGIN:VEVENT
DTSTART;VALUE=DATE:20260403
DTEND;VALUE=DATE:20260404
DTSTAMP:20260419T185810
CREATED:20251229T080728Z
LAST-MODIFIED:20251229T080728Z
UID:22416-1775174400-1775260799@terezjanki.org
SUMMARY:Wielki Piątek
DESCRIPTION:Jest dniem zadumy\, skupienia i modlitwy. W tym dniu rozważamy misterium Męki Chrystusa.
URL:https://terezjanki.org/wydarzenie/wielki-piatek-2/
ATTACH;FMTTYPE=image/jpeg:https://terezjanki.org/wp-content/uploads/2025/03/Wielki-Piatek.jpg
END:VEVENT
BEGIN:VEVENT
DTSTART;VALUE=DATE:20260404
DTEND;VALUE=DATE:20260405
DTSTAMP:20260419T185810
CREATED:20251229T080838Z
LAST-MODIFIED:20251229T080838Z
UID:22418-1775260800-1775347199@terezjanki.org
SUMMARY:Wielka Sobota
DESCRIPTION:Wielka Sobota to czas żałoby po śmierci Jezusa oraz oczekiwania na Paschę. W tym dniu tradycyjnie święcimy pokarmy na stół wielkanocny. Wieczorem celebrowana jest Wigilia Paschalna.
URL:https://terezjanki.org/wydarzenie/wielka-sobota-2/
ATTACH;FMTTYPE=image/jpeg:https://terezjanki.org/wp-content/uploads/2025/03/Wielka-Sobota.jpg
END:VEVENT
BEGIN:VEVENT
DTSTART;VALUE=DATE:20260405
DTEND;VALUE=DATE:20260406
DTSTAMP:20260419T185810
CREATED:20251229T080337Z
LAST-MODIFIED:20251229T080337Z
UID:22410-1775347200-1775433599@terezjanki.org
SUMMARY:Imieniny s. Ireny
DESCRIPTION:
URL:https://terezjanki.org/wydarzenie/imieniny-s-ireny-2/
ATTACH;FMTTYPE=image/jpeg:https://terezjanki.org/wp-content/uploads/2022/09/Roze-imieniny-wydarzenia.jpg
END:VEVENT
BEGIN:VEVENT
DTSTART;VALUE=DATE:20260405
DTEND;VALUE=DATE:20260406
DTSTAMP:20260419T185810
CREATED:20251229T081017Z
LAST-MODIFIED:20251229T081017Z
UID:22420-1775347200-1775433599@terezjanki.org
SUMMARY:Zmartwychwstanie Pańskie
DESCRIPTION:Wielkanoc to radosna celebracja zwycięstwa Chrystusa nad grzechem i śmiercią.
URL:https://terezjanki.org/wydarzenie/zmartwychwstanie-panskie-2/
ATTACH;FMTTYPE=image/jpeg:https://terezjanki.org/wp-content/uploads/2025/03/Wielkanoc.jpg
END:VEVENT
BEGIN:VEVENT
DTSTART;VALUE=DATE:20260409
DTEND;VALUE=DATE:20260410
DTSTAMP:20260419T185810
CREATED:20251229T081208Z
LAST-MODIFIED:20251229T081208Z
UID:22422-1775692800-1775779199@terezjanki.org
SUMMARY:Rocznica wstąpienia św. Teresy do Karmelu
DESCRIPTION:Św. Teresa od Dzieciątka Jezus wstąpiła do Karmelu w Lisieux 9 kwietnia 1888 roku.
URL:https://terezjanki.org/wydarzenie/rocznica-wstapienia-sw-teresy-do-karmelu/
ATTACH;FMTTYPE=image/jpeg:https://terezjanki.org/wp-content/uploads/2021/03/8-1.jpg
END:VEVENT
BEGIN:VEVENT
DTSTART;VALUE=DATE:20260409
DTEND;VALUE=DATE:20260410
DTSTAMP:20260419T185810
CREATED:20251231T145654Z
LAST-MODIFIED:20251231T145654Z
UID:22585-1775692800-1775779199@terezjanki.org
SUMMARY:Msza święta o łaskę beatyfikacji
DESCRIPTION:W kościele św. Jakuba w Toruniu o godz. 18.00 celebrowana będzie Msza święta w intencji beatyfikacji Sługi Bożego biskupa Adolfa Piotra Szelążka.
URL:https://terezjanki.org/wydarzenie/msza-swieta-o-laske-beatyfikacji-6/
ATTACH;FMTTYPE=image/jpeg:https://terezjanki.org/wp-content/uploads/2025/01/Torun-Zalozyciel-grobowiec.jpg
END:VEVENT
BEGIN:VEVENT
DTSTART;VALUE=DATE:20260412
DTEND;VALUE=DATE:20260413
DTSTAMP:20260419T185810
CREATED:20251229T081340Z
LAST-MODIFIED:20251229T081340Z
UID:22424-1775952000-1776038399@terezjanki.org
SUMMARY:Niedziela Miłosierdzia Bożego
DESCRIPTION:Niedziela Miłosierdzia Bożego\, czyli Święto Miłosierdzia w Kościele katolickim to uroczystość liturgiczna obchodzona w pierwszą niedzielę po Wielkanocy ku czci Miłosierdzia Bożego\, czyli II Niedzielę Wielkanocną. Uroczystość została ustanowiona w 2000 roku przez św. Jana Pawła II. W tym dniu przyjmując Komunię świętą\, można uzyskać odpust zupełny.
URL:https://terezjanki.org/wydarzenie/niedziela-milosierdzia-bozego-2/
ATTACH;FMTTYPE=image/jpeg:https://terezjanki.org/wp-content/uploads/2022/04/Oredzie-milosierdzia.jpg
END:VEVENT
BEGIN:VEVENT
DTSTART;VALUE=DATE:20260418
DTEND;VALUE=DATE:20260419
DTSTAMP:20260419T185810
CREATED:20251229T080433Z
LAST-MODIFIED:20251229T080433Z
UID:22412-1776470400-1776556799@terezjanki.org
SUMMARY:Imieniny s. Bogusławy
DESCRIPTION:
URL:https://terezjanki.org/wydarzenie/imieniny-s-boguslawy-2/
ATTACH;FMTTYPE=image/jpeg:https://terezjanki.org/wp-content/uploads/2022/09/Roze-imieniny-wydarzenia.jpg
END:VEVENT
BEGIN:VEVENT
DTSTART;VALUE=DATE:20260419
DTEND;VALUE=DATE:20260420
DTSTAMP:20260419T185810
CREATED:20251229T081659Z
LAST-MODIFIED:20251229T081659Z
UID:22426-1776556800-1776643199@terezjanki.org
SUMMARY:Niedziela Biblijna
DESCRIPTION:W Niedzielę Biblijną kładzie się szczególny nacisk na pogłębianie znajomości Pisma Świętego poprzez wspólne czytanie i refleksję\, zarówno w rodzinach\, jak i w parafiach.
URL:https://terezjanki.org/wydarzenie/niedziela-biblijna/
ATTACH;FMTTYPE=image/jpeg:https://terezjanki.org/wp-content/uploads/2022/04/Biblia-zobacz.jpg
END:VEVENT
BEGIN:VEVENT
DTSTART;TZID=Europe/Warsaw:20260419T070000
DTEND;TZID=Europe/Warsaw:20260425T170000
DTSTAMP:20260419T185810
CREATED:20251229T082043Z
LAST-MODIFIED:20251229T082043Z
UID:22428-1776582000-1777136400@terezjanki.org
SUMMARY:Tydzień Biblijny
DESCRIPTION:Rozpoczyna się Narodowe Czytanie Pisma Świętego. Głównym celem Tygodnia Biblijnego jest uświadomienie znaczenia Słowa Bożego w życiu wiary\, budowanie wspólnoty oraz promowanie czytania Biblii\, również za pomocą nowoczesnych technologii.
URL:https://terezjanki.org/wydarzenie/tydzien-biblijny/
ATTACH;FMTTYPE=image/jpeg:https://terezjanki.org/wp-content/uploads/2020/08/s-Nikodema-1200x1200-1.jpg
END:VEVENT
BEGIN:VEVENT
DTSTART;VALUE=DATE:20260425
DTEND;VALUE=DATE:20260426
DTSTAMP:20260419T185811
CREATED:20251231T112111Z
LAST-MODIFIED:20251231T112111Z
UID:22571-1777075200-1777161599@terezjanki.org
SUMMARY:Dzień skupienia dla kobiet w Wasilkowie
DESCRIPTION:Inspiracją tych spotkań jest duchowość św. Teresy od Dzieciątka Jezus\, która uczy prostoty\, ufności i oddania się Bogu w małych\, codziennych sprawach. Podczas dnia skupienia uczestniczki będą miały okazję lepiej poznać „Małą Drogę”\, zaczerpnąć duchowego wytchnienia\, umocnić wiarę oraz spojrzeć na swoje życie i wybory w świetle Bożej obecności.
URL:https://terezjanki.org/wydarzenie/dzien-skupienia-dla-kobiet-w-wasilkowie-4/
ATTACH;FMTTYPE=image/jpeg:https://terezjanki.org/wp-content/uploads/2025/12/Dzien-skupienia-dla-kobiet-Teresa-dziewczyna-kalendarz.jpg
END:VEVENT
BEGIN:VEVENT
DTSTART;VALUE=DATE:20260426
DTEND;VALUE=DATE:20260427
DTSTAMP:20260419T185811
CREATED:20251229T082236Z
LAST-MODIFIED:20251229T082236Z
UID:22430-1777161600-1777247999@terezjanki.org
SUMMARY:Niedziela Dobrego Pasterza
DESCRIPTION:Jest to dzień poświęcony modlitwie o powołania kapłańskie\, zakonne i misyjne\, podczas którego szczególnie uwielbia się Jezusa jako Pasterza\, który oddaje życie za swoje owce.
URL:https://terezjanki.org/wydarzenie/niedziela-dobrego-pasterza-2/
ATTACH;FMTTYPE=image/jpeg:https://terezjanki.org/wp-content/uploads/2020/05/Dobry-Pasterz.jpg
END:VEVENT
END:VCALENDAR