BEGIN:VCALENDAR
VERSION:2.0
PRODID:-//Terezjanki - ECPv6.15.12.2//NONSGML v1.0//EN
CALSCALE:GREGORIAN
METHOD:PUBLISH
X-WR-CALNAME:Terezjanki
X-ORIGINAL-URL:https://terezjanki.org
X-WR-CALDESC:Wydarzenia dla Terezjanki
REFRESH-INTERVAL;VALUE=DURATION:PT1H
X-Robots-Tag:noindex
X-PUBLISHED-TTL:PT1H
BEGIN:VTIMEZONE
TZID:Europe/Warsaw
BEGIN:DAYLIGHT
TZOFFSETFROM:+0100
TZOFFSETTO:+0200
TZNAME:CEST
DTSTART:20250330T010000
END:DAYLIGHT
BEGIN:STANDARD
TZOFFSETFROM:+0200
TZOFFSETTO:+0100
TZNAME:CET
DTSTART:20251026T010000
END:STANDARD
BEGIN:DAYLIGHT
TZOFFSETFROM:+0100
TZOFFSETTO:+0200
TZNAME:CEST
DTSTART:20260329T010000
END:DAYLIGHT
BEGIN:STANDARD
TZOFFSETFROM:+0200
TZOFFSETTO:+0100
TZNAME:CET
DTSTART:20261025T010000
END:STANDARD
BEGIN:DAYLIGHT
TZOFFSETFROM:+0100
TZOFFSETTO:+0200
TZNAME:CEST
DTSTART:20270328T010000
END:DAYLIGHT
BEGIN:STANDARD
TZOFFSETFROM:+0200
TZOFFSETTO:+0100
TZNAME:CET
DTSTART:20271031T010000
END:STANDARD
END:VTIMEZONE
BEGIN:VEVENT
DTSTART;VALUE=DATE:20261010
DTEND;VALUE=DATE:20261011
DTSTAMP:20260419T232348
CREATED:20260102T080115Z
LAST-MODIFIED:20260102T080115Z
UID:22632-1791590400-1791676799@terezjanki.org
SUMMARY:Imieniny s. Angeli
DESCRIPTION:
URL:https://terezjanki.org/wydarzenie/imieniny-s-angeli/
ATTACH;FMTTYPE=image/jpeg:https://terezjanki.org/wp-content/uploads/2022/09/Roze-imieniny-wydarzenia.jpg
END:VEVENT
BEGIN:VEVENT
DTSTART;VALUE=DATE:20261010
DTEND;VALUE=DATE:20261011
DTSTAMP:20260419T232348
CREATED:20260102T080210Z
LAST-MODIFIED:20260102T080210Z
UID:22634-1791590400-1791676799@terezjanki.org
SUMMARY:Imieniny s. Danieli
DESCRIPTION:
URL:https://terezjanki.org/wydarzenie/imieniny-s-danieli/
ATTACH;FMTTYPE=image/jpeg:https://terezjanki.org/wp-content/uploads/2022/09/Roze-imieniny-wydarzenia.jpg
END:VEVENT
BEGIN:VEVENT
DTSTART;VALUE=DATE:20261013
DTEND;VALUE=DATE:20261014
DTSTAMP:20260419T232348
CREATED:20260102T080258Z
LAST-MODIFIED:20260102T080258Z
UID:22636-1791849600-1791935999@terezjanki.org
SUMMARY:Imieniny s. Honoraty
DESCRIPTION:
URL:https://terezjanki.org/wydarzenie/imieniny-s-honoraty-2/
ATTACH;FMTTYPE=image/jpeg:https://terezjanki.org/wp-content/uploads/2022/09/Roze-imieniny-wydarzenia.jpg
END:VEVENT
BEGIN:VEVENT
DTSTART;VALUE=DATE:20261014
DTEND;VALUE=DATE:20261015
DTSTAMP:20260419T232348
CREATED:20260102T080352Z
LAST-MODIFIED:20260102T080352Z
UID:22638-1791936000-1792022399@terezjanki.org
SUMMARY:Imieniny s. Fortunaty
DESCRIPTION:
URL:https://terezjanki.org/wydarzenie/imieniny-s-fortunaty/
ATTACH;FMTTYPE=image/jpeg:https://terezjanki.org/wp-content/uploads/2022/09/Roze-imieniny-wydarzenia.jpg
END:VEVENT
BEGIN:VEVENT
DTSTART;VALUE=DATE:20261014
DTEND;VALUE=DATE:20261015
DTSTAMP:20260419T232348
CREATED:20260102T080445Z
LAST-MODIFIED:20260102T080445Z
UID:22640-1791936000-1792022399@terezjanki.org
SUMMARY:Imieniny s. Małgorzaty
DESCRIPTION:
URL:https://terezjanki.org/wydarzenie/imieniny-s-malgorzaty/
ATTACH;FMTTYPE=image/jpeg:https://terezjanki.org/wp-content/uploads/2022/09/Roze-imieniny-wydarzenia.jpg
END:VEVENT
BEGIN:VEVENT
DTSTART;VALUE=DATE:20261015
DTEND;VALUE=DATE:20261016
DTSTAMP:20260419T232348
CREATED:20260102T080739Z
LAST-MODIFIED:20260102T080813Z
UID:22642-1792022400-1792108799@terezjanki.org
SUMMARY:Uroczystość św. Teresy od Jezusa
DESCRIPTION:W naszym Zgromadzeniu celebrujemy wspomnienie św. Teresy od Jezusa\, jako uroczystość z racji agregacji naszej rodziny zakonnej do Karmelu.
URL:https://terezjanki.org/wydarzenie/uroczystosc-sw-teresy-od-jezusa/
ATTACH;FMTTYPE=image/jpeg:https://terezjanki.org/wp-content/uploads/2024/10/Teresa-Wielka.jpg
END:VEVENT
BEGIN:VEVENT
DTSTART;VALUE=DATE:20261018
DTEND;VALUE=DATE:20261019
DTSTAMP:20260419T232348
CREATED:20260102T081029Z
LAST-MODIFIED:20260102T081029Z
UID:22645-1792281600-1792367999@terezjanki.org
SUMMARY:Rocznica kanonizacji Rodziców św. Teresy
DESCRIPTION:Rodzice św. Teresy od Dzieciątka Jezus\, Ludwik i Zelia Martin\, zostali kanonizowani 18 października 2015 roku przez Papieża Franciszka podczas Synodu Biskupów o rodzinie w Watykanie\, stając się pierwszą w historii Kościoła parą małżeńską kanonizowaną razem\, co miało miejsce w kontekście rozważań o rodzinie\, by pokazać wzór sakramentalnego małżeństwa.
URL:https://terezjanki.org/wydarzenie/rocznica-kanonizacji-rodzicow-sw-teresy/
ATTACH;FMTTYPE=image/jpeg:https://terezjanki.org/wp-content/uploads/2025/11/obrazek-wyrozniajacy-Ludwik-i-Zelia-Martin.jpg
END:VEVENT
BEGIN:VEVENT
DTSTART;VALUE=DATE:20261021
DTEND;VALUE=DATE:20261022
DTSTAMP:20260419T232348
CREATED:20260102T081137Z
LAST-MODIFIED:20260102T081137Z
UID:22648-1792540800-1792627199@terezjanki.org
SUMMARY:Imieniny s. Urszuli
DESCRIPTION:
URL:https://terezjanki.org/wydarzenie/imieniny-s-urszuli/
ATTACH;FMTTYPE=image/jpeg:https://terezjanki.org/wp-content/uploads/2022/09/Roze-imieniny-wydarzenia.jpg
END:VEVENT
BEGIN:VEVENT
DTSTART;VALUE=DATE:20261023
DTEND;VALUE=DATE:20261024
DTSTAMP:20260419T232348
CREATED:20260102T081222Z
LAST-MODIFIED:20260102T081222Z
UID:22650-1792713600-1792799999@terezjanki.org
SUMMARY:Imieniny s. Marleny
DESCRIPTION:
URL:https://terezjanki.org/wydarzenie/imieniny-s-marleny/
ATTACH;FMTTYPE=image/jpeg:https://terezjanki.org/wp-content/uploads/2022/09/Roze-imieniny-wydarzenia.jpg
END:VEVENT
BEGIN:VEVENT
DTSTART;VALUE=DATE:20261028
DTEND;VALUE=DATE:20261029
DTSTAMP:20260419T232348
CREATED:20260102T081325Z
LAST-MODIFIED:20260102T081325Z
UID:22652-1793145600-1793231999@terezjanki.org
SUMMARY:Imieniny s. Judyty
DESCRIPTION:
URL:https://terezjanki.org/wydarzenie/imieniny-s-judyty/
ATTACH;FMTTYPE=image/jpeg:https://terezjanki.org/wp-content/uploads/2022/09/Roze-imieniny-wydarzenia.jpg
END:VEVENT
BEGIN:VEVENT
DTSTART;VALUE=DATE:20261029
DTEND;VALUE=DATE:20261030
DTSTAMP:20260419T232348
CREATED:20260102T081508Z
LAST-MODIFIED:20260102T081508Z
UID:22654-1793232000-1793318399@terezjanki.org
SUMMARY:Imieniny s. Wioletty
DESCRIPTION:
URL:https://terezjanki.org/wydarzenie/imieniny-s-wioletty/
ATTACH;FMTTYPE=image/jpeg:https://terezjanki.org/wp-content/uploads/2022/09/Roze-imieniny-wydarzenia.jpg
END:VEVENT
BEGIN:VEVENT
DTSTART;VALUE=DATE:20261101
DTEND;VALUE=DATE:20261102
DTSTAMP:20260419T232348
CREATED:20260102T082604Z
LAST-MODIFIED:20260102T082604Z
UID:22656-1793491200-1793577599@terezjanki.org
SUMMARY:Uroczystość Wszystkich Świętych
DESCRIPTION:Uroczystość ku czci wszystkich chrześcijan\, którzy osiągnęli stan zbawienia i przebywają w niebie. W doktrynie Kościoła Katolickiego jest wyrazem wiary w obcowanie świętych i powszechne powołanie do świętości.
URL:https://terezjanki.org/wydarzenie/uroczystosc-wszystkich-swietych/
ATTACH;FMTTYPE=image/jpeg:https://terezjanki.org/wp-content/uploads/2026/01/orszak-swietych.jpg
END:VEVENT
BEGIN:VEVENT
DTSTART;VALUE=DATE:20261102
DTEND;VALUE=DATE:20261103
DTSTAMP:20260419T232348
CREATED:20260102T083017Z
LAST-MODIFIED:20260102T083017Z
UID:22660-1793577600-1793663999@terezjanki.org
SUMMARY:Wspomnienie Wszystkich Wiernych Zmarłych
DESCRIPTION:Dzień modlitw za zmarłych\, którzy cierpią w czyśćcu i jeszcze nie osiągnęli zbawienia w niebie. Nazywany jest również Dniem Zadusznym.
URL:https://terezjanki.org/wydarzenie/wspomnienie-wszystkich-wiernych-zmarlych/
ATTACH;FMTTYPE=image/jpeg:https://terezjanki.org/wp-content/uploads/2026/01/dzien-zaduszny.jpg
END:VEVENT
BEGIN:VEVENT
DTSTART;VALUE=DATE:20261103
DTEND;VALUE=DATE:20261104
DTSTAMP:20260419T232348
CREATED:20260102T083100Z
LAST-MODIFIED:20260102T083100Z
UID:22663-1793664000-1793750399@terezjanki.org
SUMMARY:Imieniny s. Sylwii
DESCRIPTION:
URL:https://terezjanki.org/wydarzenie/imieniny-s-sylwii/
ATTACH;FMTTYPE=image/jpeg:https://terezjanki.org/wp-content/uploads/2022/09/Roze-imieniny-wydarzenia.jpg
END:VEVENT
BEGIN:VEVENT
DTSTART;VALUE=DATE:20261108
DTEND;VALUE=DATE:20261109
DTSTAMP:20260419T232348
CREATED:20260102T083337Z
LAST-MODIFIED:20260102T083337Z
UID:22665-1794096000-1794182399@terezjanki.org
SUMMARY:Imieniny s. Elżbiety
DESCRIPTION:
URL:https://terezjanki.org/wydarzenie/imieniny-s-elzbiety/
ATTACH;FMTTYPE=image/jpeg:https://terezjanki.org/wp-content/uploads/2022/09/Roze-imieniny-wydarzenia.jpg
END:VEVENT
BEGIN:VEVENT
DTSTART;VALUE=DATE:20261109
DTEND;VALUE=DATE:20261110
DTSTAMP:20260419T232348
CREATED:20251231T150419Z
LAST-MODIFIED:20251231T150419Z
UID:22599-1794182400-1794268799@terezjanki.org
SUMMARY:Msza święta o łaskę beatyfikacji
DESCRIPTION:W kościele św. Jakuba w Toruniu o godz. 18.00 celebrowana będzie Msza święta w intencji beatyfikacji Sługi Bożego biskupa Adolfa Piotra Szelążka.
URL:https://terezjanki.org/wydarzenie/msza-swieta-o-laske-beatyfikacji-13/
ATTACH;FMTTYPE=image/jpeg:https://terezjanki.org/wp-content/uploads/2025/01/Torun-Zalozyciel-grobowiec.jpg
END:VEVENT
BEGIN:VEVENT
DTSTART;VALUE=DATE:20261112
DTEND;VALUE=DATE:20261113
DTSTAMP:20260419T232348
CREATED:20260102T083426Z
LAST-MODIFIED:20260102T083426Z
UID:22667-1794441600-1794527999@terezjanki.org
SUMMARY:Imieniny s. Renaty
DESCRIPTION:
URL:https://terezjanki.org/wydarzenie/imieniny-s-renaty/
ATTACH;FMTTYPE=image/jpeg:https://terezjanki.org/wp-content/uploads/2022/09/Roze-imieniny-wydarzenia.jpg
END:VEVENT
BEGIN:VEVENT
DTSTART;VALUE=DATE:20261118
DTEND;VALUE=DATE:20261119
DTSTAMP:20260419T232348
CREATED:20260102T083525Z
LAST-MODIFIED:20260102T083525Z
UID:22669-1794960000-1795046399@terezjanki.org
SUMMARY:Imieniny s. Karoliny
DESCRIPTION:
URL:https://terezjanki.org/wydarzenie/imieniny-s-karoliny/
ATTACH;FMTTYPE=image/jpeg:https://terezjanki.org/wp-content/uploads/2022/09/Roze-imieniny-wydarzenia.jpg
END:VEVENT
BEGIN:VEVENT
DTSTART;VALUE=DATE:20261122
DTEND;VALUE=DATE:20261123
DTSTAMP:20260419T232348
CREATED:20260102T083920Z
LAST-MODIFIED:20260102T083920Z
UID:22671-1795305600-1795391999@terezjanki.org
SUMMARY:Uroczystość Chrystusa Króla
DESCRIPTION:Uroczystość ku czci Chrystusa Króla\, którą wprowadził do liturgii Kościoła Katolickiego papież Pius XI na zakończenie roku jubileuszowego 11 grudnia 1925 r. Uroczystość została wprowadzona w całym Kościele encykliką Quas Primas.
URL:https://terezjanki.org/wydarzenie/uroczystosc-chrystusa-krola/
ATTACH;FMTTYPE=image/jpeg:https://terezjanki.org/wp-content/uploads/2026/01/Chrystus-krol.jpg
END:VEVENT
BEGIN:VEVENT
DTSTART;VALUE=DATE:20261208
DTEND;VALUE=DATE:20261209
DTSTAMP:20260419T232348
CREATED:20260102T084449Z
LAST-MODIFIED:20260102T084449Z
UID:22675-1796688000-1796774399@terezjanki.org
SUMMARY:Uroczystość Niepokalanego Poczęcia NMP
DESCRIPTION:Uroczystość Niepokalanego Poczęcia NMP upamiętnia prawdę\, że Maryja od momentu swojego poczęcia była wolna od grzechu pierworodnego\, co zostało ogłoszone dogmatem w 1854 roku przez Piusa IX.
URL:https://terezjanki.org/wydarzenie/uroczystosc-niepokalanego-poczecia-nmp/
ATTACH;FMTTYPE=image/png:https://terezjanki.org/wp-content/uploads/2022/10/Maryja_Medjugorie.png
END:VEVENT
BEGIN:VEVENT
DTSTART;VALUE=DATE:20261209
DTEND;VALUE=DATE:20261210
DTSTAMP:20260419T232348
CREATED:20251231T150528Z
LAST-MODIFIED:20251231T150528Z
UID:22601-1796774400-1796860799@terezjanki.org
SUMMARY:Msza święta o łaskę beatyfikacji
DESCRIPTION:W kościele św. Jakuba w Toruniu o godz. 18.00 celebrowana będzie Msza święta w intencji beatyfikacji Sługi Bożego biskupa Adolfa Piotra Szelążka.
URL:https://terezjanki.org/wydarzenie/msza-swieta-o-laske-beatyfikacji-14/
ATTACH;FMTTYPE=image/jpeg:https://terezjanki.org/wp-content/uploads/2025/01/Torun-Zalozyciel-grobowiec.jpg
END:VEVENT
BEGIN:VEVENT
DTSTART;VALUE=DATE:20261213
DTEND;VALUE=DATE:20261214
DTSTAMP:20260419T232348
CREATED:20260102T084551Z
LAST-MODIFIED:20260102T084551Z
UID:22679-1797120000-1797206399@terezjanki.org
SUMMARY:Imieniny s. Łucji
DESCRIPTION:
URL:https://terezjanki.org/wydarzenie/imieniny-s-lucji-2/
ATTACH;FMTTYPE=image/jpeg:https://terezjanki.org/wp-content/uploads/2022/09/Roze-imieniny-wydarzenia.jpg
END:VEVENT
BEGIN:VEVENT
DTSTART;VALUE=DATE:20261214
DTEND;VALUE=DATE:20261215
DTSTAMP:20260419T232348
CREATED:20260102T084940Z
LAST-MODIFIED:20260102T084940Z
UID:22681-1797206400-1797292799@terezjanki.org
SUMMARY:Uroczystość św. Jana od Krzyża
DESCRIPTION:Wspomnienie św. Jana od Krzyża celebrujemy\, jako uroczystość z racji agregacji naszego Zgromadzenia do Karmelu.
URL:https://terezjanki.org/wydarzenie/uroczystosc-sw-jana-od-krzyza-2/
ATTACH;FMTTYPE=image/jpeg:https://terezjanki.org/wp-content/uploads/2024/03/Zobacz-jak-On-nas-miluje_droga-krzyzowa.jpg
END:VEVENT
BEGIN:VEVENT
DTSTART;VALUE=DATE:20261214
DTEND;VALUE=DATE:20261215
DTSTAMP:20260419T232348
CREATED:20260102T085027Z
LAST-MODIFIED:20260102T085027Z
UID:22683-1797206400-1797292799@terezjanki.org
SUMMARY:Imieniny s. Jany
DESCRIPTION:
URL:https://terezjanki.org/wydarzenie/imieniny-s-jany-2/
ATTACH;FMTTYPE=image/jpeg:https://terezjanki.org/wp-content/uploads/2022/09/Roze-imieniny-wydarzenia.jpg
END:VEVENT
BEGIN:VEVENT
DTSTART;VALUE=DATE:20261214
DTEND;VALUE=DATE:20261215
DTSTAMP:20260419T232348
CREATED:20260102T085831Z
LAST-MODIFIED:20260102T085831Z
UID:22689-1797206400-1797292799@terezjanki.org
SUMMARY:Rocznica ogłoszenia św. Teresy patronką misji i misjonarzy
DESCRIPTION:Święta Teresa od Dzieciątka Jezus została ogłoszona patronką misji przez papieża Piusa XI w 1927 roku\, mimo że nigdy nie wyjechała na misje zagraniczne. Duchowo wspierała pracę misjonarzy przez modlitwę i ofiarę\, pokazując\, że każdy chrześcijanin może być misjonarzem.
URL:https://terezjanki.org/wydarzenie/rocznica-ogloszenia-sw-teresy-patronka-misji-i-misjonarzy/
ATTACH;FMTTYPE=image/jpeg:https://terezjanki.org/wp-content/uploads/2022/12/Teresa-patronka-Misji.jpg
END:VEVENT
BEGIN:VEVENT
DTSTART;VALUE=DATE:20261214
DTEND;VALUE=DATE:20261215
DTSTAMP:20260419T232348
CREATED:20260102T090053Z
LAST-MODIFIED:20260102T090053Z
UID:22691-1797206400-1797292799@terezjanki.org
SUMMARY:Rocznica nominacji Sługi Bożego bpa Szelążka na Ordynariusza Diecezji Łuckiej
DESCRIPTION:Papież Pius XI dnia 14 grudnia 1925 roku mianował Ks. Bpa Adolfa Piotra Szelążka ordynariuszem odrodzonej diecezji łuckiej na Wołyniu. Biskup nominat rozpoczął swą posługę od reformy Kurii Biskupiej\, opracował jej nowy regulamin\, przygotował i przeprowadził Synod Diecezjalny\, pragnął odrodzenia życia moralnego i duchowego w swojej owczarni. Szczególną troską otaczał seminarium duchowne w Łucku. Był wielkim czcicielem św. Teresy od Dzieciątka Jezus\, którą na mocy dekretu papieża Piusa XI z dnia 14 grudnia 1927 r.\, ogłosił patronką swej diecezji.
URL:https://terezjanki.org/wydarzenie/rocznica-nominacji-slugi-bozego-bpa-szelazka-na-ordynariusza-diecezji-luckiej/
ATTACH;FMTTYPE=image/jpeg:https://terezjanki.org/wp-content/uploads/2025/02/Zobacza-szelazek-biskup.jpg
END:VEVENT
BEGIN:VEVENT
DTSTART;VALUE=DATE:20261215
DTEND;VALUE=DATE:20261216
DTSTAMP:20260419T232348
CREATED:20260102T085139Z
LAST-MODIFIED:20260102T085139Z
UID:22685-1797292800-1797379199@terezjanki.org
SUMMARY:Imieniny s. Niny
DESCRIPTION:
URL:https://terezjanki.org/wydarzenie/imieniny-s-niny-2/
ATTACH;FMTTYPE=image/jpeg:https://terezjanki.org/wp-content/uploads/2022/09/Roze-imieniny-wydarzenia.jpg
END:VEVENT
BEGIN:VEVENT
DTSTART;VALUE=DATE:20261223
DTEND;VALUE=DATE:20261224
DTSTAMP:20260419T232348
CREATED:20260102T085236Z
LAST-MODIFIED:20260102T085236Z
UID:22687-1797984000-1798070399@terezjanki.org
SUMMARY:Imieniny s. Wiktorii
DESCRIPTION:
URL:https://terezjanki.org/wydarzenie/imieniny-s-wiktorii-2/
ATTACH;FMTTYPE=image/jpeg:https://terezjanki.org/wp-content/uploads/2022/09/Roze-imieniny-wydarzenia.jpg
END:VEVENT
BEGIN:VEVENT
DTSTART;VALUE=DATE:20261225
DTEND;VALUE=DATE:20261226
DTSTAMP:20260419T232348
CREATED:20260102T090425Z
LAST-MODIFIED:20260102T090425Z
UID:22693-1798156800-1798243199@terezjanki.org
SUMMARY:Uroczystość Narodzenia Pańskiego
DESCRIPTION:Uroczystość upamiętniająca przyjście na świat Syna Bożego Jezusa Chrystusa.
URL:https://terezjanki.org/wydarzenie/uroczystosc-narodzenia-panskiego/
ATTACH;FMTTYPE=image/jpeg:https://terezjanki.org/wp-content/uploads/2022/12/Zobacza_Boze-Narodzenie.jpg
END:VEVENT
BEGIN:VEVENT
DTSTART;VALUE=DATE:20261227
DTEND;VALUE=DATE:20261228
DTSTAMP:20260419T232348
CREATED:20260102T090759Z
LAST-MODIFIED:20260102T090759Z
UID:22695-1798329600-1798415999@terezjanki.org
SUMMARY:Niedziela Świętej Rodziny
DESCRIPTION:Święto Świętej Rodziny – Jezusa\, Maryi i Józefa obchodzone jest jako wzór wszystkich chrześcijańskich rodzin.
URL:https://terezjanki.org/wydarzenie/niedziela-swietej-rodziny/
ATTACH;FMTTYPE=image/jpeg:https://terezjanki.org/wp-content/uploads/2021/05/Święta-Rodzina.jpeg
END:VEVENT
END:VCALENDAR