BEGIN:VCALENDAR
VERSION:2.0
PRODID:-//Terezjanki - ECPv6.15.12.2//NONSGML v1.0//EN
CALSCALE:GREGORIAN
METHOD:PUBLISH
X-WR-CALNAME:Terezjanki
X-ORIGINAL-URL:https://terezjanki.org
X-WR-CALDESC:Wydarzenia dla Terezjanki
REFRESH-INTERVAL;VALUE=DURATION:PT1H
X-Robots-Tag:noindex
X-PUBLISHED-TTL:PT1H
BEGIN:VTIMEZONE
TZID:Europe/Warsaw
BEGIN:DAYLIGHT
TZOFFSETFROM:+0100
TZOFFSETTO:+0200
TZNAME:CEST
DTSTART:20240331T010000
END:DAYLIGHT
BEGIN:STANDARD
TZOFFSETFROM:+0200
TZOFFSETTO:+0100
TZNAME:CET
DTSTART:20241027T010000
END:STANDARD
BEGIN:DAYLIGHT
TZOFFSETFROM:+0100
TZOFFSETTO:+0200
TZNAME:CEST
DTSTART:20250330T010000
END:DAYLIGHT
BEGIN:STANDARD
TZOFFSETFROM:+0200
TZOFFSETTO:+0100
TZNAME:CET
DTSTART:20251026T010000
END:STANDARD
BEGIN:DAYLIGHT
TZOFFSETFROM:+0100
TZOFFSETTO:+0200
TZNAME:CEST
DTSTART:20260329T010000
END:DAYLIGHT
BEGIN:STANDARD
TZOFFSETFROM:+0200
TZOFFSETTO:+0100
TZNAME:CET
DTSTART:20261025T010000
END:STANDARD
END:VTIMEZONE
BEGIN:VEVENT
DTSTART;TZID=Europe/Warsaw:20250109T180000
DTEND;TZID=Europe/Warsaw:20250109T190000
DTSTAMP:20260421T052016
CREATED:20250110T130744Z
LAST-MODIFIED:20250110T130856Z
UID:20372-1736445600-1736449200@terezjanki.org
SUMMARY:Msza św. o łaskę beatyfikacji
DESCRIPTION:W kościele św. Jakuba w Toruniu o godz. 18.00 celebrowana będzie Msza święta w intencji beatyfikacji Sługi Bożego biskupa Adolfa Piotra Szelążka. Zapraszamy do wspólnej modlitwy!
URL:https://terezjanki.org/wydarzenie/msza-sw-o-laske-beatyfikacji-11/
ATTACH;FMTTYPE=image/jpeg:https://terezjanki.org/wp-content/uploads/2021/02/biskup-Adolf-Piotr-Szelążek.jpg
END:VEVENT
BEGIN:VEVENT
DTSTART;VALUE=DATE:20250110
DTEND;VALUE=DATE:20250111
DTSTAMP:20260421T052016
CREATED:20250110T125855Z
LAST-MODIFIED:20250110T125855Z
UID:20366-1736467200-1736553599@terezjanki.org
SUMMARY:Rocznica obłóczyn św. Teresy
DESCRIPTION:10 stycznia 1889 r. św. Teresa od Dzieciątka Jezus przywdziała biały welon i rozpoczęła nowy etap formacji zakonnej w Nowicjacie.
URL:https://terezjanki.org/wydarzenie/rocznica-obloczyn-sw-teresy/
ATTACH;FMTTYPE=image/jpeg:https://terezjanki.org/wp-content/uploads/2024/01/nowicjuszka-Teresa.jpg
END:VEVENT
BEGIN:VEVENT
DTSTART;VALUE=DATE:20250112
DTEND;VALUE=DATE:20250113
DTSTAMP:20260421T052016
CREATED:20250110T173347Z
LAST-MODIFIED:20250110T173347Z
UID:20389-1736640000-1736726399@terezjanki.org
SUMMARY:Niedziela Chrztu Pańskiego
DESCRIPTION:Niedziela Chrztu Pańskiego przypomina nam wydarzenie znad Jordanu\, kiedy nasz Zbawiciel Jezus Chrystus przyjął chrzest od świętego Jana Chrzciciela.
URL:https://terezjanki.org/wydarzenie/niedziela-chrztu-panskiego-2/
ATTACH;FMTTYPE=image/jpeg:https://terezjanki.org/wp-content/uploads/2023/01/Niedziela-Chrzytu-Panskiego.jpg
END:VEVENT
BEGIN:VEVENT
DTSTART;VALUE=DATE:20250121
DTEND;VALUE=DATE:20250122
DTSTAMP:20260421T052016
CREATED:20250110T130254Z
LAST-MODIFIED:20250110T130254Z
UID:20368-1737417600-1737503999@terezjanki.org
SUMMARY:Imieniny s. Agnieszki
DESCRIPTION:Imię Agnieszka pochodzi od greckiego słowa hagneia i oznacza: czystość\, bez skazy\, świętość.
URL:https://terezjanki.org/wydarzenie/imieniny-s-agnieszki-2/
ATTACH;FMTTYPE=image/jpeg:https://terezjanki.org/wp-content/uploads/2022/09/Roze-imieniny-wydarzenia.jpg
END:VEVENT
BEGIN:VEVENT
DTSTART;VALUE=DATE:20250122
DTEND;VALUE=DATE:20250123
DTSTAMP:20260421T052016
CREATED:20250110T130527Z
LAST-MODIFIED:20250110T130527Z
UID:20370-1737504000-1737590399@terezjanki.org
SUMMARY:Imieniny s. Laury
DESCRIPTION:Laura jest to imię pochodzenia łacińskiego od słowa laur\, co znaczy wawrzyn.
URL:https://terezjanki.org/wydarzenie/imieniny-s-laury-2/
ATTACH;FMTTYPE=image/jpeg:https://terezjanki.org/wp-content/uploads/2022/09/Roze-imieniny-wydarzenia.jpg
END:VEVENT
BEGIN:VEVENT
DTSTART;VALUE=DATE:20250123
DTEND;VALUE=DATE:20250124
DTSTAMP:20260421T052016
CREATED:20250110T174743Z
LAST-MODIFIED:20250110T174743Z
UID:20395-1737590400-1737676799@terezjanki.org
SUMMARY:Rocznica ekshumacji
DESCRIPTION:W 2018 roku miała miejsce ekshumacja doczesnych szczątków Sługi Bożego biskupa Adolfa Piotra Szelążka i przeniesienie ich do sarkofagu w kościele św. Jakuba w Toruniu.
URL:https://terezjanki.org/wydarzenie/rocznica-ekshumacji/
ATTACH;FMTTYPE=image/jpeg:https://terezjanki.org/wp-content/uploads/2020/06/wpis_bp-Szelążek-02.jpg
END:VEVENT
BEGIN:VEVENT
DTSTART;VALUE=DATE:20250126
DTEND;VALUE=DATE:20250127
DTSTAMP:20260421T052016
CREATED:20250110T173855Z
LAST-MODIFIED:20250110T174133Z
UID:20391-1737849600-1737935999@terezjanki.org
SUMMARY:Niedziela Słowa Bożego
DESCRIPTION:Niedziela Słowa Bożego ma zachęcać wierzących do lektury Biblii i częstego rozważania Pisma Świętego.
URL:https://terezjanki.org/wydarzenie/niedziela-slowa-bozego-2/
ATTACH;FMTTYPE=image/jpeg:https://terezjanki.org/wp-content/uploads/2021/04/Biblia.jpg
END:VEVENT
BEGIN:VEVENT
DTSTART;VALUE=DATE:20250129
DTEND;VALUE=DATE:20250130
DTSTAMP:20260421T052016
CREATED:20250110T173151Z
LAST-MODIFIED:20250110T173231Z
UID:20374-1738108800-1738195199@terezjanki.org
SUMMARY:Rocznica śmierci m. Bernardy Nakonowskiej
DESCRIPTION:Matka Bernarda Nakonowska CST pełniła posługę Przełożonej generalnej Zgromadzenia Sióstr św. Teresy od Dzieciątka Jezus w latach 1947 – 1959. Zmarła w roku 1967 w opinii świętości.
URL:https://terezjanki.org/wydarzenie/rocznica-smierci-m-bernardy-nakonowskiej/
ATTACH;FMTTYPE=image/png:https://terezjanki.org/wp-content/uploads/2022/02/2.png
END:VEVENT
BEGIN:VEVENT
DTSTART;VALUE=DATE:20250201
DTEND;VALUE=DATE:20250210
DTSTAMP:20260421T052016
CREATED:20250110T175610Z
LAST-MODIFIED:20250110T175706Z
UID:20399-1738368000-1739145599@terezjanki.org
SUMMARY:Nowenna o łaskę nowych powołań
DESCRIPTION:Modlimy się o łaskę nowych powołań do Zgromadzenia Sióstr św. Teresy od Dzieciątka Jezus przez wstawiennictwo Sługi Bożego biskupa Adolfa Piotra Szelążka.
URL:https://terezjanki.org/wydarzenie/nowenna-o-laske-nowych-powolan/
ATTACH;FMTTYPE=image/jpeg:https://terezjanki.org/wp-content/uploads/2020/06/Szelążek-przy-portrecie.jpg
END:VEVENT
BEGIN:VEVENT
DTSTART;VALUE=DATE:20250202
DTEND;VALUE=DATE:20250203
DTSTAMP:20260421T052016
CREATED:20250110T175309Z
LAST-MODIFIED:20250110T175309Z
UID:20397-1738454400-1738540799@terezjanki.org
SUMMARY:Światowy Dzień Życia Konsekrowanego
DESCRIPTION:Światowy Dzień Życia Konsekrowanego to dzień szczególnej pamięci i modlitwy za osoby\, które całkowicie ofiarowały swoje życie Bogu. Ustanowiony został w 1997 przez papieża Jana Pawła II.
URL:https://terezjanki.org/wydarzenie/swiatowy-dzien-zycia-konsekrowanego-2/
ATTACH;FMTTYPE=image/jpeg:https://terezjanki.org/wp-content/uploads/2021/03/Siostry-w-tujach.jpg
END:VEVENT
BEGIN:VEVENT
DTSTART;VALUE=DATE:20250206
DTEND;VALUE=DATE:20250207
DTSTAMP:20260421T052016
CREATED:20250110T180328Z
LAST-MODIFIED:20250110T180426Z
UID:20401-1738800000-1738886399@terezjanki.org
SUMMARY:Imieniny s. Doroty i s. Aksany
DESCRIPTION:Dorota to imię pochodzenia greckiego\, od słów doron (dar) i theos (bóg). Oznacza: ta\, która przyszła na świat jako dar boży. \nAksana (Oksana) to imię pochodzenia perskiego\, które oznacza jutrzenkę.
URL:https://terezjanki.org/wydarzenie/imieniny-s-doroty-i-s-aksany/
ATTACH;FMTTYPE=image/jpeg:https://terezjanki.org/wp-content/uploads/2022/09/Roze-imieniny-wydarzenia.jpg
END:VEVENT
BEGIN:VEVENT
DTSTART;VALUE=DATE:20250209
DTEND;VALUE=DATE:20250210
DTSTAMP:20260421T052016
CREATED:20250110T180924Z
LAST-MODIFIED:20250112T150233Z
UID:20404-1739059200-1739145599@terezjanki.org
SUMMARY:75. rocznica śmierci
DESCRIPTION:W 1950 roku w Zamku Bierzgłowskim koło Torunia zmarł Sługa Boży biskup Adolf Piotr Szelążek – Założyciel Zgromadzenia Sióstr św. Teresy od Dzieciątka Jezus. Uroczysta Msza święta w 75. rocznicę śmierci biskupa Szelążka celebrowana będzie w kościele św. Jakuba w Toruniu o godz. 13.00.
URL:https://terezjanki.org/wydarzenie/75-rocznica-smierci-a-p-szelazka/
ATTACH;FMTTYPE=image/png:https://terezjanki.org/wp-content/uploads/2021/12/obrazek-wyrozniajacy.png
END:VEVENT
BEGIN:VEVENT
DTSTART;VALUE=DATE:20250210
DTEND;VALUE=DATE:20250211
DTSTAMP:20260421T052016
CREATED:20250112T150555Z
LAST-MODIFIED:20250112T150555Z
UID:20417-1739145600-1739231999@terezjanki.org
SUMMARY:Imieniny s. Scholastyki
DESCRIPTION:Scholastyka to imię żeńskie pochodzenia łacińskiego. Wywodzi się od łacińskiego słowa scholasticus oznaczającego uczony\, student\, nauczyciel.
URL:https://terezjanki.org/wydarzenie/imieniny-s-scholastyki-2/
ATTACH;FMTTYPE=image/jpeg:https://terezjanki.org/wp-content/uploads/2022/09/Roze-imieniny-wydarzenia.jpg
END:VEVENT
BEGIN:VEVENT
DTSTART;VALUE=DATE:20250210
DTEND;VALUE=DATE:20250217
DTSTAMP:20260421T052016
CREATED:20250112T152121Z
LAST-MODIFIED:20250112T152121Z
UID:20424-1739145600-1739750399@terezjanki.org
SUMMARY:Rekolekcje zakonne w Łomży
DESCRIPTION:Rekolekcje to szczególny czas poświęcony duchowej odnowie i refleksji nad własnym życiem. W naszym zgromadzeniu trwają 6 dni.
URL:https://terezjanki.org/wydarzenie/rekolekcje-zakonne-w-lomzy/
ATTACH;FMTTYPE=image/jpeg:https://terezjanki.org/wp-content/uploads/2022/03/Siostry-w-kaplicyn-z-tylu.jpg
END:VEVENT
BEGIN:VEVENT
DTSTART;VALUE=DATE:20250216
DTEND;VALUE=DATE:20250217
DTSTAMP:20260421T052016
CREATED:20250112T151000Z
LAST-MODIFIED:20250112T151000Z
UID:20419-1739664000-1739750399@terezjanki.org
SUMMARY:Imieniny s. Samueli
DESCRIPTION:Samuela to imię pochodzenia biblijnego.  Wywodzi się z języka hebrajskiego i oznacza „wyproszony od Boga”\, „Bóg wysłuchał”.
URL:https://terezjanki.org/wydarzenie/imieniny-s-samueli-2/
ATTACH;FMTTYPE=image/jpeg:https://terezjanki.org/wp-content/uploads/2022/09/Roze-imieniny-wydarzenia.jpg
END:VEVENT
BEGIN:VEVENT
DTSTART;TZID=Europe/Warsaw:20250220T000000
DTEND;TZID=Europe/Warsaw:20250220T233000
DTSTAMP:20260421T052016
CREATED:20250603T072549Z
LAST-MODIFIED:20250603T072549Z
UID:20421-1740009600-1740094200@terezjanki.org
SUMMARY:Imieniny s. Hiacynty
DESCRIPTION:Imię Hiacynta pochodzi od greckiego słowa oznaczającego „niebieski kwiat”.
URL:https://terezjanki.org/wydarzenie/imieniny-s-hiacynty-2/
ATTACH;FMTTYPE=image/jpeg:https://terezjanki.org/wp-content/uploads/2022/09/Roze-imieniny-wydarzenia.jpg
END:VEVENT
BEGIN:VEVENT
DTSTART;VALUE=DATE:20250224
DTEND;VALUE=DATE:20250225
DTSTAMP:20260421T052016
CREATED:20250112T152604Z
LAST-MODIFIED:20250112T152658Z
UID:20427-1740355200-1740441599@terezjanki.org
SUMMARY:Rocznica Ingresu
DESCRIPTION:24 lutego 1926 roku miał miejsce Ingres ks. biskupa Adolfa Piotra Szelążka do Katedry w Łucku na Wołyniu.
URL:https://terezjanki.org/wydarzenie/rocznica-ingresu/
ATTACH;FMTTYPE=image/jpeg:https://terezjanki.org/wp-content/uploads/2020/06/13-1.jpg
END:VEVENT
BEGIN:VEVENT
DTSTART;VALUE=DATE:20250301
DTEND;VALUE=DATE:20250302
DTSTAMP:20260421T052016
CREATED:20250113T085210Z
LAST-MODIFIED:20250113T085210Z
UID:20435-1740787200-1740873599@terezjanki.org
SUMMARY:Imieniny s. Dawidy
DESCRIPTION:Dawida jest to imię pochodzenia hebrajskiego od męskiego imienia Dawid. Znaczenie imienia to godna kochania\, ukochana.
URL:https://terezjanki.org/wydarzenie/imieniny-s-dawidy-2/
ATTACH;FMTTYPE=image/jpeg:https://terezjanki.org/wp-content/uploads/2022/09/Roze-imieniny-wydarzenia.jpg
END:VEVENT
BEGIN:VEVENT
DTSTART;VALUE=DATE:20250305
DTEND;VALUE=DATE:20250306
DTSTAMP:20260421T052016
CREATED:20250113T085500Z
LAST-MODIFIED:20250113T085500Z
UID:20437-1741132800-1741219199@terezjanki.org
SUMMARY:Środa Popielcowa
DESCRIPTION:W Środę Popielcową rozpoczyna się okres Wielkiego Postu\, który trwa 40 dni.
URL:https://terezjanki.org/wydarzenie/sroda-popielcowa/
ATTACH;FMTTYPE=image/jpeg:https://terezjanki.org/wp-content/uploads/2024/03/Zobacz-jak-On-nas-miluje_droga-krzyzowa.jpg
END:VEVENT
BEGIN:VEVENT
DTSTART;VALUE=DATE:20250309
DTEND;VALUE=DATE:20250310
DTSTAMP:20260421T052016
CREATED:20250113T085801Z
LAST-MODIFIED:20250113T085801Z
UID:20439-1741478400-1741564799@terezjanki.org
SUMMARY:Msza święta o łaskę beatyfikacji
DESCRIPTION:W kościele św. Jakuba w Toruniu o godz. 8.30 celebrowana będzie Msza święta w intencji beatyfikacji Sługi Bożego biskupa Adolfa Piotra Szelążka. Zapraszamy do wspólnej modlitwy!
URL:https://terezjanki.org/wydarzenie/msza-swieta-o-laske-beatyfikacji/
ATTACH;FMTTYPE=image/jpeg:https://terezjanki.org/wp-content/uploads/2020/06/wpis_bp-Szelążek-02.jpg
END:VEVENT
BEGIN:VEVENT
DTSTART;VALUE=DATE:20250317
DTEND;VALUE=DATE:20250318
DTSTAMP:20260421T052016
CREATED:20250113T090013Z
LAST-MODIFIED:20250113T090013Z
UID:20441-1742169600-1742255999@terezjanki.org
SUMMARY:Imieniny s. Patrycji
DESCRIPTION:Imię Patrycja jest żeńską formą łacińskiego imienia Patrycjusz\, co w dawnych czasach oznaczało przynależność do warstwy uprzywilejowanej.
URL:https://terezjanki.org/wydarzenie/imieniny-s-patrycji-2/
ATTACH;FMTTYPE=image/jpeg:https://terezjanki.org/wp-content/uploads/2022/09/Roze-imieniny-wydarzenia.jpg
END:VEVENT
BEGIN:VEVENT
DTSTART;VALUE=DATE:20250319
DTEND;VALUE=DATE:20250320
DTSTAMP:20260421T052016
CREATED:20250116T071501Z
LAST-MODIFIED:20250116T071501Z
UID:21132-1742342400-1742428799@terezjanki.org
SUMMARY:Uroczystość św. Józefa
DESCRIPTION:Święty Józef pochodził z rodu króla Dawida. Mimo wysokiego pochodzenia na życie zarabiał stolarstwem i pracą jako cieśla. Choć nie był według ciała ojcem Chrystusa\, to jednak był nim według prawa żydowskiego jako prawomocny małżonek Maryi.
URL:https://terezjanki.org/wydarzenie/uroczystosc-sw-jozefa-2/
ATTACH;FMTTYPE=image/jpeg:https://terezjanki.org/wp-content/uploads/2021/06/Sw.-Jozef.jpg
END:VEVENT
BEGIN:VEVENT
DTSTART;VALUE=DATE:20250325
DTEND;VALUE=DATE:20250326
DTSTAMP:20260421T052016
CREATED:20250116T071939Z
LAST-MODIFIED:20250116T071939Z
UID:21134-1742860800-1742947199@terezjanki.org
SUMMARY:Imieniny s. Ancilli
DESCRIPTION:Imię Ancilla pochodzi z języka łacińskiego. Oznacza służebnicę\, która wiernie służy Bogu.
URL:https://terezjanki.org/wydarzenie/imieniny-s-ancilli-2/
ATTACH;FMTTYPE=image/jpeg:https://terezjanki.org/wp-content/uploads/2022/09/Roze-imieniny-wydarzenia.jpg
END:VEVENT
BEGIN:VEVENT
DTSTART;VALUE=DATE:20250325
DTEND;VALUE=DATE:20250326
DTSTAMP:20260421T052016
CREATED:20250116T072340Z
LAST-MODIFIED:20250116T072340Z
UID:21136-1742860800-1742947199@terezjanki.org
SUMMARY:Uroczystość Zwiastowania Pańskiego
DESCRIPTION:W Uroczystość Zwiastowania Pańskiego wspomina się przyjście archanioła Gabriela do Maryi\, by zwiastować Jej\, że za sprawą Ducha Świętego pocznie Syna Bożego. W Polsce od 1998 r. tego dnia obchodzony jest Dzień Świętości Życia.
URL:https://terezjanki.org/wydarzenie/uroczystosc-zwiastowania-panskiego/
ATTACH;FMTTYPE=image/jpeg:https://terezjanki.org/wp-content/uploads/2024/04/maryja-dziewica.jpg
END:VEVENT
BEGIN:VEVENT
DTSTART;VALUE=DATE:20250327
DTEND;VALUE=DATE:20250328
DTSTAMP:20260421T052016
CREATED:20250116T072818Z
LAST-MODIFIED:20250116T072818Z
UID:21138-1743033600-1743119999@terezjanki.org
SUMMARY:Imieniny s. Estery
DESCRIPTION:Estera to imię żeńskie pochodzenia biblijnego. Wywodzi się od słowa setarah oznaczającego gwiazdę.
URL:https://terezjanki.org/wydarzenie/imieniny-s-estery/
ATTACH;FMTTYPE=image/jpeg:https://terezjanki.org/wp-content/uploads/2022/09/Roze-imieniny-wydarzenia.jpg
END:VEVENT
BEGIN:VEVENT
DTSTART;VALUE=DATE:20250331
DTEND;VALUE=DATE:20250401
DTSTAMP:20260421T052016
CREATED:20250116T085504Z
LAST-MODIFIED:20250303T145331Z
UID:21141-1743379200-1743465599@terezjanki.org
SUMMARY:Imieniny s. Beniaminy
DESCRIPTION:Beniamina to imię pochodzące od biblijnego imienia Beniamin. Oznacza z języka hebrajskiego syn południa\, syn prawicy. Jest synonimem słowa najmłodszy.
URL:https://terezjanki.org/wydarzenie/imieniny-s-beniaminy-2/
ATTACH;FMTTYPE=image/jpeg:https://terezjanki.org/wp-content/uploads/2022/09/Roze-imieniny-wydarzenia.jpg
END:VEVENT
BEGIN:VEVENT
DTSTART;VALUE=DATE:20250402
DTEND;VALUE=DATE:20250403
DTSTAMP:20260421T052016
CREATED:20250310T085447Z
LAST-MODIFIED:20250401T071041Z
UID:21350-1743552000-1743638399@terezjanki.org
SUMMARY:Rocznica śmierci św. Jana Pawła II
DESCRIPTION:1 kwietnia 2025 roku odszedł do Domu Ojca w niebie św. Jan Paweł II. Rocznica śmierci papieża Polaka jest dniem wdzięczności za dar jego osoby.
URL:https://terezjanki.org/wydarzenie/rocznica-smierci-sw-jana-pawla-ii/
ATTACH;FMTTYPE=image/jpeg:https://terezjanki.org/wp-content/uploads/2022/05/Jan-Pawel-II.jpg
END:VEVENT
BEGIN:VEVENT
DTSTART;VALUE=DATE:20250405
DTEND;VALUE=DATE:20250406
DTSTAMP:20260421T052016
CREATED:20250310T085742Z
LAST-MODIFIED:20250310T085742Z
UID:21352-1743811200-1743897599@terezjanki.org
SUMMARY:Imieniny s. Ireny
DESCRIPTION:Imię Irena pochodzi od greckiego słowa eirene (pokój) i oznacza osobę niosącą pokój.
URL:https://terezjanki.org/wydarzenie/imieniny-s-ireny/
ATTACH;FMTTYPE=image/jpeg:https://terezjanki.org/wp-content/uploads/2022/09/Roze-imieniny-wydarzenia.jpg
END:VEVENT
BEGIN:VEVENT
DTSTART;VALUE=DATE:20250409
DTEND;VALUE=DATE:20250410
DTSTAMP:20260421T052016
CREATED:20250310T090115Z
LAST-MODIFIED:20250310T090115Z
UID:21354-1744156800-1744243199@terezjanki.org
SUMMARY:Rocznica wstąpienia do Karmelu
DESCRIPTION:Św. Teresa od Dzieciątka Jezus wstąpiła do Karmelu w Lisieux 9 kwietnia 1888 roku.
URL:https://terezjanki.org/wydarzenie/rocznica-wstapienia-do-karmelu/
ATTACH;FMTTYPE=image/jpeg:https://terezjanki.org/wp-content/uploads/2021/03/8-1.jpg
END:VEVENT
BEGIN:VEVENT
DTSTART;VALUE=DATE:20250413
DTEND;VALUE=DATE:20250414
DTSTAMP:20260421T052016
CREATED:20250310T173010Z
LAST-MODIFIED:20250310T173010Z
UID:21357-1744502400-1744588799@terezjanki.org
SUMMARY:Niedziela Palmowa
DESCRIPTION:Niedziela Palmowa\, czyli Niedziela Męki Pańskiej rozpoczyna Wielki Tydzień. Ustanowiona została na pamiątkę wjazdu Jezusa Chrystus do Jerozolimy. W tym dniu uczestniczymy w uroczystej procesji z poświęconymi palmami.
URL:https://terezjanki.org/wydarzenie/niedziela-palmowa/
ATTACH;FMTTYPE=image/jpeg:https://terezjanki.org/wp-content/uploads/2025/03/Niedziela-Palmowa.jpg
END:VEVENT
END:VCALENDAR