BEGIN:VCALENDAR
VERSION:2.0
PRODID:-//Terezjanki - ECPv6.15.12.2//NONSGML v1.0//EN
CALSCALE:GREGORIAN
METHOD:PUBLISH
X-WR-CALNAME:Terezjanki
X-ORIGINAL-URL:https://terezjanki.org
X-WR-CALDESC:Wydarzenia dla Terezjanki
REFRESH-INTERVAL;VALUE=DURATION:PT1H
X-Robots-Tag:noindex
X-PUBLISHED-TTL:PT1H
BEGIN:VTIMEZONE
TZID:Europe/Warsaw
BEGIN:DAYLIGHT
TZOFFSETFROM:+0100
TZOFFSETTO:+0200
TZNAME:CEST
DTSTART:20210328T010000
END:DAYLIGHT
BEGIN:STANDARD
TZOFFSETFROM:+0200
TZOFFSETTO:+0100
TZNAME:CET
DTSTART:20211031T010000
END:STANDARD
BEGIN:DAYLIGHT
TZOFFSETFROM:+0100
TZOFFSETTO:+0200
TZNAME:CEST
DTSTART:20220327T010000
END:DAYLIGHT
BEGIN:STANDARD
TZOFFSETFROM:+0200
TZOFFSETTO:+0100
TZNAME:CET
DTSTART:20221030T010000
END:STANDARD
BEGIN:DAYLIGHT
TZOFFSETFROM:+0100
TZOFFSETTO:+0200
TZNAME:CEST
DTSTART:20230326T010000
END:DAYLIGHT
BEGIN:STANDARD
TZOFFSETFROM:+0200
TZOFFSETTO:+0100
TZNAME:CET
DTSTART:20231029T010000
END:STANDARD
END:VTIMEZONE
BEGIN:VEVENT
DTSTART;VALUE=DATE:20220922
DTEND;VALUE=DATE:20221001
DTSTAMP:20260420T042408
CREATED:20220922T080322Z
LAST-MODIFIED:20220922T080322Z
UID:14603-1663804800-1664582399@terezjanki.org
SUMMARY:Nowenna do św. Teresy od Dzieciątka Jezus
DESCRIPTION:Przed liturgicznym wspomnieniem św. Teresy od Dzieciątka Jezus\, które przypada 1 października\, wszystkie wspólnoty Zgromadzenia odprawiają dziewięciodniową Nowennę prosząc o „deszcz róż” – łask Bożych przez wstawiennictwo patronki Zgromadzenia.
URL:https://terezjanki.org/wydarzenie/nowenna-do-sw-teresy-od-dzieciatka-jezus/
END:VEVENT
BEGIN:VEVENT
DTSTART;VALUE=DATE:20220926
DTEND;VALUE=DATE:20220927
DTSTAMP:20260420T042408
CREATED:20220922T093159Z
LAST-MODIFIED:20220922T093159Z
UID:14635-1664150400-1664236799@terezjanki.org
SUMMARY:Imieniny s. Damiany
DESCRIPTION:
URL:https://terezjanki.org/wydarzenie/imieniny-s-damiany/
ATTACH;FMTTYPE=image/jpeg:https://terezjanki.org/wp-content/uploads/2022/09/Roze-imieniny-wydarzenia.jpg
END:VEVENT
BEGIN:VEVENT
DTSTART;VALUE=DATE:20220926
DTEND;VALUE=DATE:20220927
DTSTAMP:20260420T042408
CREATED:20220925T125919Z
LAST-MODIFIED:20220925T130057Z
UID:14743-1664150400-1664236799@terezjanki.org
SUMMARY:Dzień 5 Nowenny do św. Teresy
DESCRIPTION:Mała święta odnalazła na kartach Ewangelii Biblijną przesłankę duchowości dziecięctwa duchowego. Słowa Chrystusa: „Kto nie przyjmuje Królestwa Bożego jak dziecko nie wejdzie do niego” (Mk 10\, 15) traktowała jako klucz w rozwoju duchowości dziecięctwa. Droga dziecięctwa duchowego stanowiła dla niej sposób bycia i postępowania\, aby wzrastać w łasce. \nCałość Nowenny znajdziesz TUTAJ. \nKoronka Dziecięctwa Duchowego \n1. Módlmy się o głęboką pokorę.\nOjcze nasz…\, Zdrowaś Maryjo…\, Chwała Ojcu… \nW. Boże Miłosierny w słabości mej często upadam.\nO. Zmiłuj się nade mną. /10x/ \nŚw. Tereso od Dzieciątka Jezus\, uproś mi błagam\, najgłębszą pokorę umysłu i serca. \n2. Módlmy się o bezgraniczną ufność w Bogu.\nOjcze nasz…\, Zdrowaś Maryjo…\, Chwała Ojcu… \nW. Boże dobroci\, nieskończona\, ufam Tobie bez granic.\nO. Nie będę zawiedziony na wieki. /10x/ \nŚw. Tereso od Dzieciątka Jezus\, uproś mi błagam\, dziecięcą ufność w Bogu. \n3. Módlmy się o wierną miłość ku Bogu.\nOjcze nasz…\, Zdrowaś Maryjo…\, Chwała Ojcu… \nW. Całym sercem kocham Cię\, mój Boże.\nO. I kochać pragnę na wieki. /10x/ \nŚw. Tereso od Dzieciątka Jezus\, uproś mi błagam\, gorącą miłość  ku Bogu. \n4. Módlmy się o całkowite oddanie się Bogu.\nOjcze nasz…\, Zdrowaś Maryjo…\, Chwała Ojcu… \nW. Wola Twoja Panie niech wypełnia się we mnie.\nO. Zawsze\, wszędzie i we wszystkim. /10x/ \nŚw. Tereso od Dzieciątka Jezus\, uproś mi błagam\, oddanie się Bogu bez zastrzeżeń. \n5. Módlmy się o pokój serca.\nOjcze nasz…\, Zdrowaś Maryjo…\, Chwała Ojcu… \nW. W trudach i cierpieniach życia doczesnego proszę Cię Panie.\nO. Użycz mi pokoju. /10x/ \nŚw. Tereso od Dzieciątka Jezus\, uproś mi błagam\, głęboki pokój serca. \nModlitwa: Dzięki Ci\, Boże mój\, z całego serca\, za łaski użyczone św. Teresie\, a w szczególności za dar dziecięctwa duchowego\, którym serce Jej napełniłeś. Spraw\, o Panie\, by Twoja Miłosierna Miłość wypełniała moje serce. \nŚw. Tereso od Dzieciątka Jezus\, prowadź mnie\, proszę drogą dziecięctwa duchowego i czuwaj nade mną\, bym nigdy z tej drogi nie schodził\, aż znajdę się u stóp Jezusa i Maryi. Amen.
URL:https://terezjanki.org/wydarzenie/dzien-5-nowenny-do-sw-teresy/
ATTACH;FMTTYPE=image/jpeg:https://terezjanki.org/wp-content/uploads/2022/09/Nowenna-5.jpg
END:VEVENT
BEGIN:VEVENT
DTSTART;VALUE=DATE:20220927
DTEND;VALUE=DATE:20220928
DTSTAMP:20260420T042408
CREATED:20220926T145303Z
LAST-MODIFIED:20220926T145303Z
UID:14766-1664236800-1664323199@terezjanki.org
SUMMARY:Dzień 6 Nowenny do św. Teresy
DESCRIPTION:Nasza Patronka żyła głęboko tajemnicą Najświętszego Oblicza Pana Jezusa\, które kontemplowała podobnie jak dziecięctwo Boże. Na fotografii Teresa trzyma w dłoniach dwa obrazy: jeden przedstawiający Dzieciątko Jezus\, drugi Oblicze z chusty Weroniki. Zdjęcie wykonane Teresie na trzy miesiące przed śmiercią oddaje w pełni jej duchowość przenikniętą duchem dziecięctwa i Boskiego Oblicza. \nCałość Nowenny znajdziesz TUTAJ.
URL:https://terezjanki.org/wydarzenie/dzien-6-nowenny-do-sw-teresy/
ATTACH;FMTTYPE=image/jpeg:https://terezjanki.org/wp-content/uploads/2022/09/Nowenna-6.jpg
END:VEVENT
BEGIN:VEVENT
DTSTART;VALUE=DATE:20220928
DTEND;VALUE=DATE:20220929
DTSTAMP:20260420T042408
CREATED:20220927T085424Z
LAST-MODIFIED:20220927T085424Z
UID:14782-1664323200-1664409599@terezjanki.org
SUMMARY:Dzień 7 Nowenny do św. Teresy
DESCRIPTION:Św. Teresa od Dzieciątka Jezus w swojej duchowości miała doskonałe wyczucie\, że Bóg żąda od niej dziecięctwa ducha\, szczególnej zażyłości z Dzieciątkiem Jezus. Przeczuwała\, że przyoblekając się w pokorę i prostotę Boskiego Dzieciątka będzie zdolna do prawdziwej kontemplacji męki Pańskiej. \nCałość Nowenny znajdziesz TUTAJ.
URL:https://terezjanki.org/wydarzenie/dzien-7-nowenny-do-sw-teresy/
ATTACH;FMTTYPE=image/jpeg:https://terezjanki.org/wp-content/uploads/2022/09/Nowenna-7.jpg
END:VEVENT
BEGIN:VEVENT
DTSTART;VALUE=DATE:20220929
DTEND;VALUE=DATE:20220930
DTSTAMP:20260420T042408
CREATED:20220922T093103Z
LAST-MODIFIED:20220922T093103Z
UID:14632-1664409600-1664495999@terezjanki.org
SUMMARY:Imieniny sióstr: Gabrieli i Rafaeli
DESCRIPTION:
URL:https://terezjanki.org/wydarzenie/imieniny-siostr-gabrieli-i-rafaeli/
ATTACH;FMTTYPE=image/jpeg:https://terezjanki.org/wp-content/uploads/2022/09/Roze-imieniny-wydarzenia.jpg
END:VEVENT
BEGIN:VEVENT
DTSTART;VALUE=DATE:20220929
DTEND;VALUE=DATE:20220930
DTSTAMP:20260420T042408
CREATED:20220928T190510Z
LAST-MODIFIED:20220928T190510Z
UID:14802-1664409600-1664495999@terezjanki.org
SUMMARY:Dzień 8 Nowenny do św. Teresy
DESCRIPTION:„W sercu Kościoła mej Matki będę Miłością”\, to słowa św. Teresy\, które wyrażały jej miłość do Kościoła – Matki. Wymiar eklezjalny towarzyszył Teresie od lat dziecinnych\, kiedy została włączona do wspólnoty ludzi wiary poprzez chrzest\, a następnie poprzez praktykę życia modlitwy i sakramentów. To w „domowym Kościele” wzrastała jej świadomość i umiłowanie Kościoła\, jako pewnej drogi do zbawienia. \nCałość Nowenny znajdziesz TUTAJ.
URL:https://terezjanki.org/wydarzenie/dzien-8-nowenny-do-sw-teresy/
ATTACH;FMTTYPE=image/jpeg:https://terezjanki.org/wp-content/uploads/2022/09/Nowenna-8.jpg
END:VEVENT
BEGIN:VEVENT
DTSTART;VALUE=DATE:20220930
DTEND;VALUE=DATE:20221001
DTSTAMP:20260420T042408
CREATED:20220922T083234Z
LAST-MODIFIED:20220922T083234Z
UID:14624-1664496000-1664582399@terezjanki.org
SUMMARY:Rocznica śmierci św. Teresy od Dzieciątka Jezus (1897)
DESCRIPTION:W tym roku przypada 125. rocznica śmierci św. Teresy od Dzieciątka Jezus\, karmelitanki\, doktor Kościoła. Wskazana przez nią mała droga stała się inspiracją i sposobem życia wielu Zgromadzeń\, osób świeckich\, żyjących duchowym przesłaniem św. Teresy.
URL:https://terezjanki.org/wydarzenie/rocznica-smierci-sw-teresy-od-dzieciatka-jezus-1897/
ATTACH;FMTTYPE=image/jpeg:https://terezjanki.org/wp-content/uploads/2019/08/wpis-św.Teresa.jpg
END:VEVENT
BEGIN:VEVENT
DTSTART;VALUE=DATE:20220930
DTEND;VALUE=DATE:20221001
DTSTAMP:20260420T042408
CREATED:20220922T093232Z
LAST-MODIFIED:20220922T093232Z
UID:14637-1664496000-1664582399@terezjanki.org
SUMMARY:Imieniny s. Felicji
DESCRIPTION:
URL:https://terezjanki.org/wydarzenie/imieniny-s-felicji/
ATTACH;FMTTYPE=image/jpeg:https://terezjanki.org/wp-content/uploads/2022/09/Roze-imieniny-wydarzenia.jpg
END:VEVENT
BEGIN:VEVENT
DTSTART;VALUE=DATE:20220930
DTEND;VALUE=DATE:20221001
DTSTAMP:20260420T042408
CREATED:20220928T201210Z
LAST-MODIFIED:20220928T201344Z
UID:14809-1664496000-1664582399@terezjanki.org
SUMMARY:Dzień 9 Nowenny do św. Teresy
DESCRIPTION:Święta Teresa od Dzieciątka Jezus\, mając zaledwie 24 lata osiągnęła świętość. Jest nam mistrzynią życia ewangelicznego. Zachwyca nas jej głębokie\, proste\, czyste piękno\, jakie zostało w niej objawione Kościołowi i światu. Jej zawdzięczamy małą drogę dziecięctwa duchowego mocno zakorzenioną w Ewangelii. \nCałość Nowenny znajdziesz TUTAJ.
URL:https://terezjanki.org/wydarzenie/dzien-9-nowenny-do-sw-teresy/
ATTACH;FMTTYPE=image/jpeg:https://terezjanki.org/wp-content/uploads/2022/09/Nowenna-9.jpg
END:VEVENT
BEGIN:VEVENT
DTSTART;VALUE=DATE:20221001
DTEND;VALUE=DATE:20221002
DTSTAMP:20260420T042408
CREATED:20220922T081134Z
LAST-MODIFIED:20220922T081205Z
UID:14610-1664582400-1664668799@terezjanki.org
SUMMARY:Uroczystość patronalna Zgromadzenia - św. Teresy od Dzieciątka Jezus
DESCRIPTION:
URL:https://terezjanki.org/wydarzenie/uroczystosc-patronalna-zgromadzenia-sw-teresy-od-dzieciatka-jezus/
ATTACH;FMTTYPE=image/jpeg:https://terezjanki.org/wp-content/uploads/2022/09/grafika-na-youtubewyrozniajacy-1.jpg
END:VEVENT
BEGIN:VEVENT
DTSTART;VALUE=DATE:20221001
DTEND;VALUE=DATE:20221002
DTSTAMP:20260420T042408
CREATED:20220922T094142Z
LAST-MODIFIED:20220922T192338Z
UID:14639-1664582400-1664668799@terezjanki.org
SUMMARY:Imieniny s. Teresy
DESCRIPTION:
URL:https://terezjanki.org/wydarzenie/imieniny-s-teresy/
ATTACH;FMTTYPE=image/jpeg:https://terezjanki.org/wp-content/uploads/2022/09/Roze-imieniny-wydarzenia.jpg
END:VEVENT
BEGIN:VEVENT
DTSTART;VALUE=DATE:20221002
DTEND;VALUE=DATE:20221003
DTSTAMP:20260420T042408
CREATED:20220922T094248Z
LAST-MODIFIED:20220922T094248Z
UID:14641-1664668800-1664755199@terezjanki.org
SUMMARY:Imieniny sióstr: Cherubiny i Serafiny
DESCRIPTION:
URL:https://terezjanki.org/wydarzenie/imieniny-siostr-cherubiny-i-serafiny/
ATTACH;FMTTYPE=image/jpeg:https://terezjanki.org/wp-content/uploads/2022/09/Roze-imieniny-wydarzenia.jpg
END:VEVENT
BEGIN:VEVENT
DTSTART;VALUE=DATE:20221004
DTEND;VALUE=DATE:20221005
DTSTAMP:20260420T042408
CREATED:20220922T094334Z
LAST-MODIFIED:20220922T094334Z
UID:14643-1664841600-1664927999@terezjanki.org
SUMMARY:Imieniny s. Franciszki
DESCRIPTION:
URL:https://terezjanki.org/wydarzenie/imieniny-s-franciszki/
ATTACH;FMTTYPE=image/jpeg:https://terezjanki.org/wp-content/uploads/2022/09/Roze-imieniny-wydarzenia.jpg
END:VEVENT
BEGIN:VEVENT
DTSTART;VALUE=DATE:20221007
DTEND;VALUE=DATE:20221008
DTSTAMP:20260420T042408
CREATED:20220922T094415Z
LAST-MODIFIED:20220922T094415Z
UID:14645-1665100800-1665187199@terezjanki.org
SUMMARY:Imieniny s. Justyny
DESCRIPTION:
URL:https://terezjanki.org/wydarzenie/imieniny-s-justyny/
ATTACH;FMTTYPE=image/jpeg:https://terezjanki.org/wp-content/uploads/2022/09/Roze-imieniny-wydarzenia.jpg
END:VEVENT
BEGIN:VEVENT
DTSTART;TZID=Europe/Warsaw:20221009T100000
DTEND;TZID=Europe/Warsaw:20221009T110000
DTSTAMP:20260420T042408
CREATED:20220922T090842Z
LAST-MODIFIED:20220922T091112Z
UID:14626-1665309600-1665313200@terezjanki.org
SUMMARY:Msza św. o beatyfikację biskupa Szelążka
DESCRIPTION:9 października 2022 roku w kościele św. Jakuba w Toruniu o godz. 10.00 będzie celebrowana Msza święta w intencji rychłej beatyfikacji Sługi Bożego biskupa Adolfa Piotra Szelążka. Dołącz do nas i módl się razem z nami. Serdecznie zapraszamy! \nWięcej informacji o Słudze Bożym biskupie Szelążku znajdziesz TUTAJ.
URL:https://terezjanki.org/wydarzenie/msza-sw-o-beatyfikacje-biskupa-szelazka/
ATTACH;FMTTYPE=image/jpeg:https://terezjanki.org/wp-content/uploads/2020/06/13-1.jpg
END:VEVENT
BEGIN:VEVENT
DTSTART;VALUE=DATE:20221010
DTEND;VALUE=DATE:20221011
DTSTAMP:20260420T042408
CREATED:20220922T094507Z
LAST-MODIFIED:20220922T094507Z
UID:14647-1665360000-1665446399@terezjanki.org
SUMMARY:Imieniny sióstr: Angeli i Danieli
DESCRIPTION:
URL:https://terezjanki.org/wydarzenie/imieniny-siostr-angeli-i-danieli/
ATTACH;FMTTYPE=image/jpeg:https://terezjanki.org/wp-content/uploads/2022/09/Roze-imieniny-wydarzenia.jpg
END:VEVENT
BEGIN:VEVENT
DTSTART;VALUE=DATE:20221013
DTEND;VALUE=DATE:20221014
DTSTAMP:20260420T042408
CREATED:20220922T094543Z
LAST-MODIFIED:20220922T094543Z
UID:14649-1665619200-1665705599@terezjanki.org
SUMMARY:Imieniny s. Honoraty
DESCRIPTION:
URL:https://terezjanki.org/wydarzenie/imieniny-s-honoraty/
ATTACH;FMTTYPE=image/jpeg:https://terezjanki.org/wp-content/uploads/2022/09/Roze-imieniny-wydarzenia.jpg
END:VEVENT
BEGIN:VEVENT
DTSTART;VALUE=DATE:20221014
DTEND;VALUE=DATE:20221015
DTSTAMP:20260420T042408
CREATED:20220922T094618Z
LAST-MODIFIED:20220922T095709Z
UID:14651-1665705600-1665791999@terezjanki.org
SUMMARY:Imieniny sióstr: Fortunaty i Małgorzaty
DESCRIPTION:
URL:https://terezjanki.org/wydarzenie/imieniny-siostr-fortunaty-i-malgorzaty/
ATTACH;FMTTYPE=image/jpeg:https://terezjanki.org/wp-content/uploads/2022/09/Roze-imieniny-wydarzenia.jpg
END:VEVENT
BEGIN:VEVENT
DTSTART;VALUE=DATE:20221022
DTEND;VALUE=DATE:20221023
DTSTAMP:20260420T042408
CREATED:20221022T133147Z
LAST-MODIFIED:20221022T133147Z
UID:15017-1666396800-1666483199@terezjanki.org
SUMMARY:Ukraińska strona internetowa Terezjanek
DESCRIPTION:Zapraszamy na nowo otwartą ukraińską stronę internetową Terezjanek. Będzie ona pomocą w pełnionym apostolacie siostrom posługującym na Ukrainie\, w Berdyczowie i Łucku. \nSerdecznie zapraszamy! \n  \n 
URL:https://terezjanki.org/wydarzenie/ukrainska-strona-internetowa-terezjanek/
ATTACH;FMTTYPE=image/jpeg:https://terezjanki.org/wp-content/uploads/2022/10/terezianki.org-2.jpg
END:VEVENT
BEGIN:VEVENT
DTSTART;TZID=Europe/Warsaw:20221109T180000
DTEND;TZID=Europe/Warsaw:20221109T190000
DTSTAMP:20260420T042408
CREATED:20220922T091350Z
LAST-MODIFIED:20220922T125748Z
UID:14628-1668016800-1668020400@terezjanki.org
SUMMARY:Msza św. o beatyfikację biskupa Szelążka
DESCRIPTION:9 listopada 2022 roku w kościele św. Jakuba w Toruniu o godz. 18.00 będzie celebrowana Msza święta w intencji rychłej beatyfikacji Sługi Bożego biskupa Adolfa Piotra Szelążka. Dołącz do nas i módl się razem z nami. Serdecznie zapraszamy! \nWięcej informacji o Słudze Bożym biskupie Szelążku znajdziesz TUTAJ.
URL:https://terezjanki.org/wydarzenie/msza-s-o-beatyfikacje-biskupa-szelazka/
ATTACH;FMTTYPE=image/jpeg:https://terezjanki.org/wp-content/uploads/2020/06/13-1.jpg
END:VEVENT
BEGIN:VEVENT
DTSTART;TZID=Europe/Warsaw:20221113T093000
DTEND;TZID=Europe/Warsaw:20221113T103000
DTSTAMP:20260420T042408
CREATED:20221112T072352Z
LAST-MODIFIED:20221112T073406Z
UID:15136-1668331800-1668335400@terezjanki.org
SUMMARY:Modlitwa o pokój (transmisja on-line)
DESCRIPTION:W niedzielę 13 listopada w Kościele w Polsce obchodzimy Dzień Solidarności z Kościołem Prześladowanym. W tym roku będziemy go przeżywać w łączności i solidarności z Ukrainą. \nW Podkowie Leśnej w parafii św. Krzysztofa o godz. 9.30 zostanie poprowadzona modlitwa w intencji pokoju na Ukrainie przez wstawiennictwo Sł. Bożego Adolfa Piotra Szelążka. Modlitwa będzie transmitowana na kanale YouTube Szkoły św. Teresy w Podkowie Leśnej. \nZapraszamy!
URL:https://terezjanki.org/wydarzenie/modlitwa-o-pokoj-transmisja-on-line/
ATTACH;FMTTYPE=image/jpeg:https://terezjanki.org/wp-content/uploads/2022/11/Ukraina.jpg
END:VEVENT
BEGIN:VEVENT
DTSTART;TZID=Europe/Warsaw:20221113T110000
DTEND;TZID=Europe/Warsaw:20221113T120000
DTSTAMP:20260420T042408
CREATED:20221112T072819Z
LAST-MODIFIED:20221112T072852Z
UID:15139-1668337200-1668340800@terezjanki.org
SUMMARY:Modlitwa o pokój przez wstawiennictwo biskupa Szelążka
DESCRIPTION:W niedzielę 13 listopada w Kościele w Polsce obchodzimy Dzień Solidarności z Kościołem Prześladowanym. W tym roku będziemy go przeżywać w łączności i solidarności z Ukrainą. \nW Podkowie Leśnej w parafii św. Krzysztofa o godz. 9.30 i 11.00 zostanie poprowadzona modlitwa w intencji pokoju na Ukrainie przez wstawiennictwo Sł. Bożego Adolfa Piotra Szelążka.
URL:https://terezjanki.org/wydarzenie/modlitwa-o-pokoj-przez-wstawiennictwo-biskupa-szelazka/
ATTACH;FMTTYPE=image/jpeg:https://terezjanki.org/wp-content/uploads/2022/11/Ukraina.jpg
END:VEVENT
BEGIN:VEVENT
DTSTART;TZID=Europe/Warsaw:20221209T083000
DTEND;TZID=Europe/Warsaw:20221209T093000
DTSTAMP:20260420T042408
CREATED:20220922T091518Z
LAST-MODIFIED:20220922T091600Z
UID:14630-1670574600-1670578200@terezjanki.org
SUMMARY:Msza św. o beatyfikację biskupa Szelążka
DESCRIPTION:9 grudnia 2022 roku w kościele św. Jakuba w Toruniu o godz. 8.30 będzie celebrowana Msza święta w intencji rychłej beatyfikacji Sługi Bożego biskupa Adolfa Piotra Szelążka. Dołącz do nas i módl się razem z nami. Serdecznie zapraszamy! \nWięcej informacji o Słudze Bożym biskupie Szelążku znajdziesz TUTAJ.
URL:https://terezjanki.org/wydarzenie/msza-sw-o-beatyfikacje-biskupa-szelazka-2/
ATTACH;FMTTYPE=image/jpeg:https://terezjanki.org/wp-content/uploads/2020/07/bp-A.P.Szelążek-04-AKBIV-01.jpg
END:VEVENT
BEGIN:VEVENT
DTSTART;VALUE=DATE:20221213
DTEND;VALUE=DATE:20221214
DTSTAMP:20260420T042408
CREATED:20221213T213058Z
LAST-MODIFIED:20221213T213058Z
UID:15587-1670889600-1670975999@terezjanki.org
SUMMARY:Imieniny s. Łucji
DESCRIPTION:
URL:https://terezjanki.org/wydarzenie/imieniny-s-lucji/
ATTACH;FMTTYPE=image/jpeg:https://terezjanki.org/wp-content/uploads/2022/09/Roze-imieniny-wydarzenia.jpg
END:VEVENT
BEGIN:VEVENT
DTSTART;VALUE=DATE:20221214
DTEND;VALUE=DATE:20221215
DTSTAMP:20260420T042408
CREATED:20221213T211727Z
LAST-MODIFIED:20221213T212946Z
UID:15579-1670976000-1671062399@terezjanki.org
SUMMARY:Uroczystość św. Jana od Krzyża
DESCRIPTION:Możliwość uzyskania odpustu zupełnego wynikająca z prawa agregowania do Karmelu
URL:https://terezjanki.org/wydarzenie/uroczystosc-sw-jana-od-krzyza/
END:VEVENT
BEGIN:VEVENT
DTSTART;VALUE=DATE:20221214
DTEND;VALUE=DATE:20221215
DTSTAMP:20260420T042408
CREATED:20221213T211959Z
LAST-MODIFIED:20221213T212931Z
UID:15581-1670976000-1671062399@terezjanki.org
SUMMARY:95. rocznica ogłoszenia św. Teresy patronką misji
DESCRIPTION:14 grudnia 1927 roku\, papież Pius XI ogłosił św. Teresę od Dzieciątka Jezus Patronką Misji. Oto bosa Karmelitanka\, która nigdy nie wyjechała na misje\, już 95 lat nosi ten zaszczytny tytuł Patronki Misji na równi z św. Franciszkiem Ksawerym\, który w przeciwieństwie do niej\, miał możliwość ewangelizacji w wielu krajach.
URL:https://terezjanki.org/wydarzenie/95-rocznica-ogloszenia-sw-teresy-patronka-misji/
ATTACH;FMTTYPE=image/jpeg:https://terezjanki.org/wp-content/uploads/2022/12/Teresa-patronka-Misji.jpg
END:VEVENT
BEGIN:VEVENT
DTSTART;VALUE=DATE:20221214
DTEND;VALUE=DATE:20221215
DTSTAMP:20260420T042408
CREATED:20221213T212810Z
LAST-MODIFIED:20221213T212909Z
UID:15585-1670976000-1671062399@terezjanki.org
SUMMARY:Rocznica wydania biskupowi Szelążkowi nominacji na Ordynariusza Diecezji Łuckiej (1925)
DESCRIPTION:W dniu 14 grudnia 1925 roku ks. biskup Adolf Piotr Szelążek objął diecezję łucką na Wołyniu. Ingres ks. biskupa Szelążka odbył się 24 lutego 1926 roku. Adolf Piotr miał 60 lat\, gdy Stolica Apostolska powierzyła jego opiece społeczeństwo na Kresach. Dzięki wytężonej pracy duszpasterskiej\, gorliwej modlitwie oraz umiejętności pozyskiwania sobie współpracowników\, jako Ordynariusz diecezji łuckiej\, biskup Szelążek dokonał wielu ważnych i znaczących dzieł na terenie Wołynia. \nOto niektóre z nich: \n– zdobył zaufanie władz państwowych;\n– pozyskał sobie księży i społeczeństwo;\n– zwołał w 1927 roku synod diecezjalny\, którego celem było ustanowienie programy duszpasterskiego odradzającego życie religijne diecezji;\n– zainspirował regularne prowadzenie rekolekcji\, misji dla inteligencji\, duchowieństwa oraz innych grup społecznych;\n– sprowadził do diecezji cudowne obrazy: Matki Bożej Latyczowskiej oraz Jezusa Tarnorudzkiego;\n– dostosował do potrzeb ewangelizacji kurie biskupią;\n– otworzył w 1926 roku drukarnię diecezjalną;\n– wizytował poszczególne parafię i odwiedzał diecezjan w ich prywatnych domach;\n– wybudował wiele nowych kościołów i kaplic na terenie diecezji;\n– reaktywował w 1928 roku Rzymskokatolickie Diecezjalne Towarzystwo Dobroczynności;\n– troszczył się o kapłańską formację swoich księży i otaczał ich opieką;\n– wybrał w 1927 roku św. Teresę od Dzieciątka Jezus na patronkę diecezji;\n– założył w 1936 roku Zgromadzenie Sióstr św. Teresy od Dzieciątka Jezus\, by zajęło się religijnym wychowywaniem dzieci i młodzieży;\n– brał aktywny udział w rozszerzaniu unii Kościoła łacińskiego i wschodniego;\n– w czasie wojny pozostał z wiernymi na terenie diecezji i umacniał ich duchowo;\n– w czasie okupacji niemieckiej w 1942 roku zorganizował w Łucku Katolicki Komitet Pomocy;\n– w czasie okupacji rosyjskiej pozostał na terenie diecezji\, by kontynuować pasterską posługę. \nBiskup Adolf Piotr Szelążek został aresztowany przez władze sowiecki w styczniu 1945 roku i przebywał w areszcie NKWD. Ostatecznie został deportowany z Wołynia w maju 1946 roku i zamieszkał w Zamku Bierzgłowskim blisko Torunia. W trudnych warunkach wojennych zachował pokój serca i niezachwianą ufność w Opatrzność Bożą. Dał przykład niezłomnej wiary i wielkiej miłości do swoich diecezjan oraz kapłanów\, którzy z nim współpracowali. \nWarto pamiętać o dokonaniach Sługi Bożego biskupa Szelążka na terenie diecezji łuckiej oraz modlić się przez Jego wstawiennictwo za wszystkich biskupów i kapłanów\, by upraszał im z nieba potrzebne łaski w ich pełnej trudu posłudze duszpasterskiej. \ns. Bogumiła Ptasińska CST
URL:https://terezjanki.org/wydarzenie/rocznica-wydania-biskupowi-szelazkowi-nominacji-na-ordynariusza-diecezji-luckiej-1925/
ATTACH;FMTTYPE=image/jpeg:https://terezjanki.org/wp-content/uploads/2020/06/Szelążek-przy-portrecie.jpg
END:VEVENT
BEGIN:VEVENT
DTSTART;VALUE=DATE:20221214
DTEND;VALUE=DATE:20221215
DTSTAMP:20260420T042408
CREATED:20221213T213150Z
LAST-MODIFIED:20221213T213157Z
UID:15589-1670976000-1671062399@terezjanki.org
SUMMARY:Imieniny s. Jany
DESCRIPTION:
URL:https://terezjanki.org/wydarzenie/imieniny-s-jany/
ATTACH;FMTTYPE=image/jpeg:https://terezjanki.org/wp-content/uploads/2022/09/Roze-imieniny-wydarzenia.jpg
END:VEVENT
BEGIN:VEVENT
DTSTART;VALUE=DATE:20221215
DTEND;VALUE=DATE:20221216
DTSTAMP:20260420T042408
CREATED:20221213T213258Z
LAST-MODIFIED:20221213T215027Z
UID:15591-1671062400-1671148799@terezjanki.org
SUMMARY:Imieniny s. Niny
DESCRIPTION:
URL:https://terezjanki.org/wydarzenie/imieniny-s-niny/
ATTACH;FMTTYPE=image/jpeg:https://terezjanki.org/wp-content/uploads/2022/09/Roze-imieniny-wydarzenia.jpg
END:VEVENT
END:VCALENDAR