BEGIN:VCALENDAR
VERSION:2.0
PRODID:-//Terezjanki - ECPv6.15.12.2//NONSGML v1.0//EN
CALSCALE:GREGORIAN
METHOD:PUBLISH
X-WR-CALNAME:Terezjanki
X-ORIGINAL-URL:https://terezjanki.org
X-WR-CALDESC:Wydarzenia dla Terezjanki
REFRESH-INTERVAL;VALUE=DURATION:PT1H
X-Robots-Tag:noindex
X-PUBLISHED-TTL:PT1H
BEGIN:VTIMEZONE
TZID:Europe/Warsaw
BEGIN:DAYLIGHT
TZOFFSETFROM:+0100
TZOFFSETTO:+0200
TZNAME:CEST
DTSTART:20250330T010000
END:DAYLIGHT
BEGIN:STANDARD
TZOFFSETFROM:+0200
TZOFFSETTO:+0100
TZNAME:CET
DTSTART:20251026T010000
END:STANDARD
BEGIN:DAYLIGHT
TZOFFSETFROM:+0100
TZOFFSETTO:+0200
TZNAME:CEST
DTSTART:20260329T010000
END:DAYLIGHT
BEGIN:STANDARD
TZOFFSETFROM:+0200
TZOFFSETTO:+0100
TZNAME:CET
DTSTART:20261025T010000
END:STANDARD
BEGIN:DAYLIGHT
TZOFFSETFROM:+0100
TZOFFSETTO:+0200
TZNAME:CEST
DTSTART:20270328T010000
END:DAYLIGHT
BEGIN:STANDARD
TZOFFSETFROM:+0200
TZOFFSETTO:+0100
TZNAME:CET
DTSTART:20271031T010000
END:STANDARD
END:VTIMEZONE
BEGIN:VEVENT
DTSTART;VALUE=DATE:20261018
DTEND;VALUE=DATE:20261019
DTSTAMP:20260419T214051
CREATED:20260102T081029Z
LAST-MODIFIED:20260102T081029Z
UID:22645-1792281600-1792367999@terezjanki.org
SUMMARY:Rocznica kanonizacji Rodziców św. Teresy
DESCRIPTION:Rodzice św. Teresy od Dzieciątka Jezus\, Ludwik i Zelia Martin\, zostali kanonizowani 18 października 2015 roku przez Papieża Franciszka podczas Synodu Biskupów o rodzinie w Watykanie\, stając się pierwszą w historii Kościoła parą małżeńską kanonizowaną razem\, co miało miejsce w kontekście rozważań o rodzinie\, by pokazać wzór sakramentalnego małżeństwa.
URL:https://terezjanki.org/wydarzenie/rocznica-kanonizacji-rodzicow-sw-teresy/
ATTACH;FMTTYPE=image/jpeg:https://terezjanki.org/wp-content/uploads/2025/11/obrazek-wyrozniajacy-Ludwik-i-Zelia-Martin.jpg
END:VEVENT
END:VCALENDAR