BEGIN:VCALENDAR
VERSION:2.0
PRODID:-//Terezjanki - ECPv6.15.12.2//NONSGML v1.0//EN
CALSCALE:GREGORIAN
METHOD:PUBLISH
X-ORIGINAL-URL:https://terezjanki.org
X-WR-CALDESC:Wydarzenia dla Terezjanki
REFRESH-INTERVAL;VALUE=DURATION:PT1H
X-Robots-Tag:noindex
X-PUBLISHED-TTL:PT1H
BEGIN:VTIMEZONE
TZID:Europe/Warsaw
BEGIN:DAYLIGHT
TZOFFSETFROM:+0100
TZOFFSETTO:+0200
TZNAME:CEST
DTSTART:20250330T010000
END:DAYLIGHT
BEGIN:STANDARD
TZOFFSETFROM:+0200
TZOFFSETTO:+0100
TZNAME:CET
DTSTART:20251026T010000
END:STANDARD
BEGIN:DAYLIGHT
TZOFFSETFROM:+0100
TZOFFSETTO:+0200
TZNAME:CEST
DTSTART:20260329T010000
END:DAYLIGHT
BEGIN:STANDARD
TZOFFSETFROM:+0200
TZOFFSETTO:+0100
TZNAME:CET
DTSTART:20261025T010000
END:STANDARD
BEGIN:DAYLIGHT
TZOFFSETFROM:+0100
TZOFFSETTO:+0200
TZNAME:CEST
DTSTART:20270328T010000
END:DAYLIGHT
BEGIN:STANDARD
TZOFFSETFROM:+0200
TZOFFSETTO:+0100
TZNAME:CET
DTSTART:20271031T010000
END:STANDARD
END:VTIMEZONE
BEGIN:VEVENT
DTSTART;VALUE=DATE:20260712
DTEND;VALUE=DATE:20260713
DTSTAMP:20260419T170617
CREATED:20251230T064508Z
LAST-MODIFIED:20251230T064508Z
UID:22491-1783814400-1783900799@terezjanki.org
SUMMARY:Wspomnienie św. Ludwika i Zelii Martin
DESCRIPTION:Święta Teresa z Lisieux po wielu latach wspominała wielką czułość rodziców\, dziękując Panu Jezusowi\, który sprawił\, że urodziła się na ziemi świętej\, a jej rodzice przeniknięci byli wonią dziewictwa. Przed śmiercią napisała: Dobry Bóg dał nam ojca i matkę\, którzy byli bardziej godni Nieba\, aniżeli ziemi.
URL:https://terezjanki.org/wydarzenie/wspomnienie-sw-ludwika-i-zelii-martin-2/
ATTACH;FMTTYPE=image/jpeg:https://terezjanki.org/wp-content/uploads/2022/10/Ludwik-i-Zelia-Martin.jpg
END:VEVENT
END:VCALENDAR