BEGIN:VCALENDAR
VERSION:2.0
PRODID:-//Terezjanki - ECPv6.15.12.2//NONSGML v1.0//EN
CALSCALE:GREGORIAN
METHOD:PUBLISH
X-WR-CALNAME:Terezjanki
X-ORIGINAL-URL:https://terezjanki.org
X-WR-CALDESC:Wydarzenia dla Terezjanki
REFRESH-INTERVAL;VALUE=DURATION:PT1H
X-Robots-Tag:noindex
X-PUBLISHED-TTL:PT1H
BEGIN:VTIMEZONE
TZID:Europe/Warsaw
BEGIN:DAYLIGHT
TZOFFSETFROM:+0100
TZOFFSETTO:+0200
TZNAME:CEST
DTSTART:20250330T010000
END:DAYLIGHT
BEGIN:STANDARD
TZOFFSETFROM:+0200
TZOFFSETTO:+0100
TZNAME:CET
DTSTART:20251026T010000
END:STANDARD
BEGIN:DAYLIGHT
TZOFFSETFROM:+0100
TZOFFSETTO:+0200
TZNAME:CEST
DTSTART:20260329T010000
END:DAYLIGHT
BEGIN:STANDARD
TZOFFSETFROM:+0200
TZOFFSETTO:+0100
TZNAME:CET
DTSTART:20261025T010000
END:STANDARD
BEGIN:DAYLIGHT
TZOFFSETFROM:+0100
TZOFFSETTO:+0200
TZNAME:CEST
DTSTART:20270328T010000
END:DAYLIGHT
BEGIN:STANDARD
TZOFFSETFROM:+0200
TZOFFSETTO:+0100
TZNAME:CET
DTSTART:20271031T010000
END:STANDARD
END:VTIMEZONE
BEGIN:VEVENT
DTSTART;VALUE=DATE:20260629
DTEND;VALUE=DATE:20260630
DTSTAMP:20260419T153437
CREATED:20251229T153843Z
LAST-MODIFIED:20251229T153843Z
UID:22478-1782691200-1782777599@terezjanki.org
SUMMARY:Uroczystość św. Apostołów Piotra i Pawła
DESCRIPTION:Uroczystość świętych Apostołów Piotra i Pawła obchodzona jest w Kościele katolickim ku czci tych dwóch ważnych postaci chrześcijaństwa. Piotr był pierwszym papieżem\, a Paweł był jednym z najważniejszych misjonarzy.
URL:https://terezjanki.org/wydarzenie/uroczystosc-sw-apostolow-piotra-i-pawla/
ATTACH;FMTTYPE=image/jpeg:https://terezjanki.org/wp-content/uploads/2025/12/Sw.-Piotr-i-Pawel.jpg
END:VEVENT
END:VCALENDAR