BEGIN:VCALENDAR
VERSION:2.0
PRODID:-//Terezjanki - ECPv6.15.12.2//NONSGML v1.0//EN
CALSCALE:GREGORIAN
METHOD:PUBLISH
X-ORIGINAL-URL:https://terezjanki.org
X-WR-CALDESC:Wydarzenia dla Terezjanki
REFRESH-INTERVAL;VALUE=DURATION:PT1H
X-Robots-Tag:noindex
X-PUBLISHED-TTL:PT1H
BEGIN:VTIMEZONE
TZID:Europe/Warsaw
BEGIN:DAYLIGHT
TZOFFSETFROM:+0100
TZOFFSETTO:+0200
TZNAME:CEST
DTSTART:20240331T010000
END:DAYLIGHT
BEGIN:STANDARD
TZOFFSETFROM:+0200
TZOFFSETTO:+0100
TZNAME:CET
DTSTART:20241027T010000
END:STANDARD
BEGIN:DAYLIGHT
TZOFFSETFROM:+0100
TZOFFSETTO:+0200
TZNAME:CEST
DTSTART:20250330T010000
END:DAYLIGHT
BEGIN:STANDARD
TZOFFSETFROM:+0200
TZOFFSETTO:+0100
TZNAME:CET
DTSTART:20251026T010000
END:STANDARD
BEGIN:DAYLIGHT
TZOFFSETFROM:+0100
TZOFFSETTO:+0200
TZNAME:CEST
DTSTART:20260329T010000
END:DAYLIGHT
BEGIN:STANDARD
TZOFFSETFROM:+0200
TZOFFSETTO:+0100
TZNAME:CET
DTSTART:20261025T010000
END:STANDARD
END:VTIMEZONE
BEGIN:VEVENT
DTSTART;VALUE=DATE:20250418
DTEND;VALUE=DATE:20250427
DTSTAMP:20260420T071433
CREATED:20250401T070233Z
LAST-MODIFIED:20250401T070233Z
UID:21475-1744934400-1745711999@terezjanki.org
SUMMARY:Nowenna do Bożego Miłosierdzia
DESCRIPTION:Nowenna do Miłosierdzia Bożego powstała na podstawie objawień św. siostry Faustyny Kowalskiej. Odmawiana jest przez dziewięć dni przed Niedzielą Miłosierdzia Bożego.
URL:https://terezjanki.org/wydarzenie/nowenna-do-bozego-milosierdzia/
ATTACH;FMTTYPE=image/jpeg:https://terezjanki.org/wp-content/uploads/2022/04/Niedziela-Milosierdzia.jpg
END:VEVENT
END:VCALENDAR