BEGIN:VCALENDAR
VERSION:2.0
PRODID:-//Terezjanki - ECPv6.15.12.2//NONSGML v1.0//EN
CALSCALE:GREGORIAN
METHOD:PUBLISH
X-ORIGINAL-URL:https://terezjanki.org
X-WR-CALDESC:Wydarzenia dla Terezjanki
REFRESH-INTERVAL;VALUE=DURATION:PT1H
X-Robots-Tag:noindex
X-PUBLISHED-TTL:PT1H
BEGIN:VTIMEZONE
TZID:Europe/Warsaw
BEGIN:DAYLIGHT
TZOFFSETFROM:+0100
TZOFFSETTO:+0200
TZNAME:CEST
DTSTART:20220327T010000
END:DAYLIGHT
BEGIN:STANDARD
TZOFFSETFROM:+0200
TZOFFSETTO:+0100
TZNAME:CET
DTSTART:20221030T010000
END:STANDARD
BEGIN:DAYLIGHT
TZOFFSETFROM:+0100
TZOFFSETTO:+0200
TZNAME:CEST
DTSTART:20230326T010000
END:DAYLIGHT
BEGIN:STANDARD
TZOFFSETFROM:+0200
TZOFFSETTO:+0100
TZNAME:CET
DTSTART:20231029T010000
END:STANDARD
BEGIN:DAYLIGHT
TZOFFSETFROM:+0100
TZOFFSETTO:+0200
TZNAME:CEST
DTSTART:20240331T010000
END:DAYLIGHT
BEGIN:STANDARD
TZOFFSETFROM:+0200
TZOFFSETTO:+0100
TZNAME:CET
DTSTART:20241027T010000
END:STANDARD
BEGIN:DAYLIGHT
TZOFFSETFROM:+0100
TZOFFSETTO:+0200
TZNAME:CEST
DTSTART:20250330T010000
END:DAYLIGHT
BEGIN:STANDARD
TZOFFSETFROM:+0200
TZOFFSETTO:+0100
TZNAME:CET
DTSTART:20251026T010000
END:STANDARD
END:VTIMEZONE
BEGIN:VEVENT
DTSTART;VALUE=DATE:20230102
DTEND;VALUE=DATE:20240103
DTSTAMP:20260422T003200
CREATED:20230101T215902Z
LAST-MODIFIED:20230104T144248Z
UID:15897-1672617600-1704239999@terezjanki.org
SUMMARY:150. rocznica urodzin św. Teresy od Dzieciątka Jezus
DESCRIPTION:2 stycznia br. rozpoczęliśmy Jubileusz 150. rocznicy urodzin świętej Teresy od Dzieciątka Jezus. To ważne wydarzenie w życiu Kościoła oraz w naszym Zgromadzeniu. Organizacja Narodów Zjednoczonych ds. Oświaty\, Nauki i Kultury wpisała św. Teresę z Lisieux na listę rocznic\, które będą przez UNESCO obchodzone w 2022-2023 roku. W roku Jubileuszowym pojawi się wiele inicjatyw przybliżających osobę i przesłanie świętej z Lisieux. Obudźmy w Kościele i świecie na nowo ducha małej Teresy. \nMaria Franciszka Teresa Martin\, przyszła święta Teresa od Dzieciątka Jezus\, urodziła się 2 stycznia 1873 roku w Alencon. Odkryła i pokazała całemu światu małą drogę do nieba\, drogę ufności i całkowitego zawierzenia siebie łasce Bożej. \nWspominając dzień urodzin największej Świętej XX wieku\, trudno nie wspomnieć o jej Świętych Rodzicach\, którzy zaszczepili ziarno miłości w sercu Teresy. To z ich trudu\, miłości i heroicznej wiary wyrósł owoc\, który odsłonił i pokazał całej ludzkości małą drogę do nieba\, drogę ufności i całkowitego zawierzenia siebie łasce Bożej. Sama Teresa w liście do księdza Maurycego Belliere’a (26 lipca 1897) docenia rolę swoich Rodziców w Bożym planie zbawienia: \n\n„Dobry Bóg dał mi Ojca i Matkę godniejszych Nieba niż ziemi. Prosili Pana\, by dał im dużo dzieci i by je wziął dla siebie. Pragnienie to zostało wysłuchane. Czworo małych aniołków uleciało do Nieba\, a pięć pozostałych na arenie życia wybrało Jezusa za Oblubieńca. Z męstwem prawdziwie heroicznym Ojciec mój\, jak nowy Abraham\, wspiął się trzykrotnie na Górę Karmel\, by złożyć Bogu ofiarę z tego\, co miał najdroższego”. \n\nPrzeżywając Jubileusz 150. rocznicy urodzin św. Teresy od Dzieciątka Jezus\, dziękujmy dobremu Bogu\, za jej życie\, świętość i małą drogę. Prośmy abyśmy w tym szczególnym czasie doświadczyli łaski duchowej odnowy i głębszego poznania małej drogi dziecięctwa duchowego. \nJeśli chcesz dobrze przeżyć Jubileusz i bardziej poznać św. Teresę od Dzieciątka Jezus bądź w kontakcie z nami\, a już teraz zajrzyj na poniższe linki. \n150 rocznica urodzin św.Teresy \nŻywa róża dla Teresy \nHistoria życia św. Teresy z Lisieux \nPatronka Zgromadzenia \nWszyscy mnie kochać będą \nMiłość Miłosierna odnawia mnie \nPielgrzymka śladami św. Teresy z Lisieux \nPociągnij mnie (…) Pobiegniemy! \nMała droga \ns. Dawida Prusińska CST
URL:https://terezjanki.org/wydarzenie/150-rocznica-urodzin-sw-teresy-od-dzieciatka-jezus/
ATTACH;FMTTYPE=image/jpeg:https://terezjanki.org/wp-content/uploads/2023/01/150-rocznica-urodzin.jpg
END:VEVENT
BEGIN:VEVENT
DTSTART;VALUE=DATE:20230201
DTEND;VALUE=DATE:20230210
DTSTAMP:20260422T003200
CREATED:20230131T211239Z
LAST-MODIFIED:20230201T154826Z
UID:16183-1675209600-1675987199@terezjanki.org
SUMMARY:Nowenna do Założyciela
DESCRIPTION:Od 1 lutego rozpoczynamy Nowennę do Założyciela Sł. Bożego Adolfa Piotra Szelążka o łaskę nowych powołań do Zgromadzenia oraz w intencji pokoju na Ukrainie.
URL:https://terezjanki.org/wydarzenie/nowenna-do-zalozyciela/
ATTACH;FMTTYPE=image/jpeg:https://terezjanki.org/wp-content/uploads/2021/02/biskup-Adolf-Piotr-Szelążek.jpg
END:VEVENT
BEGIN:VEVENT
DTSTART;VALUE=DATE:20230206
DTEND;VALUE=DATE:20230207
DTSTAMP:20260422T003200
CREATED:20230201T195114Z
LAST-MODIFIED:20230201T195124Z
UID:16206-1675641600-1675727999@terezjanki.org
SUMMARY:Nowenna do Założyciela - Dzień 6
DESCRIPTION:Nowenna do Ojca Założyciela\no łaskę nowych powołań do naszego Zgromadzenia oraz w intencji pokoju na Ukrainie. \nŻycie zewnętrzne jest wynikiem życia wewnętrznego. Jak instrument muzyczny bez artysty jest martwy\, jak ciało bez duszy\, jak ziemia bez słońca\, tak zewnętrzna działalność bez wewnętrznego człowieka. \nMODLITWA ZA WSTAWIENNICTWEM SŁUGI BOŻEGO \nBoże\, Ojcze Wszechmogący\, który obdarzyłeś sługę swego Biskupa Adolfa Piotra\npełnią Chrystusowego kapłaństwa\, mądrością w służbie Kościołowi\,\ndobrocią serca wobec ubogich i pokrzywdzonych oraz ukochaniem drogi duchowego dziecięctwa\,\nspraw\, abyśmy wsparci jego przykładem\nstale wzrastali w wierze oraz miłości Boga i bliźniego.\nPozwól nam cieszyć się jego chwałą w niebie i udziel łask\, o które Cię za jego przyczyną z pokorą i ufnością prosimy. Amen. \nOjcze nasz…\, Zdrowaś Maryjo…\, Chwała Ojcu\nSługo Boży Adolfie Piotrze –wstawiaj się za nami!
URL:https://terezjanki.org/wydarzenie/nowenna-do-zalozyciela-dzien-6/
ATTACH;FMTTYPE=image/jpeg:https://terezjanki.org/wp-content/uploads/2021/04/Jubileusz.jpg
END:VEVENT
END:VCALENDAR