BEGIN:VCALENDAR
VERSION:2.0
PRODID:-//Terezjanki - ECPv6.15.12.2//NONSGML v1.0//EN
CALSCALE:GREGORIAN
METHOD:PUBLISH
X-ORIGINAL-URL:https://terezjanki.org
X-WR-CALDESC:Wydarzenia dla Terezjanki
REFRESH-INTERVAL;VALUE=DURATION:PT1H
X-Robots-Tag:noindex
X-PUBLISHED-TTL:PT1H
BEGIN:VTIMEZONE
TZID:Europe/Warsaw
BEGIN:DAYLIGHT
TZOFFSETFROM:+0100
TZOFFSETTO:+0200
TZNAME:CEST
DTSTART:20210328T010000
END:DAYLIGHT
BEGIN:STANDARD
TZOFFSETFROM:+0200
TZOFFSETTO:+0100
TZNAME:CET
DTSTART:20211031T010000
END:STANDARD
BEGIN:DAYLIGHT
TZOFFSETFROM:+0100
TZOFFSETTO:+0200
TZNAME:CEST
DTSTART:20220327T010000
END:DAYLIGHT
BEGIN:STANDARD
TZOFFSETFROM:+0200
TZOFFSETTO:+0100
TZNAME:CET
DTSTART:20221030T010000
END:STANDARD
BEGIN:DAYLIGHT
TZOFFSETFROM:+0100
TZOFFSETTO:+0200
TZNAME:CEST
DTSTART:20230326T010000
END:DAYLIGHT
BEGIN:STANDARD
TZOFFSETFROM:+0200
TZOFFSETTO:+0100
TZNAME:CET
DTSTART:20231029T010000
END:STANDARD
END:VTIMEZONE
BEGIN:VEVENT
DTSTART;VALUE=DATE:20221216
DTEND;VALUE=DATE:20221225
DTSTAMP:20260419T234011
CREATED:20221213T213659Z
LAST-MODIFIED:20221213T214413Z
UID:15593-1671148800-1671926399@terezjanki.org
SUMMARY:Nowenna przed Uroczystością Bożego Narodzenia
DESCRIPTION:Nowenna do Dzieciątka Jezus\nJedyna moja Miłość\n16-24 grudnia \nTrwając w adwentowym zamyśleniu i oczekiwaniu na przyjście Dzieciątka Jezus\, serdecznie zapraszamy do wspólnej modlitwy z całym naszym Zgromadzeniem Sióstr św. Teresy od Dzieciątka Jezus nowenną Jedyna moja Miłość. W modlitwie tej przez kolejne dni wraz ze św. Teresą od Dzieciątka Jezus będziemy zgłębiać cnoty dziecięctwa Bożego Niech Jezus stanie się jedyną i największą Miłością naszego życia. \ns. Teresa Kalska CST
URL:https://terezjanki.org/wydarzenie/nowenna-przed-uroczystoscia-bozego-narodzenia/
ATTACH;FMTTYPE=image/jpeg:https://terezjanki.org/wp-content/uploads/2022/12/Zapowiedz-Nowenny-do-DzJ-2022.jpg
END:VEVENT
BEGIN:VEVENT
DTSTART;VALUE=DATE:20221221
DTEND;VALUE=DATE:20221222
DTSTAMP:20260419T234011
CREATED:20221213T220429Z
LAST-MODIFIED:20221213T220429Z
UID:15608-1671580800-1671667199@terezjanki.org
SUMMARY:Dzień 6 Nowenny do Dzieciątka Jezus
DESCRIPTION:Być wdzięcznym \n\nA pasterze wrócili\, wielbiąc i wysławiając Boga za wszystko\, co słyszeli i widzieli\, jak im to było powiedziane. (Łk2\,20) \n\nJezus nie żąda wielkich czynów\, ale jedynie zdania się na Niego i wdzięczności. Wdzięczność jest tym\, co najbardziej przyciąga łaski Boże. Gdy dziękujemy za dobrodziejstwa\, Bóg jest wzruszony i spieszy\, by dać nam dziesięć nowych łask\, a jeśli dziękujemy\, to jakże nieobliczalne jest pomnożenie łask. \nMoja wdzięczność jest bezgraniczna za wszystko\, co mi Bóg dał\, i okazuje Mu ją w tysiączny sposób. \nJezu\, gdybym tak mogła powiedzieć wszystkim małym duszom jak niewysłowiona jest Twoja przychylność. \nO Boskie Dzieciątko\, jedyny mój skarbie. Wyryj w mojej duszy cnotę Twojej wdzięczności\, aby w dniu mych narodzin dla Nieba\, Aniołowie i Święci poznali Twoją małą oblubienicę. \ns. Teresa Kalska CST
URL:https://terezjanki.org/wydarzenie/dzien-6-nowenny-do-dzieciatka-jezus/
ATTACH;FMTTYPE=image/jpeg:https://terezjanki.org/wp-content/uploads/2022/12/6-Nowenna-DzJ-2022.jpg
END:VEVENT
END:VCALENDAR