BEGIN:VCALENDAR
VERSION:2.0
PRODID:-//Terezjanki - ECPv6.15.12.2//NONSGML v1.0//EN
CALSCALE:GREGORIAN
METHOD:PUBLISH
X-WR-CALNAME:Terezjanki
X-ORIGINAL-URL:https://terezjanki.org
X-WR-CALDESC:Wydarzenia dla Terezjanki
REFRESH-INTERVAL;VALUE=DURATION:PT1H
X-Robots-Tag:noindex
X-PUBLISHED-TTL:PT1H
BEGIN:VTIMEZONE
TZID:Europe/Warsaw
BEGIN:DAYLIGHT
TZOFFSETFROM:+0100
TZOFFSETTO:+0200
TZNAME:CEST
DTSTART:20210328T010000
END:DAYLIGHT
BEGIN:STANDARD
TZOFFSETFROM:+0200
TZOFFSETTO:+0100
TZNAME:CET
DTSTART:20211031T010000
END:STANDARD
BEGIN:DAYLIGHT
TZOFFSETFROM:+0100
TZOFFSETTO:+0200
TZNAME:CEST
DTSTART:20220327T010000
END:DAYLIGHT
BEGIN:STANDARD
TZOFFSETFROM:+0200
TZOFFSETTO:+0100
TZNAME:CET
DTSTART:20221030T010000
END:STANDARD
BEGIN:DAYLIGHT
TZOFFSETFROM:+0100
TZOFFSETTO:+0200
TZNAME:CEST
DTSTART:20230326T010000
END:DAYLIGHT
BEGIN:STANDARD
TZOFFSETFROM:+0200
TZOFFSETTO:+0100
TZNAME:CET
DTSTART:20231029T010000
END:STANDARD
END:VTIMEZONE
BEGIN:VEVENT
DTSTART;VALUE=DATE:20220922
DTEND;VALUE=DATE:20221001
DTSTAMP:20260420T024457
CREATED:20220922T080322Z
LAST-MODIFIED:20220922T080322Z
UID:14603-1663804800-1664582399@terezjanki.org
SUMMARY:Nowenna do św. Teresy od Dzieciątka Jezus
DESCRIPTION:Przed liturgicznym wspomnieniem św. Teresy od Dzieciątka Jezus\, które przypada 1 października\, wszystkie wspólnoty Zgromadzenia odprawiają dziewięciodniową Nowennę prosząc o „deszcz róż” – łask Bożych przez wstawiennictwo patronki Zgromadzenia.
URL:https://terezjanki.org/wydarzenie/nowenna-do-sw-teresy-od-dzieciatka-jezus/
END:VEVENT
BEGIN:VEVENT
DTSTART;VALUE=DATE:20220927
DTEND;VALUE=DATE:20220928
DTSTAMP:20260420T024457
CREATED:20220926T145303Z
LAST-MODIFIED:20220926T145303Z
UID:14766-1664236800-1664323199@terezjanki.org
SUMMARY:Dzień 6 Nowenny do św. Teresy
DESCRIPTION:Nasza Patronka żyła głęboko tajemnicą Najświętszego Oblicza Pana Jezusa\, które kontemplowała podobnie jak dziecięctwo Boże. Na fotografii Teresa trzyma w dłoniach dwa obrazy: jeden przedstawiający Dzieciątko Jezus\, drugi Oblicze z chusty Weroniki. Zdjęcie wykonane Teresie na trzy miesiące przed śmiercią oddaje w pełni jej duchowość przenikniętą duchem dziecięctwa i Boskiego Oblicza. \nCałość Nowenny znajdziesz TUTAJ.
URL:https://terezjanki.org/wydarzenie/dzien-6-nowenny-do-sw-teresy/
ATTACH;FMTTYPE=image/jpeg:https://terezjanki.org/wp-content/uploads/2022/09/Nowenna-6.jpg
END:VEVENT
END:VCALENDAR