BEGIN:VCALENDAR
VERSION:2.0
PRODID:-//Terezjanki - ECPv6.15.12.2//NONSGML v1.0//EN
CALSCALE:GREGORIAN
METHOD:PUBLISH
X-WR-CALNAME:Terezjanki
X-ORIGINAL-URL:https://terezjanki.org
X-WR-CALDESC:Wydarzenia dla Terezjanki
REFRESH-INTERVAL;VALUE=DURATION:PT1H
X-Robots-Tag:noindex
X-PUBLISHED-TTL:PT1H
BEGIN:VTIMEZONE
TZID:Europe/Warsaw
BEGIN:DAYLIGHT
TZOFFSETFROM:+0100
TZOFFSETTO:+0200
TZNAME:CEST
DTSTART:20210328T010000
END:DAYLIGHT
BEGIN:STANDARD
TZOFFSETFROM:+0200
TZOFFSETTO:+0100
TZNAME:CET
DTSTART:20211031T010000
END:STANDARD
BEGIN:DAYLIGHT
TZOFFSETFROM:+0100
TZOFFSETTO:+0200
TZNAME:CEST
DTSTART:20220327T010000
END:DAYLIGHT
BEGIN:STANDARD
TZOFFSETFROM:+0200
TZOFFSETTO:+0100
TZNAME:CET
DTSTART:20221030T010000
END:STANDARD
BEGIN:DAYLIGHT
TZOFFSETFROM:+0100
TZOFFSETTO:+0200
TZNAME:CEST
DTSTART:20230326T010000
END:DAYLIGHT
BEGIN:STANDARD
TZOFFSETFROM:+0200
TZOFFSETTO:+0100
TZNAME:CET
DTSTART:20231029T010000
END:STANDARD
END:VTIMEZONE
BEGIN:VEVENT
DTSTART;VALUE=DATE:20220920
DTEND;VALUE=DATE:20220921
DTSTAMP:20260420T042730
CREATED:20220922T080601Z
LAST-MODIFIED:20220922T080942Z
UID:14605-1663632000-1663718399@terezjanki.org
SUMMARY:Zapowiedź Nowenny do św. Teresy od Dzieciątka Jezus
DESCRIPTION:Nowenna przed Uroczystością św. Teresy od Dzieciątka Jezus\n“POCIĄGNIJ MNIE”\n(22 – 30 września) \nWprowadzenie \nLiturgiczne wspomnienie św. Teresy od Dzieciątka Jezus przypada 1 października. Jest to dzień\, w którym będziemy uwielbiać Boga za życie\, powołanie i posłannictwo świętej z Lisieux\, jak też wypraszać u Boga  łaski przez jej Orędownictwo. \nNasza Patronka  jest bliska wielu ludziom\, także spoza Kościoła katolickiego poprzez prostotę swego ewangelicznego przesłania. Dzięki doświadczonej wierze stała się siostrą wszystkich\, którzy szukają prawdy i sensu życia. \nDo obchodów liturgicznego wspomnienia św. Teresy od Dzieciątka Jezus  będziemy przygotować się  duchowo poprzez  dziewięciodniową nowennę pod nazwą: „Pociągnij mnie”. \nNowenna pozwoli nam odkrywać piękno duchowe św. Teresy od Dzieciątka Jezus\, które pozostawiła Kościołowi i światu. Będziemy także prosić Boga o „deszcz róż”\, łask Bożych przez jej wstawiennictwo. \nSerdecznie zapraszamy do wspólnej modlitwy. \ns. Dawida Prusińska CST
URL:https://terezjanki.org/wydarzenie/zapowiedz-nowenny-do-sw-teresy-od-dzieciatka-jezus/
ATTACH;FMTTYPE=image/jpeg:https://terezjanki.org/wp-content/uploads/2022/09/2.jpg
END:VEVENT
END:VCALENDAR