BEGIN:VCALENDAR
VERSION:2.0
PRODID:-//Terezjanki - ECPv6.15.12.2//NONSGML v1.0//EN
CALSCALE:GREGORIAN
METHOD:PUBLISH
X-ORIGINAL-URL:https://terezjanki.org
X-WR-CALDESC:Wydarzenia dla Terezjanki
REFRESH-INTERVAL;VALUE=DURATION:PT1H
X-Robots-Tag:noindex
X-PUBLISHED-TTL:PT1H
BEGIN:VTIMEZONE
TZID:Europe/Warsaw
BEGIN:DAYLIGHT
TZOFFSETFROM:+0100
TZOFFSETTO:+0200
TZNAME:CEST
DTSTART:20210328T010000
END:DAYLIGHT
BEGIN:STANDARD
TZOFFSETFROM:+0200
TZOFFSETTO:+0100
TZNAME:CET
DTSTART:20211031T010000
END:STANDARD
BEGIN:DAYLIGHT
TZOFFSETFROM:+0100
TZOFFSETTO:+0200
TZNAME:CEST
DTSTART:20220327T010000
END:DAYLIGHT
BEGIN:STANDARD
TZOFFSETFROM:+0200
TZOFFSETTO:+0100
TZNAME:CET
DTSTART:20221030T010000
END:STANDARD
BEGIN:DAYLIGHT
TZOFFSETFROM:+0100
TZOFFSETTO:+0200
TZNAME:CEST
DTSTART:20230326T010000
END:DAYLIGHT
BEGIN:STANDARD
TZOFFSETFROM:+0200
TZOFFSETTO:+0100
TZNAME:CET
DTSTART:20231029T010000
END:STANDARD
END:VTIMEZONE
BEGIN:VEVENT
DTSTART;VALUE=DATE:20220611
DTEND;VALUE=DATE:20220612
DTSTAMP:20260420T084216
CREATED:20220117T205929Z
LAST-MODIFIED:20220117T205941Z
UID:12506-1654905600-1654991999@terezjanki.org
SUMMARY:Beatyfikacja elżbietanek z Wrocławia
DESCRIPTION:11 czerwca we Wrocławiu odbędzie się beatyfikacja s. Marii Paschalis Jahn i 9 towarzyszek\, sióstr elżbietanek pochodzenia niemieckiego. Wobec inwazji wojsk sowieckich pod koniec II Wojny Światowej na terenie Dolnego Śląska\, nie zdecydowały się one na ucieczkę lecz zostały przy osobach\, którymi się opiekowały. Wszystkie zginęły z rąk żołnierzy radzieckich broniąc czystości własnej i innych osób.
URL:https://terezjanki.org/wydarzenie/beatyfikacja-elzbietanek-z-wroclawia/
END:VEVENT
BEGIN:VEVENT
DTSTART;TZID=Europe/Warsaw:20220611T090000
DTEND;TZID=Europe/Warsaw:20220611T170000
DTSTAMP:20260420T084216
CREATED:20220503T150536Z
LAST-MODIFIED:20220503T150536Z
UID:13728-1654938000-1654966800@terezjanki.org
SUMMARY:Dzień Otwartej Furty w Ostrowi Mazowieckiej
DESCRIPTION:
URL:https://terezjanki.org/wydarzenie/dzien-otwartej-furty-w-ostrowi-mazowieckiej/
END:VEVENT
END:VCALENDAR