BEGIN:VCALENDAR
VERSION:2.0
PRODID:-//Terezjanki - ECPv6.15.12.2//NONSGML v1.0//EN
CALSCALE:GREGORIAN
METHOD:PUBLISH
X-WR-CALNAME:Terezjanki
X-ORIGINAL-URL:https://terezjanki.org
X-WR-CALDESC:Wydarzenia dla Terezjanki
REFRESH-INTERVAL;VALUE=DURATION:PT1H
X-Robots-Tag:noindex
X-PUBLISHED-TTL:PT1H
BEGIN:VTIMEZONE
TZID:Europe/Warsaw
BEGIN:DAYLIGHT
TZOFFSETFROM:+0100
TZOFFSETTO:+0200
TZNAME:CEST
DTSTART:20210328T010000
END:DAYLIGHT
BEGIN:STANDARD
TZOFFSETFROM:+0200
TZOFFSETTO:+0100
TZNAME:CET
DTSTART:20211031T010000
END:STANDARD
BEGIN:DAYLIGHT
TZOFFSETFROM:+0100
TZOFFSETTO:+0200
TZNAME:CEST
DTSTART:20220327T010000
END:DAYLIGHT
BEGIN:STANDARD
TZOFFSETFROM:+0200
TZOFFSETTO:+0100
TZNAME:CET
DTSTART:20221030T010000
END:STANDARD
BEGIN:DAYLIGHT
TZOFFSETFROM:+0100
TZOFFSETTO:+0200
TZNAME:CEST
DTSTART:20230326T010000
END:DAYLIGHT
BEGIN:STANDARD
TZOFFSETFROM:+0200
TZOFFSETTO:+0100
TZNAME:CET
DTSTART:20231029T010000
END:STANDARD
END:VTIMEZONE
BEGIN:VEVENT
DTSTART;VALUE=DATE:20220527
DTEND;VALUE=DATE:20220605
DTSTAMP:20260420T084632
CREATED:20220508T084149Z
LAST-MODIFIED:20220508T084149Z
UID:13871-1653609600-1654387199@terezjanki.org
SUMMARY:Nowenna przed Uroczystością Zesłania Ducha Świętego
DESCRIPTION:
URL:https://terezjanki.org/wydarzenie/nowenna-przed-uroczystoscia-zeslania-ducha-swietego/
END:VEVENT
BEGIN:VEVENT
DTSTART;VALUE=DATE:20220604
DTEND;VALUE=DATE:20220605
DTSTAMP:20260420T084632
CREATED:20220117T205029Z
LAST-MODIFIED:20220117T205029Z
UID:12498-1654300800-1654387199@terezjanki.org
SUMMARY:Spotkanie młodych LEDNICA 2000
DESCRIPTION:Pod hasłem “Na krańce świata”\, 4 czerwca odbędzie się 26. Spotkanie Młodych nad Lednicą. Tym razem wspólnie z dominikanami wydarzenie przygotowują Papieskie Dzieła Misyjne w Polsce. Jak co roku\, oprócz przejścia przez Bramę-Rybę i wyboru Chrystusa jako przewodnika na drogach życia\, wydarzenie będzie miało swoją specyfikę nawiązującą do tematu spotkania. W tym roku będzie nim Apostoł Paweł\, nazywany Apostołem Narodów\, który zanim zaczął głosić Ewangelię był prześladowcą chrześcijan. Z powodu trwającej pandemii dwie ostatnie edycje wydarzenia odbyły się głównie online. Nie wiadomo jeszcze jaka formułę będzie miało tegoroczne spotkanie.
URL:https://terezjanki.org/wydarzenie/spotkanie-mlodych-lednica-2000/
END:VEVENT
END:VCALENDAR