BEGIN:VCALENDAR
VERSION:2.0
PRODID:-//Terezjanki - ECPv6.15.12.2//NONSGML v1.0//EN
CALSCALE:GREGORIAN
METHOD:PUBLISH
X-ORIGINAL-URL:https://terezjanki.org
X-WR-CALDESC:Wydarzenia dla Terezjanki
REFRESH-INTERVAL;VALUE=DURATION:PT1H
X-Robots-Tag:noindex
X-PUBLISHED-TTL:PT1H
BEGIN:VTIMEZONE
TZID:Europe/Warsaw
BEGIN:DAYLIGHT
TZOFFSETFROM:+0100
TZOFFSETTO:+0200
TZNAME:CEST
DTSTART:20210328T010000
END:DAYLIGHT
BEGIN:STANDARD
TZOFFSETFROM:+0200
TZOFFSETTO:+0100
TZNAME:CET
DTSTART:20211031T010000
END:STANDARD
BEGIN:DAYLIGHT
TZOFFSETFROM:+0100
TZOFFSETTO:+0200
TZNAME:CEST
DTSTART:20220327T010000
END:DAYLIGHT
BEGIN:STANDARD
TZOFFSETFROM:+0200
TZOFFSETTO:+0100
TZNAME:CET
DTSTART:20221030T010000
END:STANDARD
BEGIN:DAYLIGHT
TZOFFSETFROM:+0100
TZOFFSETTO:+0200
TZNAME:CEST
DTSTART:20230326T010000
END:DAYLIGHT
BEGIN:STANDARD
TZOFFSETFROM:+0200
TZOFFSETTO:+0100
TZNAME:CET
DTSTART:20231029T010000
END:STANDARD
END:VTIMEZONE
BEGIN:VEVENT
DTSTART;TZID=Europe/Warsaw:20220515T113000
DTEND;TZID=Europe/Warsaw:20220515T160000
DTSTAMP:20260421T073629
CREATED:20220507T201803Z
LAST-MODIFIED:20220521T135822Z
UID:13852-1652614200-1652630400@terezjanki.org
SUMMARY:Poświęcenie tablicy upamiętniającej pobyt biskupa Szelążka w Węgrowie
DESCRIPTION:Wydarzenie związane z poświęceniem tablicy upamiętniającej pobyt biskupa Adolfa Piotra Szelążka w Węgrowie oraz okolicznościowa konferencja. \nAdolf Piotr Szelążek urodził się w Stoczku Łukowskim\, a dzieciństwo i młodość spędził w Węgrowie. Czas ten w zasadniczy sposób ukształtował jego osobowość do wytrwałej i odważnej służby Bogu Bogu i Ojczyźnie. Po ukończeniu siedleckiego gimnazjum wstąpił do seminarium w Płocku. Studiował w Akademii Duchownej w Petersburgu\, gdzie uzyskał  tytuł magistra teologii z najwyższą notą. Był profesorem seminarium duchownego w Płocku i Petersburgu. W Płocku pracował także przy konsystorzu. Był członkiem kapituły katedralnej\, prezesem Towarzystwa Dobroczynności\, rektorem seminarium. Mianowany został biskupem tytularnym Barki i sufraganem płockim\, później ordynariuszem diecezji łuckiej na Wołyniu. W czasie II wojny światowej bp Szelążek był wieziony w Kijowie. Po wojnie został deportowany z diecezji w granice Polski\, ostatnie lata życia spędził w Zamku Bierzgłowskim koło Torunia. Założył Zgromadzenie Sióstr św. Teresy od Dzieciątka Jezus. \n  \n \nRelację z uroczystości znajdziesz tutaj
URL:https://terezjanki.org/wydarzenie/poswiecenie-tablicy-upamietniajacej-pobyt-biskupa-szelazka-w-wegrowie/
ATTACH;FMTTYPE=image/jpeg:https://terezjanki.org/wp-content/uploads/2022/01/2.jpg
END:VEVENT
END:VCALENDAR