BEGIN:VCALENDAR
VERSION:2.0
PRODID:-//Terezjanki - ECPv6.15.12.2//NONSGML v1.0//EN
CALSCALE:GREGORIAN
METHOD:PUBLISH
X-ORIGINAL-URL:https://terezjanki.org
X-WR-CALDESC:Wydarzenia dla Terezjanki
REFRESH-INTERVAL;VALUE=DURATION:PT1H
X-Robots-Tag:noindex
X-PUBLISHED-TTL:PT1H
BEGIN:VTIMEZONE
TZID:Europe/Warsaw
BEGIN:DAYLIGHT
TZOFFSETFROM:+0100
TZOFFSETTO:+0200
TZNAME:CEST
DTSTART:20210328T010000
END:DAYLIGHT
BEGIN:STANDARD
TZOFFSETFROM:+0200
TZOFFSETTO:+0100
TZNAME:CET
DTSTART:20211031T010000
END:STANDARD
BEGIN:DAYLIGHT
TZOFFSETFROM:+0100
TZOFFSETTO:+0200
TZNAME:CEST
DTSTART:20220327T010000
END:DAYLIGHT
BEGIN:STANDARD
TZOFFSETFROM:+0200
TZOFFSETTO:+0100
TZNAME:CET
DTSTART:20221030T010000
END:STANDARD
BEGIN:DAYLIGHT
TZOFFSETFROM:+0100
TZOFFSETTO:+0200
TZNAME:CEST
DTSTART:20230326T010000
END:DAYLIGHT
BEGIN:STANDARD
TZOFFSETFROM:+0200
TZOFFSETTO:+0100
TZNAME:CET
DTSTART:20231029T010000
END:STANDARD
END:VTIMEZONE
BEGIN:VEVENT
DTSTART;VALUE=DATE:20220508
DTEND;VALUE=DATE:20220515
DTSTAMP:20260421T174329
CREATED:20220507T192927Z
LAST-MODIFIED:20220507T194128Z
UID:13836-1651968000-1652572799@terezjanki.org
SUMMARY:Tydzień Modlitw o Powołania Kapłańskie i Zakonne
DESCRIPTION:IV Niedziela Wielkanocna rozpoczyna Tydzień Modlitw o powołania w Kościele. Prośmy Chrystusa Dobrego Pasterza\, o nowy zasiew licznych i charyzmatycznych powołań\, a powołanym aby nie zabrakło odwagi przyjęcia zaproszenia do wyłącznej służby Bogu. \n 
URL:https://terezjanki.org/wydarzenie/tydzien-modlitw-o-powolania-kaplanskie-i-zakonne/
END:VEVENT
BEGIN:VEVENT
DTSTART;VALUE=DATE:20220509
DTEND;VALUE=DATE:20220510
DTSTAMP:20260421T174329
CREATED:20220507T194458Z
LAST-MODIFIED:20220508T081748Z
UID:13848-1652054400-1652140799@terezjanki.org
SUMMARY:Rocznica agregowania Zgromadzenia do Karmelu (1991)
DESCRIPTION:Zgromadzenie Sióstr św. Teresy od Dzieciątka Jezus jest włączone w wielką Rodzinę Karmelitańską. Uzasadnieniem dokonanego 9 maja 1991 r. aktu agregacji do Karmelu jest Patronka Zgromadzenia – św. Teresa od Dzieciątka Jezus\, której to świętość dojrzewała na żyznej glebie Karmelu. \nDuchowa droga Teresy nazwana przez nią małą drogą\, wyrosła również na gruncie duchowości karmelitańskiej. Duchowość Teresy z Lisieux tzw. droga dziecięctwa duchowego\, została przekazana przez Założyciela Zgromadzeniu Sióstr św. Teresy od Dzieciątka Jezus. Zatem słusznym jest\, by Zgromadzenie wciąż zgłębiało własne podobieństwo ze środowiskiem karmelitańskim. Stąd też prawne uregulowanie i zatwierdzenie związku Zgromadzenia Terezjanek z Karmelem dokonało się 9 maja 1991 roku. \nKarmel jest Rodziną\, w której przeświadczenie o Bożej obecności w życiu każdego chrześcijanina jest szczególnie głęboko przeżywana. Karmel jest Maryjny\, stąd też wszelkie formy nabożeństw Maryjnych stanowią główny nurt formacji w Karmelu. Wśród nich Nabożeństwo do NMP z Góry Karmel jest cechą charakterystyczną duchowości karmelitańskiej. Zewnętrznym znakiem obecności NMP w życiu Rodziny Karmelu jest noszenie szkaplerza. Natomiast życie modlitwy\, pogłębianie osobistej relacji z Jezusem – Oblubieńcem to główny apostolat Karmelu. \nZgromadzenie czerpie z duchowości Karmelu poprzez zgłębianie Świętych karmelitańskich\, wśród których główne miejsce zajmują: św. Teresa od Jezusa i św. Jan od Krzyża. Łączymy duchowość Karmelu z terezjańskim charyzmatem poprzez: \n– korzystanie z Liturgii Zakonu Karmelitańskiego\, \n– noszenie Szkaplerza Świętego\, znaku przynależności do Maryi\, \n– korzystanie z nowenn do Świętych Karmelu\, \n– nabożeństwie do Św. Józefa \n– modlitwie do Matki Bożej Szkaplerznej \n– udziale w rekolekcjach\, dniach skupienia\, szkole Modlitwy Karmelitańskiej prowadzonej przez Ojców Karmelitów. \nWspominając rocznicę przynależności do wielkiej Rodziny karmelitańskiej wyrażamy Bogu dziękczynienie za udział we wszystkich duchowych łaskach Karmelu. Na mocy tejże przynależności nasze Zgromadzenie oraz Zakon Ojców Karmelitów mają prawo do wzajemnej łączności\, współpracy i świadczenia sobie pomocy\, zachowując jednocześnie własną odrębność i jurysdykcję. Fakt agregacji do Karmelu nieustannie motywuje nas do odkrywania ducha Patronki Zgromadzenia\, poprzez dokładne poznanie środowiska i kontekstu jej życia\, oraz duchowych źródeł\, z których czerpała w drodze do świętości. \nAgregacja Zgromadzenia Sióstr św. Teresy od Dzieciątka Jezus do Zakonu Karmelitów Bosych ukazuje obopólne wspieranie się i ubogacanie w wymiarze duchowym. \ns. Dawida Prusińska CST
URL:https://terezjanki.org/wydarzenie/rocznica-agregowania-zgromadzenia-do-karmelu-1991/
ATTACH;FMTTYPE=image/jpeg:https://terezjanki.org/wp-content/uploads/2022/04/Agregowanie-do-Karmelu-1920x1080-1.jpg
END:VEVENT
END:VCALENDAR