BEGIN:VCALENDAR
VERSION:2.0
PRODID:-//Terezjanki - ECPv6.15.12.2//NONSGML v1.0//EN
CALSCALE:GREGORIAN
METHOD:PUBLISH
X-ORIGINAL-URL:https://terezjanki.org
X-WR-CALDESC:Wydarzenia dla Terezjanki
REFRESH-INTERVAL;VALUE=DURATION:PT1H
X-Robots-Tag:noindex
X-PUBLISHED-TTL:PT1H
BEGIN:VTIMEZONE
TZID:Europe/Warsaw
BEGIN:DAYLIGHT
TZOFFSETFROM:+0100
TZOFFSETTO:+0200
TZNAME:CEST
DTSTART:20210328T010000
END:DAYLIGHT
BEGIN:STANDARD
TZOFFSETFROM:+0200
TZOFFSETTO:+0100
TZNAME:CET
DTSTART:20211031T010000
END:STANDARD
BEGIN:DAYLIGHT
TZOFFSETFROM:+0100
TZOFFSETTO:+0200
TZNAME:CEST
DTSTART:20220327T010000
END:DAYLIGHT
BEGIN:STANDARD
TZOFFSETFROM:+0200
TZOFFSETTO:+0100
TZNAME:CET
DTSTART:20221030T010000
END:STANDARD
BEGIN:DAYLIGHT
TZOFFSETFROM:+0100
TZOFFSETTO:+0200
TZNAME:CEST
DTSTART:20230326T010000
END:DAYLIGHT
BEGIN:STANDARD
TZOFFSETFROM:+0200
TZOFFSETTO:+0100
TZNAME:CET
DTSTART:20231029T010000
END:STANDARD
END:VTIMEZONE
BEGIN:VEVENT
DTSTART;VALUE=DATE:20220423
DTEND;VALUE=DATE:20220425
DTSTAMP:20260422T100924
CREATED:20220117T204622Z
LAST-MODIFIED:20220117T204622Z
UID:12492-1650672000-1650844799@terezjanki.org
SUMMARY:Uroczystości ku czi św. Wojciecha i dziękczynienie za beatyfikacje
DESCRIPTION:23-24 kwietnia odbędą się w Gnieźnie ogólnopolskie uroczystości odpustowe ku czci św. Wojciecha\, głównego Patrona Polski. Będzie to także okazja do ogólnopolskiego dziękczynienia za beatyfikację kard. Stefana Wyszyńskiego i Matki Elżbiety Czackiej. Podobny charakter będą miały uroczystości ku czci Matki Boskiej Królowej\, 3 maja na Jasnej Górze oraz 14. Dzień Dziękczynienia obchodzony w Świątyni Opatrzności Bożej w Warszawie.
URL:https://terezjanki.org/wydarzenie/uroczystosci-ku-czi-sw-wojciecha-i-dziekczynienie-za-beatyfikacje/
END:VEVENT
BEGIN:VEVENT
DTSTART;TZID=Europe/Warsaw:20220423T090000
DTEND;TZID=Europe/Warsaw:20220423T170000
DTSTAMP:20260422T100924
CREATED:20220404T092416Z
LAST-MODIFIED:20220408T091334Z
UID:13297-1650704400-1650733200@terezjanki.org
SUMMARY:Dzień Otwartej Furty w Ostródzie
DESCRIPTION:
URL:https://terezjanki.org/wydarzenie/dzien-skupienia-w-ostrodzie/
ATTACH;FMTTYPE=image/jpeg:https://terezjanki.org/wp-content/uploads/2022/04/DOF-Ostroda.jpg
END:VEVENT
END:VCALENDAR