BEGIN:VCALENDAR
VERSION:2.0
PRODID:-//Terezjanki - ECPv6.15.12.2//NONSGML v1.0//EN
CALSCALE:GREGORIAN
METHOD:PUBLISH
X-ORIGINAL-URL:https://terezjanki.org
X-WR-CALDESC:Wydarzenia dla Terezjanki
REFRESH-INTERVAL;VALUE=DURATION:PT1H
X-Robots-Tag:noindex
X-PUBLISHED-TTL:PT1H
BEGIN:VTIMEZONE
TZID:Europe/Warsaw
BEGIN:DAYLIGHT
TZOFFSETFROM:+0100
TZOFFSETTO:+0200
TZNAME:CEST
DTSTART:20210328T010000
END:DAYLIGHT
BEGIN:STANDARD
TZOFFSETFROM:+0200
TZOFFSETTO:+0100
TZNAME:CET
DTSTART:20211031T010000
END:STANDARD
BEGIN:DAYLIGHT
TZOFFSETFROM:+0100
TZOFFSETTO:+0200
TZNAME:CEST
DTSTART:20220327T010000
END:DAYLIGHT
BEGIN:STANDARD
TZOFFSETFROM:+0200
TZOFFSETTO:+0100
TZNAME:CET
DTSTART:20221030T010000
END:STANDARD
BEGIN:DAYLIGHT
TZOFFSETFROM:+0100
TZOFFSETTO:+0200
TZNAME:CEST
DTSTART:20230326T010000
END:DAYLIGHT
BEGIN:STANDARD
TZOFFSETFROM:+0200
TZOFFSETTO:+0100
TZNAME:CET
DTSTART:20231029T010000
END:STANDARD
END:VTIMEZONE
BEGIN:VEVENT
DTSTART;VALUE=DATE:20220227
DTEND;VALUE=DATE:20220306
DTSTAMP:20260422T115227
CREATED:20220117T203830Z
LAST-MODIFIED:20220117T203830Z
UID:12484-1645920000-1646524799@terezjanki.org
SUMMARY:Tydzień Modlitw o Trzeźwość Narodu
DESCRIPTION:Od 27 lutego do 5 marca obchodzony będzie 55. Tydzień Modlitw o Trzeźwość Narodu. W ubiegłym roku Zespół Konferencji Episkopatu Polski ds. Apostolstwa Trzeźwości i Osób Uzależnionych alarmował\, że “choroba alkoholizmu powoli\, ale systematycznie wyniszcza nasz narodowy organizm”. W 2020 r. Polacy wydali na alkohol prawie 40 mld zł.
URL:https://terezjanki.org/wydarzenie/tydzien-modlitw-o-trzezwosc-narodu/
END:VEVENT
BEGIN:VEVENT
DTSTART;VALUE=DATE:20220302
DTEND;VALUE=DATE:20220303
DTSTAMP:20260422T115227
CREATED:20220223T160411Z
LAST-MODIFIED:20220223T160459Z
UID:13009-1646179200-1646265599@terezjanki.org
SUMMARY:Środa Popielcowa - Dzień postu i modlitwy w intencji pokoju
DESCRIPTION:Ojciec Święty wyraził ogromne zaniepokojenie z powodu dramatycznej sytuacji na wschodzie Ukrainy. Podkreślił\, że pokój wszystkich jest zagrożony przez interesy partykularne. Środę Popielcową Franciszek ogłosił dniem postu w intencji pokoju. \nO dramacie Ukrainy Papież mówił podczas audiencji środowej i była to pierwsza oficjalna reakcja Franciszka\, odkąd w poniedziałek prezydent Rosji wydał dekret o uznaniu niepodległości separatystycznych\, samozwańczych „republik ludowych” na wschodzie Ukrainy. Wyznał\, że z wielkim bólem w sercu śledzi pogarszającą się sytuację. \n\n„Pomimo wysiłków dyplomatycznych minionych tygodni\, otwierają się coraz bardziej niepokojące scenariusze. Podobnie jak ja\, wielu ludzi na całym świecie odczuwa lęk i niepokój. Po raz kolejny pokój wszystkich ludzi zagrożony jest przez interesy partykularne – mówił Franciszek. – Chciałbym zaapelować do przywódców politycznych\, aby dokonali poważnego rachunku sumienia przed Bogiem\, który jest Bogiem pokoju\, a nie wojny; który jest Ojcem wszystkich\, a nie tylko niektórych; który chce\, abyśmy byli braćmi\, a nie wrogami. Błagam wszystkie zaangażowane strony\, by powstrzymały się od jakichkolwiek działań\, które spowodowałyby jeszcze większe cierpienie ludzi\, destabilizację współistnienia między narodami i dyskredytację prawa międzynarodowego.“ \n„Chciałbym zaapelować do wszystkich\, zarówno wierzących\, jak i niewierzących. Jezus nauczył nas\, że na diaboliczny bezsens przemocy odpowiada się orężem Boga: modlitwą i postem. Zachęcam wszystkich\, aby przypadająca 2 marca Środa Popielcowa\, była dniem postu w intencji pokoju. W szczególny sposób zachęcam wierzących\, aby w tym dniu intensywnie oddali się modlitwie i postowi. Niech Królowa Pokoju zachowa świat od szaleństwa wojny.“
URL:https://terezjanki.org/wydarzenie/sroda-popielcowa-dzien-postu-i-modlitwy-w-intencji-pokoju/
END:VEVENT
END:VCALENDAR