BEGIN:VCALENDAR
VERSION:2.0
PRODID:-//Terezjanki - ECPv6.15.12.2//NONSGML v1.0//EN
CALSCALE:GREGORIAN
METHOD:PUBLISH
X-ORIGINAL-URL:https://terezjanki.org
X-WR-CALDESC:Wydarzenia dla Terezjanki
REFRESH-INTERVAL;VALUE=DURATION:PT1H
X-Robots-Tag:noindex
X-PUBLISHED-TTL:PT1H
BEGIN:VTIMEZONE
TZID:Europe/Warsaw
BEGIN:DAYLIGHT
TZOFFSETFROM:+0100
TZOFFSETTO:+0200
TZNAME:CEST
DTSTART:20210328T010000
END:DAYLIGHT
BEGIN:STANDARD
TZOFFSETFROM:+0200
TZOFFSETTO:+0100
TZNAME:CET
DTSTART:20211031T010000
END:STANDARD
BEGIN:DAYLIGHT
TZOFFSETFROM:+0100
TZOFFSETTO:+0200
TZNAME:CEST
DTSTART:20220327T010000
END:DAYLIGHT
BEGIN:STANDARD
TZOFFSETFROM:+0200
TZOFFSETTO:+0100
TZNAME:CET
DTSTART:20221030T010000
END:STANDARD
BEGIN:DAYLIGHT
TZOFFSETFROM:+0100
TZOFFSETTO:+0200
TZNAME:CEST
DTSTART:20230326T010000
END:DAYLIGHT
BEGIN:STANDARD
TZOFFSETFROM:+0200
TZOFFSETTO:+0100
TZNAME:CET
DTSTART:20231029T010000
END:STANDARD
END:VTIMEZONE
BEGIN:VEVENT
DTSTART;TZID=Europe/Warsaw:20220212T090000
DTEND;TZID=Europe/Warsaw:20220212T170000
DTSTAMP:20260422T132941
CREATED:20220129T193551Z
LAST-MODIFIED:20220130T144445Z
UID:12593-1644656400-1644685200@terezjanki.org
SUMMARY:Dzień Otwartej Furty
DESCRIPTION:SERDECZNIE ZAPRASZAMY na dzień skupienia do Domu Generalnego w Podkowie Leśnej\nwszystkie młode osoby\, które chciałyby spotkać się Z SIOSTRAMI TEREZJANKAMI\,\npoznać charyzmat ich zgromadzenia oraz dowiedzieć się ciekawych rzeczy na temat małej drogi\,\nktórą kroczą razem ze św. Teresą od Dzieciątka Jezus.\nDzień Otwartej Furty zaplanowany został na dzień\n12 lutego 2022 roku w godz. 9 – 17.\nZainteresowane osoby prosimy o kontakt z s. Franciszką Cejrowską CST.
URL:https://terezjanki.org/wydarzenie/dzien-otwartej-furty/
ATTACH;FMTTYPE=image/jpeg:https://terezjanki.org/wp-content/uploads/2022/01/DOF-Podkowa-lesna.jpg
END:VEVENT
END:VCALENDAR