BEGIN:VCALENDAR
VERSION:2.0
PRODID:-//Terezjanki - ECPv6.15.12.2//NONSGML v1.0//EN
CALSCALE:GREGORIAN
METHOD:PUBLISH
X-ORIGINAL-URL:https://terezjanki.org
X-WR-CALDESC:Wydarzenia dla Terezjanki
REFRESH-INTERVAL;VALUE=DURATION:PT1H
X-Robots-Tag:noindex
X-PUBLISHED-TTL:PT1H
BEGIN:VTIMEZONE
TZID:Europe/Warsaw
BEGIN:DAYLIGHT
TZOFFSETFROM:+0100
TZOFFSETTO:+0200
TZNAME:CEST
DTSTART:20210328T010000
END:DAYLIGHT
BEGIN:STANDARD
TZOFFSETFROM:+0200
TZOFFSETTO:+0100
TZNAME:CET
DTSTART:20211031T010000
END:STANDARD
BEGIN:DAYLIGHT
TZOFFSETFROM:+0100
TZOFFSETTO:+0200
TZNAME:CEST
DTSTART:20220327T010000
END:DAYLIGHT
BEGIN:STANDARD
TZOFFSETFROM:+0200
TZOFFSETTO:+0100
TZNAME:CET
DTSTART:20221030T010000
END:STANDARD
BEGIN:DAYLIGHT
TZOFFSETFROM:+0100
TZOFFSETTO:+0200
TZNAME:CEST
DTSTART:20230326T010000
END:DAYLIGHT
BEGIN:STANDARD
TZOFFSETFROM:+0200
TZOFFSETTO:+0100
TZNAME:CET
DTSTART:20231029T010000
END:STANDARD
END:VTIMEZONE
BEGIN:VEVENT
DTSTART;VALUE=DATE:20220201
DTEND;VALUE=DATE:20220210
DTSTAMP:20260422T135910
CREATED:20220110T213332Z
LAST-MODIFIED:20220116T211131Z
UID:12321-1643673600-1644451199@terezjanki.org
SUMMARY:Nowenna do Założyciela o łaskę nowych powołań do Zgromadzenia
DESCRIPTION:9 lutego przypadać będzie 72. rocznica śmierci Sługi Bożego Adolfa Piotra Szelążka (1950)\, Założyciela Zgromadzenia. Co roku siostry Terezjanki pielgrzymują do grobu swego Założyciela aby modlić się o Jego beatyfikację oraz upraszać wszelkie potrzebne łaski przez Jego wstawiennictwo. Ważną intencją dla całego Zgromadzenia jest modlitwa o dar nowych powołań do Zgromadzenia\, aby droga dziecięctw duchowego\, była znana\, kochana i rozpowszechniana. Wypełniając niejako testament naszego Założyciela w dziewięciodniowej nowennie będziemy prosić o nowe powołania za Jego przyczyną. \nMODLITWA ZA WSTAWIENNICTWEM SŁUGI BOŻEGO \nBoże\, Ojcze Wszechmogący\, który obdarzyłeś sługę swego Biskupa Adolfa Piotra\npełnią Chrystusowego kapłaństwa\, mądrością w służbie Kościołowi\,\ndobrocią serca wobec ubogich i pokrzywdzonych oraz ukochaniem drogi duchowego dziecięctwa\,\nspraw\, abyśmy wsparci jego przykładem\nstale wzrastali w wierze oraz miłości Boga i bliźniego.\nPozwól nam cieszyć się jego chwałą w niebie i udziel łask\, o które Cię za jego przyczyną z pokorą i ufnością prosimy. Amen.
URL:https://terezjanki.org/wydarzenie/nowenna-do-zalozyciela-o-laske-nowych-powolan-do-zgromadzenia/
END:VEVENT
BEGIN:VEVENT
DTSTART;VALUE=DATE:20220202
DTEND;VALUE=DATE:20220203
DTSTAMP:20260422T135910
CREATED:20220131T143255Z
LAST-MODIFIED:20220131T204632Z
UID:12650-1643760000-1643846399@terezjanki.org
SUMMARY:Dzień Życia Konsekrowanego
DESCRIPTION:Światowy Dzień Życia Konsekrowanego – dzień ustanowiony przez papieża Jana Pawła II w 1997 roku przypadający corocznie 2 lutego\, w święto Ofiarowania Pańskiego\, stwarzający okazję do głębszej refleksji Kościoła powszechnego nad darem życia poświęconego Bogu. Główne uroczystości odbywają się w Watykanie. \nList Przewodniczącego Komisji ds. Instytutów Życia Konsekrowanego i Stowarzyszeń Życia Apostolskiego na Dzień Życia Konsekrowanego »
URL:https://terezjanki.org/wydarzenie/dzien-zycia-konsekrowanego/
ATTACH;FMTTYPE=image/jpeg:https://terezjanki.org/wp-content/uploads/2022/01/25.Dzien-Zycia-Konsekrowanego.jpg
END:VEVENT
END:VCALENDAR