BEGIN:VCALENDAR
VERSION:2.0
PRODID:-//Terezjanki - ECPv6.15.12.2//NONSGML v1.0//EN
CALSCALE:GREGORIAN
METHOD:PUBLISH
X-WR-CALNAME:Terezjanki
X-ORIGINAL-URL:https://terezjanki.org
X-WR-CALDESC:Wydarzenia dla Terezjanki
REFRESH-INTERVAL;VALUE=DURATION:PT1H
X-Robots-Tag:noindex
X-PUBLISHED-TTL:PT1H
BEGIN:VTIMEZONE
TZID:Europe/Warsaw
BEGIN:DAYLIGHT
TZOFFSETFROM:+0100
TZOFFSETTO:+0200
TZNAME:CEST
DTSTART:20210328T010000
END:DAYLIGHT
BEGIN:STANDARD
TZOFFSETFROM:+0200
TZOFFSETTO:+0100
TZNAME:CET
DTSTART:20211031T010000
END:STANDARD
BEGIN:DAYLIGHT
TZOFFSETFROM:+0100
TZOFFSETTO:+0200
TZNAME:CEST
DTSTART:20220327T010000
END:DAYLIGHT
BEGIN:STANDARD
TZOFFSETFROM:+0200
TZOFFSETTO:+0100
TZNAME:CET
DTSTART:20221030T010000
END:STANDARD
BEGIN:DAYLIGHT
TZOFFSETFROM:+0100
TZOFFSETTO:+0200
TZNAME:CEST
DTSTART:20230326T010000
END:DAYLIGHT
BEGIN:STANDARD
TZOFFSETFROM:+0200
TZOFFSETTO:+0100
TZNAME:CET
DTSTART:20231029T010000
END:STANDARD
END:VTIMEZONE
BEGIN:VEVENT
DTSTART;VALUE=DATE:20220129
DTEND;VALUE=DATE:20220130
DTSTAMP:20260422T170350
CREATED:20220110T210413Z
LAST-MODIFIED:20220111T215542Z
UID:12298-1643414400-1643500799@terezjanki.org
SUMMARY:55. rocznica śmierci m. Bernardy Nakonowskiej (1967)
DESCRIPTION:Matka Bernarda Genowefa Nakonowska (od Ran Pana Jezusa)\nur. 10.VIII.1899 r. we Włocławku\, zm. w Ścinawce Dolnej 29.I.1967 r. Do Zgromadzenia wstąpiła 20.VI.1933 r.; I profesję złożyła w dniu 5.I.1937 r. W Zgromadzeniu podejmowała obowiązki głównie przełożonej domowej.\nPodczas II i III Kapituły Generalnej została wybrana na Przełożoną generalną i pełniła swą posługę od 30.X.1947 r. do 30.XII.1959 r. \n  \nWażnym wydarzeniem w życiu Zgromadzenia była II Kapituła Generalna\, która odbyła się 30 grudnia 1947 r. w Ścinawce Dolnej. Na urząd przełożonej generalnej została wybrana m. Bernarda Nakonowska\, urodzona w 1899 roku we Włocławku\, która głębokim życiem wewnętrznym\, gorliwością o zbawienie dusz\, prostotą i dziecięcą szczerością wobec Boga\, była żywym przykładem terezjańskich cnót. Podczas sprawowania urzędu przełożonej generalnej zyskała ona szacunek\, zaufanie i miłość u sióstr. Do dziś w opinii Zgromadzenia\, m. Bernarda uważana jest za osobę charyzmatyczną\, wyróżniającą się osobistą świętością.
URL:https://terezjanki.org/wydarzenie/55-rocznica-smierci-m-bernardy-nakonowskiej-1967/
CATEGORIES:Spotkania
END:VEVENT
END:VCALENDAR